BEGIN:VCALENDAR
VERSION:2.0
PRODID:-//Iratxe García Pérez - ECPv6.15.20//NONSGML v1.0//EN
CALSCALE:GREGORIAN
METHOD:PUBLISH
X-ORIGINAL-URL:https://www.iratxegarcia.es
X-WR-CALDESC:Eventos para Iratxe García Pérez
REFRESH-INTERVAL;VALUE=DURATION:PT1H
X-Robots-Tag:noindex
X-PUBLISHED-TTL:PT1H
BEGIN:VTIMEZONE
TZID:Europe/Brussels
BEGIN:DAYLIGHT
TZOFFSETFROM:+0100
TZOFFSETTO:+0200
TZNAME:CEST
DTSTART:20230326T010000
END:DAYLIGHT
BEGIN:STANDARD
TZOFFSETFROM:+0200
TZOFFSETTO:+0100
TZNAME:CET
DTSTART:20231029T010000
END:STANDARD
BEGIN:DAYLIGHT
TZOFFSETFROM:+0100
TZOFFSETTO:+0200
TZNAME:CEST
DTSTART:20240331T010000
END:DAYLIGHT
BEGIN:STANDARD
TZOFFSETFROM:+0200
TZOFFSETTO:+0100
TZNAME:CET
DTSTART:20241027T010000
END:STANDARD
BEGIN:DAYLIGHT
TZOFFSETFROM:+0100
TZOFFSETTO:+0200
TZNAME:CEST
DTSTART:20250330T010000
END:DAYLIGHT
BEGIN:STANDARD
TZOFFSETFROM:+0200
TZOFFSETTO:+0100
TZNAME:CET
DTSTART:20251026T010000
END:STANDARD
END:VTIMEZONE
BEGIN:VEVENT
DTSTART;VALUE=DATE:20240301
DTEND;VALUE=DATE:20240303
DTSTAMP:20260424T120717
CREATED:20240224T104235Z
LAST-MODIFIED:20240224T104235Z
UID:41964-1709251200-1709423999@www.iratxegarcia.es
SUMMARY:PSE Congress\, in Roma (Italy)
DESCRIPTION:PSE Congress\, in Roma (Italy)
URL:https://www.iratxegarcia.es/evento/pse-congress-in-roma-italy/
LOCATION:Roma\, Roma\, Italia
END:VEVENT
BEGIN:VEVENT
DTSTART;TZID=Europe/Brussels:20240301T100000
DTEND;TZID=Europe/Brussels:20240301T110000
DTSTAMP:20260424T120717
CREATED:20240226T122008Z
LAST-MODIFIED:20240226T122008Z
UID:41969-1709287200-1709290800@www.iratxegarcia.es
SUMMARY:Encuentro con activistas PES
DESCRIPTION:Encuentro con activistas PES
URL:https://www.iratxegarcia.es/evento/encuentro-con-activistas-pes/
LOCATION:Roma\, Roma\, Italia
END:VEVENT
BEGIN:VEVENT
DTSTART;TZID=Europe/Brussels:20240301T110000
DTEND;TZID=Europe/Brussels:20240301T123000
DTSTAMP:20260424T120717
CREATED:20240226T122323Z
LAST-MODIFIED:20240226T122556Z
UID:41971-1709290800-1709296200@www.iratxegarcia.es
SUMMARY:S&D Group site visit Venue Zalib\, in the presence of Elly Schlein & Nicolas Schmit
DESCRIPTION:S&D Group site visit Venue Zalib\, in the presence of Elly Schlein & Nicolas Schmit
URL:https://www.iratxegarcia.es/evento/sd-group-site-visit-venue-zalib-in-the-presence-of-elly-schlein-nicolas-schmit/
LOCATION:Roma\, Roma\, Italia
END:VEVENT
BEGIN:VEVENT
DTSTART;TZID=Europe/Brussels:20240301T123000
DTEND;TZID=Europe/Brussels:20240301T133000
DTSTAMP:20260424T120717
CREATED:20240226T122422Z
LAST-MODIFIED:20240226T122617Z
UID:41973-1709296200-1709299800@www.iratxegarcia.es
SUMMARY:PES Presidency meeting
DESCRIPTION:PES Presidency meeting
URL:https://www.iratxegarcia.es/evento/pes-presidency-meeting-6/
LOCATION:Roma\, Roma\, Italia
END:VEVENT
BEGIN:VEVENT
DTSTART;TZID=Europe/Brussels:20240301T140000
DTEND;TZID=Europe/Brussels:20240301T143000
DTSTAMP:20260424T120717
CREATED:20240226T122530Z
LAST-MODIFIED:20240226T122530Z
UID:41975-1709301600-1709303400@www.iratxegarcia.es
SUMMARY:EP Youth Campaign with PES
DESCRIPTION:EP Youth Campaign with PES
URL:https://www.iratxegarcia.es/evento/ep-youth-campaign-with-pes/
LOCATION:Roma\, Roma\, Italia
END:VEVENT
BEGIN:VEVENT
DTSTART;TZID=Europe/Brussels:20240301T150000
DTEND;TZID=Europe/Brussels:20240301T160000
DTSTAMP:20260424T120717
CREATED:20240226T122723Z
LAST-MODIFIED:20240226T122723Z
UID:41977-1709305200-1709308800@www.iratxegarcia.es
SUMMARY:S&D Press briefing
DESCRIPTION:S&D Press briefing
URL:https://www.iratxegarcia.es/evento/sd-press-briefing/
LOCATION:Roma\, Roma\, Italia
END:VEVENT
BEGIN:VEVENT
DTSTART;TZID=Europe/Brussels:20240301T190000
DTEND;TZID=Europe/Brussels:20240301T200000
DTSTAMP:20260424T120717
CREATED:20240226T122814Z
LAST-MODIFIED:20240226T122814Z
UID:41979-1709319600-1709323200@www.iratxegarcia.es
SUMMARY:S&D networking event
DESCRIPTION:S&D networking event
URL:https://www.iratxegarcia.es/evento/sd-networking-event/
LOCATION:Roma\, Roma\, Italia
END:VEVENT
BEGIN:VEVENT
DTSTART;TZID=Europe/Brussels:20240301T203000
DTEND;TZID=Europe/Brussels:20240301T220000
DTSTAMP:20260424T120717
CREATED:20240226T123035Z
LAST-MODIFIED:20240226T123035Z
UID:41981-1709325000-1709330400@www.iratxegarcia.es
SUMMARY:PES leader´s meeting
DESCRIPTION:PES leader´s meeting
URL:https://www.iratxegarcia.es/evento/pes-leaders-meeting/
LOCATION:Roma\, Roma\, Italia
END:VEVENT
BEGIN:VEVENT
DTSTART;TZID=Europe/Brussels:20240302T093000
DTEND;TZID=Europe/Brussels:20240302T140000
DTSTAMP:20260424T120717
CREATED:20240226T123121Z
LAST-MODIFIED:20240226T123121Z
UID:41983-1709371800-1709388000@www.iratxegarcia.es
SUMMARY:PES Congress
DESCRIPTION:PES Congress
URL:https://www.iratxegarcia.es/evento/pes-congress/
LOCATION:Roma\, Roma\, Italia
END:VEVENT
BEGIN:VEVENT
DTSTART;TZID=Europe/Brussels:20240304T103000
DTEND;TZID=Europe/Brussels:20240304T130000
DTSTAMP:20260424T120717
CREATED:20240304T085042Z
LAST-MODIFIED:20240304T085042Z
UID:42005-1709548200-1709557200@www.iratxegarcia.es
SUMMARY:Jornada UGT Castilla y León sobre "El modelo de valores europeo en el contexto de los desafíos socio-laborales"\, en la Universidad de Valladolid
DESCRIPTION:Jornada UGT Castilla y León sobre «El modelo de valores europeo en el contexto de los desafíos socio-laborales»\, en la Universidad de Valladolid
URL:https://www.iratxegarcia.es/evento/jornada-ugt-castilla-y-leon-sobre-el-modelo-de-valores-europeo-en-el-contexto-de-los-desafios-socio-laborales-en-la-universidad-de-valladolid/
LOCATION:Universidad de Valladolid\, Plaza de Santa Cruz\, Valladolid\, Valladolid\, 47002\, España
ATTACH;FMTTYPE=image/jpeg:https://www.iratxegarcia.es/wp-content/uploads/2024/03/Jornadas-UGTCyL.jpg
END:VEVENT
BEGIN:VEVENT
DTSTART;TZID=Europe/Brussels:20240305T123000
DTEND;TZID=Europe/Brussels:20240305T140000
DTSTAMP:20260424T120717
CREATED:20240304T161830Z
LAST-MODIFIED:20240304T161830Z
UID:42026-1709641800-1709647200@www.iratxegarcia.es
SUMMARY:Reunión de la Delegación Socialista Española
DESCRIPTION:Reunión de la Delegación Socialista Española
URL:https://www.iratxegarcia.es/evento/reunion-de-la-delegacion-socialista-espanola-13/
LOCATION:Sede del Parlamento Europeo\, Place du Luxembourg 100\, 1050\, Bruxelles\, Bélgica\, Bélgica
END:VEVENT
BEGIN:VEVENT
DTSTART;TZID=Europe/Brussels:20240305T150000
DTEND;TZID=Europe/Brussels:20240305T153000
DTSTAMP:20260424T120717
CREATED:20240304T162036Z
LAST-MODIFIED:20240304T162036Z
UID:42028-1709650800-1709652600@www.iratxegarcia.es
SUMMARY:Meeting with Chris Fearne\, Malta’s nominee for European Commissioner
DESCRIPTION:Meeting with Chris Fearne\, Malta’s nominee for European Commissioner
URL:https://www.iratxegarcia.es/evento/meeting-with-chris-fearne-maltas-nominee-for-european-commissioner/
LOCATION:Sede del Parlamento Europeo\, Place du Luxembourg 100\, 1050\, Bruxelles\, Bélgica\, Bélgica
END:VEVENT
BEGIN:VEVENT
DTSTART;TZID=Europe/Brussels:20240305T163000
DTEND;TZID=Europe/Brussels:20240305T170000
DTSTAMP:20260424T120717
CREATED:20240304T162146Z
LAST-MODIFIED:20240304T162146Z
UID:42030-1709656200-1709658000@www.iratxegarcia.es
SUMMARY:Encuentro informal con becarios españoles Schuman del Parlamento Europeo
DESCRIPTION:Encuentro informal con becarios españoles Schuman del Parlamento Europeo
URL:https://www.iratxegarcia.es/evento/encuentro-informal-con-becarios-espanoles-schuman-del-parlamento-europeo/
LOCATION:Sede del Parlamento Europeo\, Place du Luxembourg 100\, 1050\, Bruxelles\, Bélgica\, Bélgica
END:VEVENT
BEGIN:VEVENT
DTSTART;TZID=Europe/Brussels:20240305T180000
DTEND;TZID=Europe/Brussels:20240305T193000
DTSTAMP:20260424T120717
CREATED:20240304T162300Z
LAST-MODIFIED:20240304T162300Z
UID:42032-1709661600-1709667000@www.iratxegarcia.es
SUMMARY:Hybrid Group meeting
DESCRIPTION:Hybrid Group meeting
URL:https://www.iratxegarcia.es/evento/hybrid-group-meeting-43/
LOCATION:Sede del Parlamento Europeo\, Place du Luxembourg 100\, 1050\, Bruxelles\, Bélgica\, Bélgica
END:VEVENT
BEGIN:VEVENT
DTSTART;TZID=Europe/Brussels:20240306T090000
DTEND;TZID=Europe/Brussels:20240306T123000
DTSTAMP:20260424T120717
CREATED:20240304T161506Z
LAST-MODIFIED:20240304T161506Z
UID:42021-1709715600-1709728200@www.iratxegarcia.es
SUMMARY:Group meeting
DESCRIPTION:Group meeting
URL:https://www.iratxegarcia.es/evento/group-meeting-29/
LOCATION:Sede del Parlamento Europeo\, Place du Luxembourg 100\, 1050\, Bruxelles\, Bélgica\, Bélgica
END:VEVENT
BEGIN:VEVENT
DTSTART;TZID=Europe/Brussels:20240306T123000
DTEND;TZID=Europe/Brussels:20240306T143000
DTSTAMP:20260424T120717
CREATED:20240304T161411Z
LAST-MODIFIED:20240304T161411Z
UID:42019-1709728200-1709735400@www.iratxegarcia.es
SUMMARY:S&D Bureau
DESCRIPTION:S&D Bureau
URL:https://www.iratxegarcia.es/evento/sd-bureau-31/
LOCATION:Sede del Parlamento Europeo\, Place du Luxembourg 100\, 1050\, Bruxelles\, Bélgica\, Bélgica
END:VEVENT
BEGIN:VEVENT
DTSTART;TZID=Europe/Brussels:20240306T160000
DTEND;TZID=Europe/Brussels:20240306T180000
DTSTAMP:20260424T120717
CREATED:20240304T161316Z
LAST-MODIFIED:20240304T161316Z
UID:42017-1709740800-1709748000@www.iratxegarcia.es
SUMMARY:CoP Meeting
DESCRIPTION:CoP Meeting
URL:https://www.iratxegarcia.es/evento/cop-meeting-64/
LOCATION:Sede del Parlamento Europeo\, Place du Luxembourg 100\, 1050\, Bruxelles\, Bélgica\, Bélgica
END:VEVENT
BEGIN:VEVENT
DTSTART;TZID=Europe/Brussels:20240306T180000
DTEND;TZID=Europe/Brussels:20240306T193000
DTSTAMP:20260424T120717
CREATED:20240304T161219Z
LAST-MODIFIED:20240304T161219Z
UID:42015-1709748000-1709753400@www.iratxegarcia.es
SUMMARY:Présidence
DESCRIPTION:Présidence
URL:https://www.iratxegarcia.es/evento/presidence/
LOCATION:Sede del Parlamento Europeo\, Place du Luxembourg 100\, 1050\, Bruxelles\, Bélgica\, Bélgica
END:VEVENT
BEGIN:VEVENT
DTSTART;TZID=Europe/Brussels:20240306T193000
DTEND;TZID=Europe/Brussels:20240306T203000
DTSTAMP:20260424T120717
CREATED:20240304T161132Z
LAST-MODIFIED:20240304T161132Z
UID:42013-1709753400-1709757000@www.iratxegarcia.es
SUMMARY:Evento 8M del PSOE en Bruselas
DESCRIPTION:Evento 8M del PSOE en Bruselas
URL:https://www.iratxegarcia.es/evento/evento-8m-del-psoe-en-bruselas/
LOCATION:Sede del Parlamento Europeo\, Place du Luxembourg 100\, 1050\, Bruxelles\, Bélgica\, Bélgica
END:VEVENT
BEGIN:VEVENT
DTSTART;TZID=Europe/Brussels:20240307T083000
DTEND;TZID=Europe/Brussels:20240307T093000
DTSTAMP:20260424T120717
CREATED:20240308T151352Z
LAST-MODIFIED:20240308T151352Z
UID:42042-1709800200-1709803800@www.iratxegarcia.es
SUMMARY:S&D Press Breakfast
DESCRIPTION:S&D Press Breakfast
URL:https://www.iratxegarcia.es/evento/sd-press-breakfast-2/
LOCATION:Sede del Parlamento Europeo\, Place du Luxembourg 100\, 1050\, Bruxelles\, Bélgica\, Bélgica
END:VEVENT
BEGIN:VEVENT
DTSTART;TZID=Europe/Brussels:20240308T123000
DTEND;TZID=Europe/Brussels:20240308T133000
DTSTAMP:20260424T120717
CREATED:20240308T151556Z
LAST-MODIFIED:20240308T151556Z
UID:42044-1709901000-1709904600@www.iratxegarcia.es
SUMMARY:Visita instalaciones del CIFE (Centro de Iniciativas para la Formación y el Empleo) en Fuenlabrada
DESCRIPTION:Visita instalaciones del CIFE (Centro de Iniciativas para la Formación y el Empleo) en Fuenlabrada
URL:https://www.iratxegarcia.es/evento/visita-instalaciones-del-cife-centro-de-iniciativas-para-la-formacion-y-el-empleo-en-fuenlabrada/
LOCATION:Fuenlabrada
END:VEVENT
BEGIN:VEVENT
DTSTART;TZID=Europe/Brussels:20240308T140000
DTEND;TZID=Europe/Brussels:20240308T150000
DTSTAMP:20260424T120717
CREATED:20240308T151856Z
LAST-MODIFIED:20240308T151856Z
UID:42046-1709906400-1709910000@www.iratxegarcia.es
SUMMARY:Encuentro con el Ministro para la Transformación Digital y Función Pública\, José Luis Escrivá
DESCRIPTION:Encuentro con el Ministro para la Transformación Digital y Función Pública\, José Luis Escrivá
URL:https://www.iratxegarcia.es/evento/encuentro-con-el-ministro-para-la-transformacion-digital-y-funcion-publica-jose-luis-escriva/
LOCATION:Madrid
END:VEVENT
BEGIN:VEVENT
DTSTART;TZID=Europe/Brussels:20240308T163000
DTEND;TZID=Europe/Brussels:20240308T170000
DTSTAMP:20260424T120717
CREATED:20240308T152152Z
LAST-MODIFIED:20240308T152152Z
UID:42048-1709915400-1709917200@www.iratxegarcia.es
SUMMARY:Encuentro con la Ministra de Inclusión\, Seguridad Social y Migraciones\, Elma Sáiz
DESCRIPTION:Encuentro con la Ministra de Inclusión\, Seguridad Social y Migraciones\, Elma Sáiz
URL:https://www.iratxegarcia.es/evento/encuentro-con-la-ministra-de-inclusion-seguridad-social-y-migraciones-elma-saiz/
LOCATION:Madrid
END:VEVENT
BEGIN:VEVENT
DTSTART;TZID=Europe/Brussels:20240308T173000
DTEND;TZID=Europe/Brussels:20240308T180000
DTSTAMP:20260424T120717
CREATED:20240308T152319Z
LAST-MODIFIED:20240308T152319Z
UID:42050-1709919000-1709920800@www.iratxegarcia.es
SUMMARY:Encuentro con la Ministra de Igualdad\, Ana Redondo
DESCRIPTION:Encuentro con la Ministra de Igualdad\, Ana Redondo
URL:https://www.iratxegarcia.es/evento/encuentro-con-la-ministra-de-igualdad-ana-redondo/
LOCATION:Madrid
END:VEVENT
BEGIN:VEVENT
DTSTART;TZID=Europe/Brussels:20240308T190000
DTEND;TZID=Europe/Brussels:20240308T210000
DTSTAMP:20260424T120717
CREATED:20240304T161648Z
LAST-MODIFIED:20240304T161648Z
UID:42023-1709924400-1709931600@www.iratxegarcia.es
SUMMARY:Manifestación 8M en Madrid
DESCRIPTION:Manifestación 8M en Madrid
URL:https://www.iratxegarcia.es/evento/manifestacion-8m-en-madrid/
LOCATION:Sede del Parlamento Europeo\, Place du Luxembourg 100\, 1050\, Bruxelles\, Bélgica\, Bélgica
END:VEVENT
BEGIN:VEVENT
DTSTART;VALUE=DATE:20240311
DTEND;VALUE=DATE:20240315
DTSTAMP:20260424T120717
CREATED:20240308T152849Z
LAST-MODIFIED:20240308T152849Z
UID:42055-1710115200-1710460799@www.iratxegarcia.es
SUMMARY:Sesión plenaria en Estrasburgo
DESCRIPTION:Sesión plenaria en Estrasburgo
URL:https://www.iratxegarcia.es/evento/sesion-plenaria-en-estrasburgo-19/
LOCATION:Sede Parlamento Europeo en Estrasburgo\, Estrasburgo
END:VEVENT
BEGIN:VEVENT
DTSTART;TZID=Europe/Brussels:20240311T093000
DTEND;TZID=Europe/Brussels:20240311T120000
DTSTAMP:20260424T120717
CREATED:20240308T153403Z
LAST-MODIFIED:20240308T153403Z
UID:42057-1710149400-1710158400@www.iratxegarcia.es
SUMMARY:Reunión de la Comisión Ejecutiva Federal del PSOE
DESCRIPTION:La Eurodiputada socialista Iratxe García participa\, como Secretaria Federal para la Unión Europea\, en la reunión de la Comisión Ejecutiva Federal del PSOE\, en la sede de la Calle Ferraz (Madrid).
URL:https://www.iratxegarcia.es/evento/reunion-de-la-comision-ejecutiva-federal-del-psoe-149/
LOCATION:Sede PSOE\, Calle Ferraz 70\, Madrid\, España\, España
END:VEVENT
BEGIN:VEVENT
DTSTART;TZID=Europe/Brussels:20240311T153000
DTEND;TZID=Europe/Brussels:20240311T160000
DTSTAMP:20260424T120717
CREATED:20240224T102408Z
LAST-MODIFIED:20240308T153522Z
UID:41946-1710171000-1710172800@www.iratxegarcia.es
SUMMARY:S&D EP Bureau
DESCRIPTION:S&D EP Bureau
URL:https://www.iratxegarcia.es/evento/sd-ep-bureau-12/
LOCATION:Sede Parlamento Europeo en Estrasburgo\, Estrasburgo
END:VEVENT
BEGIN:VEVENT
DTSTART;TZID=Europe/Brussels:20240311T160000
DTEND;TZID=Europe/Brussels:20240311T170000
DTSTAMP:20260424T120717
CREATED:20240224T102533Z
LAST-MODIFIED:20240308T153547Z
UID:41948-1710172800-1710176400@www.iratxegarcia.es
SUMMARY:S&D Hybrid Group meeting
DESCRIPTION:S&D Hybrid Group meeting
URL:https://www.iratxegarcia.es/evento/sd-hybrid-group-meeting-34/
LOCATION:Sede Parlamento Europeo en Estrasburgo\, Estrasburgo
END:VEVENT
BEGIN:VEVENT
DTSTART;TZID=Europe/Brussels:20240312T090000
DTEND;TZID=Europe/Brussels:20240312T103000
DTSTAMP:20260424T120717
CREATED:20240308T153851Z
LAST-MODIFIED:20240308T153851Z
UID:42059-1710234000-1710239400@www.iratxegarcia.es
SUMMARY:PLENO - KEY DEBATE  Council and Commission statements - Preparation of the European Council meeting
DESCRIPTION:PLENO – KEY DEBATE Council and Commission statements – Preparation of the European Council meeting
URL:https://www.iratxegarcia.es/evento/pleno-key-debate-council-and-commission-statements-preparation-of-the-european-council-meeting/
LOCATION:Sede Parlamento Europeo en Estrasburgo\, Estrasburgo
END:VEVENT
END:VCALENDAR