BEGIN:VCALENDAR
VERSION:2.0
PRODID:-//Iratxe García Pérez - ECPv6.15.20//NONSGML v1.0//EN
CALSCALE:GREGORIAN
METHOD:PUBLISH
X-ORIGINAL-URL:https://www.iratxegarcia.es
X-WR-CALDESC:Eventos para Iratxe García Pérez
REFRESH-INTERVAL;VALUE=DURATION:PT1H
X-Robots-Tag:noindex
X-PUBLISHED-TTL:PT1H
BEGIN:VTIMEZONE
TZID:Europe/Brussels
BEGIN:DAYLIGHT
TZOFFSETFROM:+0100
TZOFFSETTO:+0200
TZNAME:CEST
DTSTART:20220327T010000
END:DAYLIGHT
BEGIN:STANDARD
TZOFFSETFROM:+0200
TZOFFSETTO:+0100
TZNAME:CET
DTSTART:20221030T010000
END:STANDARD
BEGIN:DAYLIGHT
TZOFFSETFROM:+0100
TZOFFSETTO:+0200
TZNAME:CEST
DTSTART:20230326T010000
END:DAYLIGHT
BEGIN:STANDARD
TZOFFSETFROM:+0200
TZOFFSETTO:+0100
TZNAME:CET
DTSTART:20231029T010000
END:STANDARD
BEGIN:DAYLIGHT
TZOFFSETFROM:+0100
TZOFFSETTO:+0200
TZNAME:CEST
DTSTART:20240331T010000
END:DAYLIGHT
BEGIN:STANDARD
TZOFFSETFROM:+0200
TZOFFSETTO:+0100
TZNAME:CET
DTSTART:20241027T010000
END:STANDARD
END:VTIMEZONE
BEGIN:VEVENT
DTSTART;TZID=Europe/Brussels:20231106T183000
DTEND;TZID=Europe/Brussels:20231106T193000
DTSTAMP:20260419T193549
CREATED:20231031T115734Z
LAST-MODIFIED:20231031T115734Z
UID:41225-1699295400-1699299000@www.iratxegarcia.es
SUMMARY:S&D EP Bureau
DESCRIPTION:S&D EP Bureau
URL:https://www.iratxegarcia.es/evento/sd-ep-bureau-10/
LOCATION:Sede del Parlamento Europeo\, Place du Luxembourg 100\, 1050\, Bruxelles\, Bélgica\, Bélgica
END:VEVENT
BEGIN:VEVENT
DTSTART;TZID=Europe/Brussels:20231107T080000
DTEND;TZID=Europe/Brussels:20231107T090000
DTSTAMP:20260419T193549
CREATED:20231031T122008Z
LAST-MODIFIED:20231107T124413Z
UID:41250-1699344000-1699347600@www.iratxegarcia.es
SUMMARY:S&D EVENT ON THE FUTURE OF COHESION POLICY
DESCRIPTION:S&D EVENT ON THE FUTURE OF COHESION POLICY
URL:https://www.iratxegarcia.es/evento/sd-event-on-the-future-of-cohesion-policy/
LOCATION:Sede del Parlamento Europeo\, Place du Luxembourg 100\, 1050\, Bruxelles\, Bélgica\, Bélgica
ATTACH;FMTTYPE=image/jpeg:https://www.iratxegarcia.es/wp-content/uploads/2023/10/2023-11-07-Future-of-cohesion-policy.jpg
END:VEVENT
BEGIN:VEVENT
DTSTART;TZID=Europe/Brussels:20231107T163000
DTEND;TZID=Europe/Brussels:20231107T170000
DTSTAMP:20260419T193549
CREATED:20231108T223117Z
LAST-MODIFIED:20231108T223117Z
UID:41280-1699374600-1699376400@www.iratxegarcia.es
SUMMARY:Meeting with Sandor Ronai
DESCRIPTION:Meeting with Sandor Ronai
URL:https://www.iratxegarcia.es/evento/meeting-with-sandor-ronai/
LOCATION:Sede del Parlamento Europeo\, Place du Luxembourg 100\, 1050\, Bruxelles\, Bélgica\, Bélgica
ATTACH;FMTTYPE=image/jpeg:https://www.iratxegarcia.es/wp-content/uploads/2023/11/Sandor-Ronai.jpg
END:VEVENT
BEGIN:VEVENT
DTSTART;TZID=Europe/Brussels:20231107T173000
DTEND;TZID=Europe/Brussels:20231107T183000
DTSTAMP:20260419T193549
CREATED:20231031T122456Z
LAST-MODIFIED:20231031T122456Z
UID:41258-1699378200-1699381800@www.iratxegarcia.es
SUMMARY:Meeting with Juan Francisco Gomez Cambronero
DESCRIPTION:Meeting with Juan Francisco Gomez Cambronero
URL:https://www.iratxegarcia.es/evento/meeting-with-juan-francisco-gomez-cambronero/
LOCATION:Sede del Parlamento Europeo\, Place du Luxembourg 100\, 1050\, Bruxelles\, Bélgica\, Bélgica
ATTACH;FMTTYPE=image/jpeg:https://www.iratxegarcia.es/wp-content/uploads/2023/10/Juan-Francisco-Gomez-Cambronero.jpg
END:VEVENT
BEGIN:VEVENT
DTSTART;VALUE=DATE:20231108
DTEND;VALUE=DATE:20231110
DTSTAMP:20260419T193549
CREATED:20231031T122635Z
LAST-MODIFIED:20231031T122635Z
UID:41261-1699401600-1699574399@www.iratxegarcia.es
SUMMARY:Reunión plenaria del Parlamento Europeo
DESCRIPTION:Reunión plenaria del Parlamento Europeo
URL:https://www.iratxegarcia.es/evento/reunion-plenaria-del-parlamento-europeo-2/
LOCATION:Sede del Parlamento Europeo\, Place du Luxembourg 100\, 1050\, Bruxelles\, Bélgica\, Bélgica
END:VEVENT
BEGIN:VEVENT
DTSTART;TZID=Europe/Brussels:20231108T090000
DTEND;TZID=Europe/Brussels:20231108T103000
DTSTAMP:20260419T193549
CREATED:20231031T122748Z
LAST-MODIFIED:20231031T122748Z
UID:41263-1699434000-1699439400@www.iratxegarcia.es
SUMMARY:BUREAU & HoD MEETING
DESCRIPTION:BUREAU & HoD MEETING
URL:https://www.iratxegarcia.es/evento/bureau-hod-meeting-15/
LOCATION:Sede del Parlamento Europeo\, Place du Luxembourg 100\, 1050\, Bruxelles\, Bélgica\, Bélgica
END:VEVENT
BEGIN:VEVENT
DTSTART;TZID=Europe/Brussels:20231108T103000
DTEND;TZID=Europe/Brussels:20231108T130000
DTSTAMP:20260419T193549
CREATED:20231031T122838Z
LAST-MODIFIED:20231031T122838Z
UID:41265-1699439400-1699448400@www.iratxegarcia.es
SUMMARY:S&D Hybrid Group meeting
DESCRIPTION:S&D Hybrid Group meeting
URL:https://www.iratxegarcia.es/evento/sd-hybrid-group-meeting-25/
LOCATION:Sede del Parlamento Europeo\, Place du Luxembourg 100\, 1050\, Bruxelles\, Bélgica\, Bélgica
END:VEVENT
BEGIN:VEVENT
DTSTART;TZID=Europe/Brussels:20231108T150000
DTEND;TZID=Europe/Brussels:20231108T170000
DTSTAMP:20260419T193549
CREATED:20231031T122919Z
LAST-MODIFIED:20231031T122919Z
UID:41267-1699455600-1699462800@www.iratxegarcia.es
SUMMARY:PLENARY SESSION: European Council and Commission statements - Conclusions of the European Council meeting of 26-27 October 2023
DESCRIPTION:PLENARY SESSION: European Council and Commission statements – Conclusions of the European Council meeting of 26-27 October 2023
URL:https://www.iratxegarcia.es/evento/plenary-session-european-council-and-commission-statements-conclusions-of-the-european-council-meeting-of-26-27-october-2023/
LOCATION:Sede del Parlamento Europeo\, Place du Luxembourg 100\, 1050\, Bruxelles\, Bélgica\, Bélgica
END:VEVENT
BEGIN:VEVENT
DTSTART;TZID=Europe/Brussels:20231109T100000
DTEND;TZID=Europe/Brussels:20231109T103000
DTSTAMP:20260419T193549
CREATED:20231031T123321Z
LAST-MODIFIED:20231031T123321Z
UID:41273-1699524000-1699525800@www.iratxegarcia.es
SUMMARY:Meeting with Lucie Studnicná
DESCRIPTION:Meeting with Lucie Studnicná
URL:https://www.iratxegarcia.es/evento/meeting-with-lucie-studnicna/
LOCATION:Sede del Parlamento Europeo\, Place du Luxembourg 100\, 1050\, Bruxelles\, Bélgica\, Bélgica
END:VEVENT
BEGIN:VEVENT
DTSTART;TZID=Europe/Brussels:20231109T110000
DTEND;TZID=Europe/Brussels:20231109T130000
DTSTAMP:20260419T193549
CREATED:20231031T123020Z
LAST-MODIFIED:20231031T123020Z
UID:41269-1699527600-1699534800@www.iratxegarcia.es
SUMMARY:PLENARY SESSION: Votes
DESCRIPTION:PLENARY SESSION: Votes
URL:https://www.iratxegarcia.es/evento/plenary-session-votes/
LOCATION:Sede del Parlamento Europeo\, Place du Luxembourg 100\, 1050\, Bruxelles\, Bélgica\, Bélgica
END:VEVENT
BEGIN:VEVENT
DTSTART;TZID=Europe/Brussels:20231109T203000
DTEND;TZID=Europe/Brussels:20231109T213000
DTSTAMP:20260419T193549
CREATED:20231031T123157Z
LAST-MODIFIED:20231108T223555Z
UID:41271-1699561800-1699565400@www.iratxegarcia.es
SUMMARY:Fringe interactive conference S&D “Decent and affordable housing for youth"
DESCRIPTION:Fringe interactive conference S&D “Decent and affordable housing for youth»
URL:https://www.iratxegarcia.es/evento/fringe-interactive-conference-sd-decent-and-affordable-housing-for-youth/
LOCATION:Málaga
END:VEVENT
BEGIN:VEVENT
DTSTART;VALUE=DATE:20231110
DTEND;VALUE=DATE:20231112
DTSTAMP:20260419T193549
CREATED:20231031T120054Z
LAST-MODIFIED:20231031T120054Z
UID:41227-1699574400-1699747199@www.iratxegarcia.es
SUMMARY:PES Congress 2023: Party of European Socialists to meet in Málaga\, Spain
DESCRIPTION:PES Congress 2023: Party of European Socialists to meet in Málaga\, Spain
URL:https://www.iratxegarcia.es/evento/pes-congress-2023-party-of-european-socialists-to-meet-in-malaga-spain/
LOCATION:Málaga
END:VEVENT
BEGIN:VEVENT
DTSTART;TZID=Europe/Brussels:20231110T080000
DTEND;TZID=Europe/Brussels:20231110T093000
DTSTAMP:20260419T193549
CREATED:20231031T120422Z
LAST-MODIFIED:20231031T120422Z
UID:41230-1699603200-1699608600@www.iratxegarcia.es
SUMMARY:PES Congress 2023: FEPS Breakfast talk on a Political Europe
DESCRIPTION:PES Congress 2023: FEPS Breakfast talk on a Political Europe
URL:https://www.iratxegarcia.es/evento/pes-congress-2023-feps-breakfast-talk-on-a-political-europe/
LOCATION:Málaga
END:VEVENT
BEGIN:VEVENT
DTSTART;TZID=Europe/Brussels:20231110T090000
DTEND;TZID=Europe/Brussels:20231110T100000
DTSTAMP:20260419T193549
CREATED:20231031T120808Z
LAST-MODIFIED:20231031T120808Z
UID:41234-1699606800-1699610400@www.iratxegarcia.es
SUMMARY:PES Congress 2023: PES CoR together with FEPS on Social Agenda
DESCRIPTION:PES Congress 2023: PES CoR together with FEPS on Social Agenda
URL:https://www.iratxegarcia.es/evento/pes-congress-2023-pes-cor-together-with-feps-on-social-agenda/
LOCATION:Málaga
END:VEVENT
BEGIN:VEVENT
DTSTART;TZID=Europe/Brussels:20231110T093000
DTEND;TZID=Europe/Brussels:20231110T113000
DTSTAMP:20260419T193549
CREATED:20231031T120550Z
LAST-MODIFIED:20231031T120550Z
UID:41232-1699608600-1699615800@www.iratxegarcia.es
SUMMARY:PES Congress 2023: S&D Group\, COR\, FEPS fringe meetings (FYCMA)
DESCRIPTION:PES Congress 2023: S&D Group\, COR\, FEPS fringe meetings (FYCMA)
URL:https://www.iratxegarcia.es/evento/pes-congress-2023-sd-group-cor-feps-fringe-meetings-fycma/
LOCATION:Málaga
END:VEVENT
BEGIN:VEVENT
DTSTART;TZID=Europe/Brussels:20231110T143000
DTEND;TZID=Europe/Brussels:20231110T150000
DTSTAMP:20260419T193549
CREATED:20231031T121016Z
LAST-MODIFIED:20231031T121016Z
UID:41236-1699626600-1699628400@www.iratxegarcia.es
SUMMARY:PES Congress 2023: PES Congress Opening (FYCMA plenary)
DESCRIPTION:PES Congress 2023: PES Congress Opening (FYCMA plenary)
URL:https://www.iratxegarcia.es/evento/pes-congress-2023-pes-congress-opening-fycma-plenary/
LOCATION:Málaga
END:VEVENT
BEGIN:VEVENT
DTSTART;TZID=Europe/Brussels:20231110T150000
DTEND;TZID=Europe/Brussels:20231110T160000
DTSTAMP:20260419T193549
CREATED:20231031T121205Z
LAST-MODIFIED:20231031T121205Z
UID:41238-1699628400-1699632000@www.iratxegarcia.es
SUMMARY:PES Congress 2023: Congress Election Procedures
DESCRIPTION:PES Congress 2023: Congress Election Procedures
URL:https://www.iratxegarcia.es/evento/pes-congress-2023-congress-election-procedures/
LOCATION:Málaga
END:VEVENT
BEGIN:VEVENT
DTSTART;TZID=Europe/Brussels:20231110T160000
DTEND;TZID=Europe/Brussels:20231110T200000
DTSTAMP:20260419T193549
CREATED:20231031T121311Z
LAST-MODIFIED:20231031T121311Z
UID:41240-1699632000-1699646400@www.iratxegarcia.es
SUMMARY:PES Congress 2023: Panels
DESCRIPTION:PES Congress 2023: Panels
URL:https://www.iratxegarcia.es/evento/pes-congress-2023-panels/
LOCATION:Málaga
END:VEVENT
BEGIN:VEVENT
DTSTART;TZID=Europe/Brussels:20231111T083000
DTEND;TZID=Europe/Brussels:20231111T093000
DTSTAMP:20260419T193549
CREATED:20231031T121456Z
LAST-MODIFIED:20231031T121456Z
UID:41242-1699691400-1699695000@www.iratxegarcia.es
SUMMARY:PES Congress 2023: Prime Ministers/Progressive Governance
DESCRIPTION:PES Congress 2023: Prime Ministers/Progressive Governance
URL:https://www.iratxegarcia.es/evento/pes-congress-2023-prime-ministers-progressive-governance/
LOCATION:Málaga
END:VEVENT
BEGIN:VEVENT
DTSTART;TZID=Europe/Brussels:20231111T090000
DTEND;TZID=Europe/Brussels:20231111T100000
DTSTAMP:20260419T193549
CREATED:20231031T121603Z
LAST-MODIFIED:20231031T121603Z
UID:41244-1699693200-1699696800@www.iratxegarcia.es
SUMMARY:PES Congress 2023: S&D Bureau on Gender Based Violence Directive
DESCRIPTION:PES Congress 2023: S&D Bureau on Gender Based Violence Directive
URL:https://www.iratxegarcia.es/evento/pes-congress-2023-sd-bureau-on-gender-based-violence-directive/
LOCATION:Málaga
END:VEVENT
BEGIN:VEVENT
DTSTART;TZID=Europe/Brussels:20231111T100000
DTEND;TZID=Europe/Brussels:20231111T103000
DTSTAMP:20260419T193549
CREATED:20231031T121707Z
LAST-MODIFIED:20231031T121707Z
UID:41246-1699696800-1699698600@www.iratxegarcia.es
SUMMARY:PES Congress 2023: PES Congress Plenary (FYCMA)
DESCRIPTION:PES Congress 2023: PES Congress Plenary (FYCMA)
URL:https://www.iratxegarcia.es/evento/pes-congress-2023-pes-congress-plenary-fycma/
LOCATION:Málaga
END:VEVENT
BEGIN:VEVENT
DTSTART;TZID=Europe/Brussels:20231111T103000
DTEND;TZID=Europe/Brussels:20231111T113000
DTSTAMP:20260419T193549
CREATED:20231031T121818Z
LAST-MODIFIED:20231031T121818Z
UID:41248-1699698600-1699702200@www.iratxegarcia.es
SUMMARY:PES Congress 2023: Panel IV: PMs Main speech of the President
DESCRIPTION:PES Congress 2023: Panel IV: PMs Main speech of the President
URL:https://www.iratxegarcia.es/evento/pes-congress-2023-panel-iv-pms-main-speech-of-the-president/
LOCATION:Málaga
END:VEVENT
BEGIN:VEVENT
DTSTART;TZID=Europe/Brussels:20231113T103000
DTEND;TZID=Europe/Brussels:20231113T123000
DTSTAMP:20260419T193549
CREATED:20231113T110933Z
LAST-MODIFIED:20231113T110933Z
UID:41327-1699871400-1699878600@www.iratxegarcia.es
SUMMARY:Reunión de la Comisión Ejecutiva Federal del PSOE
DESCRIPTION:La Eurodiputada socialista Iratxe García participa\, como Secretaria Federal para la Unión Europea\, en la reunión de la Comisión Ejecutiva Federal del PSOE\, en la sede de la Calle Ferraz (Madrid).
URL:https://www.iratxegarcia.es/evento/reunion-de-la-comision-ejecutiva-federal-del-psoe-146/
LOCATION:Sede PSOE\, Calle Ferraz 70\, Madrid\, España\, España
END:VEVENT
BEGIN:VEVENT
DTSTART;TZID=Europe/Brussels:20231114T093000
DTEND;TZID=Europe/Brussels:20231114T103000
DTSTAMP:20260419T193549
CREATED:20231113T111118Z
LAST-MODIFIED:20231113T111118Z
UID:41329-1699954200-1699957800@www.iratxegarcia.es
SUMMARY:Meeting with a core group of Arab Ambassadors
DESCRIPTION:Meeting with a core group of Arab Ambassadors
URL:https://www.iratxegarcia.es/evento/meeting-with-a-core-group-of-arab-ambassadors/
LOCATION:Sede del Parlamento Europeo\, Place du Luxembourg 100\, 1050\, Bruxelles\, Bélgica\, Bélgica
END:VEVENT
BEGIN:VEVENT
DTSTART;TZID=Europe/Brussels:20231114T123000
DTEND;TZID=Europe/Brussels:20231114T133000
DTSTAMP:20260419T193549
CREATED:20231113T111222Z
LAST-MODIFIED:20231113T111222Z
UID:41331-1699965000-1699968600@www.iratxegarcia.es
SUMMARY:Reunión de la Delegación Socialista Española
DESCRIPTION:Reunión de la Delegación Socialista Española
URL:https://www.iratxegarcia.es/evento/reunion-de-la-delegacion-socialista-espanola-11/
LOCATION:Sede del Parlamento Europeo\, Place du Luxembourg 100\, 1050\, Bruxelles\, Bélgica\, Bélgica
END:VEVENT
BEGIN:VEVENT
DTSTART;TZID=Europe/Brussels:20231114T180000
DTEND;TZID=Europe/Brussels:20231114T193000
DTSTAMP:20260419T193549
CREATED:20231113T111328Z
LAST-MODIFIED:20231113T111328Z
UID:41333-1699984800-1699990200@www.iratxegarcia.es
SUMMARY:Group meeting
DESCRIPTION:Group meeting
URL:https://www.iratxegarcia.es/evento/group-meeting-23/
LOCATION:Sede del Parlamento Europeo\, Place du Luxembourg 100\, 1050\, Bruxelles\, Bélgica\, Bélgica
END:VEVENT
BEGIN:VEVENT
DTSTART;TZID=Europe/Brussels:20231115T083000
DTEND;TZID=Europe/Brussels:20231115T090000
DTSTAMP:20260419T193549
CREATED:20231113T111606Z
LAST-MODIFIED:20231113T111606Z
UID:41335-1700037000-1700038800@www.iratxegarcia.es
SUMMARY:Meeting with Fernando Clavijo\, Presidente Canarias
DESCRIPTION:Meeting with Fernando Clavijo\, Presidente Canarias
URL:https://www.iratxegarcia.es/evento/meeting-with-fernando-clavijo-presidente-canarias/
LOCATION:Sede del Parlamento Europeo\, Place du Luxembourg 100\, 1050\, Bruxelles\, Bélgica\, Bélgica
ATTACH;FMTTYPE=image/webp:https://www.iratxegarcia.es/wp-content/uploads/2023/11/Clavijo.webp
END:VEVENT
BEGIN:VEVENT
DTSTART;TZID=Europe/Brussels:20231115T090000
DTEND;TZID=Europe/Brussels:20231115T130000
DTSTAMP:20260419T193549
CREATED:20231113T112304Z
LAST-MODIFIED:20231113T112304Z
UID:41345-1700038800-1700053200@www.iratxegarcia.es
SUMMARY:S&D Hybrid Group meeting
DESCRIPTION:S&D Hybrid Group meeting
URL:https://www.iratxegarcia.es/evento/sd-hybrid-group-meeting-26/
LOCATION:Sede del Parlamento Europeo\, Place du Luxembourg 100\, 1050\, Bruxelles\, Bélgica\, Bélgica
END:VEVENT
BEGIN:VEVENT
DTSTART;TZID=Europe/Brussels:20231115T110000
DTEND;TZID=Europe/Brussels:20231115T113000
DTSTAMP:20260419T193549
CREATED:20231113T112456Z
LAST-MODIFIED:20231113T112456Z
UID:41347-1700046000-1700047800@www.iratxegarcia.es
SUMMARY:Meeting with Ximo Puig
DESCRIPTION:Meeting with Ximo Puig
URL:https://www.iratxegarcia.es/evento/meeting-with-ximo-puig/
LOCATION:Sede del Parlamento Europeo\, Place du Luxembourg 100\, 1050\, Bruxelles\, Bélgica\, Bélgica
ATTACH;FMTTYPE=image/jpeg:https://www.iratxegarcia.es/wp-content/uploads/2023/11/Ximo-Puig.jpg
END:VEVENT
BEGIN:VEVENT
DTSTART;TZID=Europe/Brussels:20231115T123000
DTEND;TZID=Europe/Brussels:20231115T130000
DTSTAMP:20260419T193549
CREATED:20231113T112729Z
LAST-MODIFIED:20231113T112729Z
UID:41350-1700051400-1700053200@www.iratxegarcia.es
SUMMARY:Meeting with Ambassador of Senegal to the EU
DESCRIPTION:Meeting with Ambassador of Senegal to th
URL:https://www.iratxegarcia.es/evento/meeting-with-ambassador-of-senegal-to-the-eu/
LOCATION:Sede del Parlamento Europeo\, Place du Luxembourg 100\, 1050\, Bruxelles\, Bélgica\, Bélgica
END:VEVENT
END:VCALENDAR