BEGIN:VCALENDAR
VERSION:2.0
PRODID:-//Iratxe García Pérez - ECPv6.15.20//NONSGML v1.0//EN
CALSCALE:GREGORIAN
METHOD:PUBLISH
X-WR-CALNAME:Iratxe García Pérez
X-ORIGINAL-URL:https://www.iratxegarcia.es
X-WR-CALDESC:Eventos para Iratxe García Pérez
REFRESH-INTERVAL;VALUE=DURATION:PT1H
X-Robots-Tag:noindex
X-PUBLISHED-TTL:PT1H
BEGIN:VTIMEZONE
TZID:Europe/Brussels
BEGIN:DAYLIGHT
TZOFFSETFROM:+0100
TZOFFSETTO:+0200
TZNAME:CEST
DTSTART:20220327T010000
END:DAYLIGHT
BEGIN:STANDARD
TZOFFSETFROM:+0200
TZOFFSETTO:+0100
TZNAME:CET
DTSTART:20221030T010000
END:STANDARD
BEGIN:DAYLIGHT
TZOFFSETFROM:+0100
TZOFFSETTO:+0200
TZNAME:CEST
DTSTART:20230326T010000
END:DAYLIGHT
BEGIN:STANDARD
TZOFFSETFROM:+0200
TZOFFSETTO:+0100
TZNAME:CET
DTSTART:20231029T010000
END:STANDARD
BEGIN:DAYLIGHT
TZOFFSETFROM:+0100
TZOFFSETTO:+0200
TZNAME:CEST
DTSTART:20240331T010000
END:DAYLIGHT
BEGIN:STANDARD
TZOFFSETFROM:+0200
TZOFFSETTO:+0100
TZNAME:CET
DTSTART:20241027T010000
END:STANDARD
END:VTIMEZONE
BEGIN:VEVENT
DTSTART;TZID=Europe/Brussels:20230905T090000
DTEND;TZID=Europe/Brussels:20230905T100000
DTSTAMP:20260425T142303
CREATED:20230907T075907Z
LAST-MODIFIED:20230907T075956Z
UID:40942-1693904400-1693908000@www.iratxegarcia.es
SUMMARY:S&D Press breakfast
DESCRIPTION:S&D Press breakfast
URL:https://www.iratxegarcia.es/evento/sd-press-breakfast/
LOCATION:Sede del Parlamento Europeo\, Place du Luxembourg 100\, 1050\, Bruxelles\, Bélgica\, Bélgica
END:VEVENT
BEGIN:VEVENT
DTSTART;TZID=Europe/Brussels:20230905T110000
DTEND;TZID=Europe/Brussels:20230905T113000
DTSTAMP:20260425T142303
CREATED:20230831T103648Z
LAST-MODIFIED:20230907T075448Z
UID:40914-1693911600-1693913400@www.iratxegarcia.es
SUMMARY:Seminario Salvador Allende
DESCRIPTION:Seminario Salvador Allende
URL:https://www.iratxegarcia.es/evento/seminario-salvador-allende/
LOCATION:Sede del Parlamento Europeo\, Place du Luxembourg 100\, 1050\, Bruxelles\, Bélgica\, Bélgica
END:VEVENT
BEGIN:VEVENT
DTSTART;TZID=Europe/Brussels:20230905T123000
DTEND;TZID=Europe/Brussels:20230905T160000
DTSTAMP:20260425T142303
CREATED:20230831T103552Z
LAST-MODIFIED:20230831T103552Z
UID:40912-1693917000-1693929600@www.iratxegarcia.es
SUMMARY:Reunión de la Delegación Socialista Española
DESCRIPTION:Reunión de la Delegación Socialista Española
URL:https://www.iratxegarcia.es/evento/reunion-de-la-delegacion-socialista-espanola-10/
LOCATION:Sede del Parlamento Europeo\, Place du Luxembourg 100\, 1050\, Bruxelles\, Bélgica\, Bélgica
END:VEVENT
BEGIN:VEVENT
DTSTART;TZID=Europe/Brussels:20230905T143000
DTEND;TZID=Europe/Brussels:20230905T150000
DTSTAMP:20260425T142303
CREATED:20230907T080245Z
LAST-MODIFIED:20230907T080245Z
UID:40944-1693924200-1693926000@www.iratxegarcia.es
SUMMARY:Meeting with Markus Winkler
DESCRIPTION:Meeting with Markus Winkler
URL:https://www.iratxegarcia.es/evento/meeting-with-markus-winkler-2/
LOCATION:Sede del Parlamento Europeo\, Place du Luxembourg 100\, 1050\, Bruxelles\, Bélgica\, Bélgica
ATTACH;FMTTYPE=image/jpeg:https://www.iratxegarcia.es/wp-content/uploads/2023/09/Markus-Winkler.jpg
END:VEVENT
BEGIN:VEVENT
DTSTART;TZID=Europe/Brussels:20230905T170000
DTEND;TZID=Europe/Brussels:20230905T180000
DTSTAMP:20260425T142303
CREATED:20230831T103744Z
LAST-MODIFIED:20230831T103744Z
UID:40916-1693933200-1693936800@www.iratxegarcia.es
SUMMARY:Bureau & HoD meeting
DESCRIPTION:Bureau & HoD meeting
URL:https://www.iratxegarcia.es/evento/bureau-hod-meeting-12/
LOCATION:Sede del Parlamento Europeo\, Place du Luxembourg 100\, 1050\, Bruxelles\, Bélgica\, Bélgica
END:VEVENT
BEGIN:VEVENT
DTSTART;TZID=Europe/Brussels:20230906T090000
DTEND;TZID=Europe/Brussels:20230906T130000
DTSTAMP:20260425T142303
CREATED:20230831T103920Z
LAST-MODIFIED:20230831T103920Z
UID:40920-1693990800-1694005200@www.iratxegarcia.es
SUMMARY:S&D Hybrid Group meeting
DESCRIPTION:S&D Hybrid Group meeting
URL:https://www.iratxegarcia.es/evento/sd-hybrid-group-meeting-15/
LOCATION:Sede del Parlamento Europeo\, Place du Luxembourg 100\, 1050\, Bruxelles\, Bélgica\, Bélgica
END:VEVENT
BEGIN:VEVENT
DTSTART;TZID=Europe/Brussels:20230906T130000
DTEND;TZID=Europe/Brussels:20230906T140000
DTSTAMP:20260425T142303
CREATED:20230831T104309Z
LAST-MODIFIED:20230907T080500Z
UID:40922-1694005200-1694008800@www.iratxegarcia.es
SUMMARY:Meeting with Nadia Calviño\, in Brussels
DESCRIPTION:Meeting with Nadia Calviño\, in Brussels
URL:https://www.iratxegarcia.es/evento/meeting-with-nadia-calvino-y-teresa-ribera-in-brussels/
LOCATION:Sede del Parlamento Europeo\, Place du Luxembourg 100\, 1050\, Bruxelles\, Bélgica\, Bélgica
ATTACH;FMTTYPE=image/jpeg:https://www.iratxegarcia.es/wp-content/uploads/2023/08/nadia-calvino.jpg
END:VEVENT
BEGIN:VEVENT
DTSTART;TZID=Europe/Brussels:20230906T140000
DTEND;TZID=Europe/Brussels:20230906T143000
DTSTAMP:20260425T142303
CREATED:20230831T104546Z
LAST-MODIFIED:20230831T104546Z
UID:40929-1694008800-1694010600@www.iratxegarcia.es
SUMMARY:Social Europe Conference - Introduction speech by Iratxe
DESCRIPTION:Social Europe Conference – Introduction speech by Iratxe
URL:https://www.iratxegarcia.es/evento/social-europe-conference-introduction-speech-by-iratxe/
LOCATION:Sede del Parlamento Europeo\, Place du Luxembourg 100\, 1050\, Bruxelles\, Bélgica\, Bélgica
END:VEVENT
BEGIN:VEVENT
DTSTART;TZID=Europe/Brussels:20230906T150000
DTEND;TZID=Europe/Brussels:20230906T160000
DTSTAMP:20260425T142303
CREATED:20230831T104427Z
LAST-MODIFIED:20230831T104427Z
UID:40925-1694012400-1694016000@www.iratxegarcia.es
SUMMARY:Meeting leaders with President Metsola
DESCRIPTION:Meeting leaders with President Metsola
URL:https://www.iratxegarcia.es/evento/meeting-leaders-with-president-metsola-2/
LOCATION:Sede del Parlamento Europeo\, Place du Luxembourg 100\, 1050\, Bruxelles\, Bélgica\, Bélgica
END:VEVENT
BEGIN:VEVENT
DTSTART;TZID=Europe/Brussels:20230906T160000
DTEND;TZID=Europe/Brussels:20230906T180000
DTSTAMP:20260425T142303
CREATED:20230831T104503Z
LAST-MODIFIED:20230831T104503Z
UID:40927-1694016000-1694023200@www.iratxegarcia.es
SUMMARY:CoP meeting
DESCRIPTION:CoP meeting
URL:https://www.iratxegarcia.es/evento/cop-meeting-52/
LOCATION:Sede del Parlamento Europeo\, Place du Luxembourg 100\, 1050\, Bruxelles\, Bélgica\, Bélgica
END:VEVENT
BEGIN:VEVENT
DTSTART;TZID=Europe/Brussels:20230906T180000
DTEND;TZID=Europe/Brussels:20230906T183000
DTSTAMP:20260425T142303
CREATED:20230831T104925Z
LAST-MODIFIED:20230831T104925Z
UID:40931-1694023200-1694025000@www.iratxegarcia.es
SUMMARY:Meeting Iratxe with Ukranian Trade Unions
DESCRIPTION:Meeting Iratxe with Ukranian Trade Unions
URL:https://www.iratxegarcia.es/evento/meeting-iratxe-with-ukranian-trade-unions/
LOCATION:Sede del Parlamento Europeo\, Place du Luxembourg 100\, 1050\, Bruxelles\, Bélgica\, Bélgica
END:VEVENT
BEGIN:VEVENT
DTSTART;TZID=Europe/Brussels:20230907T090000
DTEND;TZID=Europe/Brussels:20230907T100000
DTSTAMP:20260425T142303
CREATED:20230907T075553Z
LAST-MODIFIED:20230907T075553Z
UID:40938-1694077200-1694080800@www.iratxegarcia.es
SUMMARY:S&D Bureau meeting
DESCRIPTION:S&D Bureau meeting
URL:https://www.iratxegarcia.es/evento/sd-bureau-meeting-4/
LOCATION:Sede del Parlamento Europeo\, Place du Luxembourg 100\, 1050\, Bruxelles\, Bélgica\, Bélgica
END:VEVENT
BEGIN:VEVENT
DTSTART;TZID=Europe/Brussels:20230907T103000
DTEND;TZID=Europe/Brussels:20230907T113000
DTSTAMP:20260425T142303
CREATED:20230907T075633Z
LAST-MODIFIED:20230907T075633Z
UID:40940-1694082600-1694086200@www.iratxegarcia.es
SUMMARY:Bilateral meeting
DESCRIPTION:Bilateral meeting
URL:https://www.iratxegarcia.es/evento/bilateral-meeting/
LOCATION:Sede del Parlamento Europeo\, Place du Luxembourg 100\, 1050\, Bruxelles\, Bélgica\, Bélgica
END:VEVENT
BEGIN:VEVENT
DTSTART;VALUE=DATE:20230911
DTEND;VALUE=DATE:20230915
DTSTAMP:20260425T142303
CREATED:20230911T102146Z
LAST-MODIFIED:20230911T102146Z
UID:40953-1694390400-1694735999@www.iratxegarcia.es
SUMMARY:Sesión plenaria en Estrasburgo
DESCRIPTION:Sesión plenaria en Estrasburgo
URL:https://www.iratxegarcia.es/evento/sesion-plenaria-en-estrasburgo-12/
LOCATION:Sede Parlamento Europeo en Estrasburgo\, Estrasburgo
END:VEVENT
BEGIN:VEVENT
DTSTART;TZID=Europe/Brussels:20230911T100000
DTEND;TZID=Europe/Brussels:20230911T120000
DTSTAMP:20260425T142303
CREATED:20230911T102104Z
LAST-MODIFIED:20230911T102104Z
UID:40951-1694426400-1694433600@www.iratxegarcia.es
SUMMARY:Reunión de la Comisión Ejecutiva Federal del PSOE
DESCRIPTION:La Eurodiputada socialista Iratxe García participa\, como Secretaria Federal para la Unión Europea\, en la reunión de la Comisión Ejecutiva Federal del PSOE\, en la sede de la Calle Ferraz (Madrid).
URL:https://www.iratxegarcia.es/evento/reunion-de-la-comision-ejecutiva-federal-del-psoe-145/
LOCATION:Sede PSOE\, Calle Ferraz 70\, Madrid\, España\, España
END:VEVENT
BEGIN:VEVENT
DTSTART;TZID=Europe/Brussels:20230911T160000
DTEND;TZID=Europe/Brussels:20230911T170000
DTSTAMP:20260425T142303
CREATED:20230911T102743Z
LAST-MODIFIED:20230911T102743Z
UID:40959-1694448000-1694451600@www.iratxegarcia.es
SUMMARY:S&D Hybrid Group meeting
DESCRIPTION:S&D Hybrid Group meeting
URL:https://www.iratxegarcia.es/evento/sd-hybrid-group-meeting-14/
LOCATION:Sede Parlamento Europeo en Estrasburgo\, Estrasburgo
END:VEVENT
BEGIN:VEVENT
DTSTART;TZID=Europe/Brussels:20230911T170000
DTEND;TZID=Europe/Brussels:20230911T173000
DTSTAMP:20260425T142303
CREATED:20230911T102504Z
LAST-MODIFIED:20230911T102504Z
UID:40955-1694451600-1694453400@www.iratxegarcia.es
SUMMARY:Opening of the Plenary Session
DESCRIPTION:Opening of the Plenary Session
URL:https://www.iratxegarcia.es/evento/opening-of-the-plenary-session-4/
LOCATION:Sede Parlamento Europeo en Estrasburgo\, Estrasburgo
END:VEVENT
BEGIN:VEVENT
DTSTART;TZID=Europe/Brussels:20230911T173000
DTEND;TZID=Europe/Brussels:20230911T180000
DTSTAMP:20260425T142303
CREATED:20230911T102658Z
LAST-MODIFIED:20230911T102658Z
UID:40957-1694453400-1694455200@www.iratxegarcia.es
SUMMARY:S&D EP Bureau
DESCRIPTION:S&D EP Bureau
URL:https://www.iratxegarcia.es/evento/sd-ep-bureau-9/
LOCATION:Sede Parlamento Europeo en Estrasburgo\, Estrasburgo
END:VEVENT
BEGIN:VEVENT
DTSTART;TZID=Europe/Brussels:20230912T083000
DTEND;TZID=Europe/Brussels:20230912T093000
DTSTAMP:20260425T142303
CREATED:20230911T105857Z
LAST-MODIFIED:20230911T105857Z
UID:40974-1694507400-1694511000@www.iratxegarcia.es
SUMMARY:Meeting with M. Stéphane Séjourné\, President of Renew Europe Group in the European Parliament
DESCRIPTION:Meeting with M. Stéphane Séjourné\, President of Renew Europe Group in the European Parliament
URL:https://www.iratxegarcia.es/evento/meeting-with-m-stephane-sejourne-president-of-renew-europe-group-in-the-european-parliament/
LOCATION:Sede Parlamento Europeo en Estrasburgo\, Estrasburgo
ATTACH;FMTTYPE=image/jpeg:https://www.iratxegarcia.es/wp-content/uploads/2023/09/Stephane-Sejourne.jpg
END:VEVENT
BEGIN:VEVENT
DTSTART;TZID=Europe/Brussels:20230912T100000
DTEND;TZID=Europe/Brussels:20230912T103000
DTSTAMP:20260425T142303
CREATED:20230911T105450Z
LAST-MODIFIED:20230911T105450Z
UID:40972-1694512800-1694514600@www.iratxegarcia.es
SUMMARY:Press conference
DESCRIPTION:Press conference
URL:https://www.iratxegarcia.es/evento/press-conference-25/
LOCATION:Sede Parlamento Europeo en Estrasburgo\, Estrasburgo
END:VEVENT
BEGIN:VEVENT
DTSTART;TZID=Europe/Brussels:20230912T113000
DTEND;TZID=Europe/Brussels:20230912T120000
DTSTAMP:20260425T142303
CREATED:20230911T110541Z
LAST-MODIFIED:20230911T110541Z
UID:40985-1694518200-1694520000@www.iratxegarcia.es
SUMMARY:Meeting with Manfred Weber
DESCRIPTION:Meeting with Manfred Weber
URL:https://www.iratxegarcia.es/evento/meeting-with-manfred-weber-9/
LOCATION:Sede Parlamento Europeo en Estrasburgo\, Estrasburgo
ATTACH;FMTTYPE=image/png:https://www.iratxegarcia.es/wp-content/uploads/2021/11/manfred-weber.png
END:VEVENT
BEGIN:VEVENT
DTSTART;TZID=Europe/Brussels:20230912T120000
DTEND;TZID=Europe/Brussels:20230912T130000
DTSTAMP:20260425T142303
CREATED:20230911T102853Z
LAST-MODIFIED:20230911T102853Z
UID:40961-1694520000-1694523600@www.iratxegarcia.es
SUMMARY:Pleno – Voting session\, in Strasbourg
DESCRIPTION:Pleno – Voting session\, in Strasbourg
URL:https://www.iratxegarcia.es/evento/pleno-voting-session-in-strasbourg-18/
LOCATION:Sede Parlamento Europeo en Estrasburgo\, Estrasburgo
END:VEVENT
BEGIN:VEVENT
DTSTART;TZID=Europe/Brussels:20230912T130000
DTEND;TZID=Europe/Brussels:20230912T143000
DTSTAMP:20260425T142303
CREATED:20230911T105250Z
LAST-MODIFIED:20230911T105348Z
UID:40969-1694523600-1694529000@www.iratxegarcia.es
SUMMARY:Reunión de la Delegación Socialista Española en el Parlamento Europeo
DESCRIPTION:Reunión de la Delegación Socialista Española en el Parlamento Europeo
URL:https://www.iratxegarcia.es/evento/reunion-de-la-delegacion-socialista-espanola-en-el-parlamento-europeo-6/
LOCATION:Sede Parlamento Europeo en Estrasburgo\, Estrasburgo
END:VEVENT
BEGIN:VEVENT
DTSTART;TZID=Europe/Brussels:20230912T143000
DTEND;TZID=Europe/Brussels:20230912T153000
DTSTAMP:20260425T142303
CREATED:20230911T110310Z
LAST-MODIFIED:20230911T110310Z
UID:40983-1694529000-1694532600@www.iratxegarcia.es
SUMMARY:Interview Infolibre
DESCRIPTION:Interview Infolibre
URL:https://www.iratxegarcia.es/evento/interview-infolibre/
LOCATION:Sede Parlamento Europeo en Estrasburgo\, Estrasburgo
END:VEVENT
BEGIN:VEVENT
DTSTART;TZID=Europe/Brussels:20230912T153000
DTEND;TZID=Europe/Brussels:20230912T160000
DTSTAMP:20260425T142303
CREATED:20230911T110828Z
LAST-MODIFIED:20230911T111452Z
UID:40987-1694532600-1694534400@www.iratxegarcia.es
SUMMARY:Meeting with Ylva Johansson
DESCRIPTION:Meeting with Ylva Johansson
URL:https://www.iratxegarcia.es/evento/meeting-with-ylva-johansson/
LOCATION:Sede Parlamento Europeo en Estrasburgo\, Estrasburgo
ATTACH;FMTTYPE=image/jpeg:https://www.iratxegarcia.es/wp-content/uploads/2023/09/ylva-johansson.jpg
END:VEVENT
BEGIN:VEVENT
DTSTART;TZID=Europe/Brussels:20230912T160000
DTEND;TZID=Europe/Brussels:20230912T170000
DTSTAMP:20260425T142303
CREATED:20230911T110116Z
LAST-MODIFIED:20230911T110116Z
UID:40979-1694534400-1694538000@www.iratxegarcia.es
SUMMARY:Meeting with Spanish journalists in the European Parliament
DESCRIPTION:Meeting with Spanish journalists in the European Parliament
URL:https://www.iratxegarcia.es/evento/meeting-with-spanish-journalists-in-the-european-parliament/
LOCATION:Sede Parlamento Europeo en Estrasburgo\, Estrasburgo
END:VEVENT
BEGIN:VEVENT
DTSTART;TZID=Europe/Brussels:20230912T170000
DTEND;TZID=Europe/Brussels:20230912T180000
DTSTAMP:20260425T142303
CREATED:20230911T110228Z
LAST-MODIFIED:20230911T110228Z
UID:40981-1694538000-1694541600@www.iratxegarcia.es
SUMMARY:S&D Bureau Meeting
DESCRIPTION:S&D Bureau Meeting
URL:https://www.iratxegarcia.es/evento/sd-bureau-meeting-5/
LOCATION:Sede Parlamento Europeo en Estrasburgo\, Estrasburgo
END:VEVENT
BEGIN:VEVENT
DTSTART;TZID=Europe/Brussels:20230912T183000
DTEND;TZID=Europe/Brussels:20230912T210000
DTSTAMP:20260425T142303
CREATED:20230911T105948Z
LAST-MODIFIED:20230911T105948Z
UID:40977-1694543400-1694552400@www.iratxegarcia.es
SUMMARY:S&D Hybrid Group Meeting
DESCRIPTION:S&D Hybrid Group Meeting
URL:https://www.iratxegarcia.es/evento/sd-hybrid-group-meeting-16/
LOCATION:Sede Parlamento Europeo en Estrasburgo\, Estrasburgo
END:VEVENT
BEGIN:VEVENT
DTSTART;TZID=Europe/Brussels:20230913T090000
DTEND;TZID=Europe/Brussels:20230913T123000
DTSTAMP:20260425T142303
CREATED:20230911T110943Z
LAST-MODIFIED:20230911T110943Z
UID:40989-1694595600-1694608200@www.iratxegarcia.es
SUMMARY:PLENO – KEY DEBATE: Statement by the President of the  Commission - State of the Union
DESCRIPTION:PLENO – KEY DEBATE: Statement by the President of the Commission – State of the Union
URL:https://www.iratxegarcia.es/evento/pleno-key-debate-statement-by-the-president-of-the-commission-state-of-the-union/
LOCATION:Sede Parlamento Europeo en Estrasburgo\, Estrasburgo
END:VEVENT
BEGIN:VEVENT
DTSTART;TZID=Europe/Brussels:20230913T120000
DTEND;TZID=Europe/Brussels:20230913T123000
DTSTAMP:20260425T142303
CREATED:20230911T111029Z
LAST-MODIFIED:20230911T111029Z
UID:40991-1694606400-1694608200@www.iratxegarcia.es
SUMMARY:Interview with TVE
DESCRIPTION:Interview with TVE
URL:https://www.iratxegarcia.es/evento/interview-with-tve/
LOCATION:Sede Parlamento Europeo en Estrasburgo\, Estrasburgo
END:VEVENT
END:VCALENDAR