BEGIN:VCALENDAR
VERSION:2.0
PRODID:-//Iratxe García Pérez - ECPv6.15.20//NONSGML v1.0//EN
CALSCALE:GREGORIAN
METHOD:PUBLISH
X-ORIGINAL-URL:https://www.iratxegarcia.es
X-WR-CALDESC:Eventos para Iratxe García Pérez
REFRESH-INTERVAL;VALUE=DURATION:PT1H
X-Robots-Tag:noindex
X-PUBLISHED-TTL:PT1H
BEGIN:VTIMEZONE
TZID:Europe/Brussels
BEGIN:DAYLIGHT
TZOFFSETFROM:+0100
TZOFFSETTO:+0200
TZNAME:CEST
DTSTART:20220327T010000
END:DAYLIGHT
BEGIN:STANDARD
TZOFFSETFROM:+0200
TZOFFSETTO:+0100
TZNAME:CET
DTSTART:20221030T010000
END:STANDARD
BEGIN:DAYLIGHT
TZOFFSETFROM:+0100
TZOFFSETTO:+0200
TZNAME:CEST
DTSTART:20230326T010000
END:DAYLIGHT
BEGIN:STANDARD
TZOFFSETFROM:+0200
TZOFFSETTO:+0100
TZNAME:CET
DTSTART:20231029T010000
END:STANDARD
BEGIN:DAYLIGHT
TZOFFSETFROM:+0100
TZOFFSETTO:+0200
TZNAME:CEST
DTSTART:20240331T010000
END:DAYLIGHT
BEGIN:STANDARD
TZOFFSETFROM:+0200
TZOFFSETTO:+0100
TZNAME:CET
DTSTART:20241027T010000
END:STANDARD
END:VTIMEZONE
BEGIN:VEVENT
DTSTART;VALUE=DATE:20230223
DTEND;VALUE=DATE:20230303
DTSTAMP:20260424T120757
CREATED:20230221T210754Z
LAST-MODIFIED:20230226T223414Z
UID:40191-1677110400-1677801599@www.iratxegarcia.es
SUMMARY:Mission to the USA
DESCRIPTION:Mission to the USA
URL:https://www.iratxegarcia.es/evento/visita-a-eeuu/
LOCATION:Bélgica
END:VEVENT
BEGIN:VEVENT
DTSTART;TZID=Europe/Brussels:20230301T100000
DTEND;TZID=Europe/Brussels:20230301T103000
DTSTAMP:20260424T120757
CREATED:20230226T223901Z
LAST-MODIFIED:20230226T224251Z
UID:40222-1677664800-1677666600@www.iratxegarcia.es
SUMMARY:Meeting with the President of the AFL-CIO\, Liz Shuler
DESCRIPTION:Meeting with the President of the AFL-CIO\, Liz Shuler
URL:https://www.iratxegarcia.es/evento/meeting-with-the-president-of-the-afl-cio-liz-shuler/
LOCATION:Washington
END:VEVENT
BEGIN:VEVENT
DTSTART;TZID=Europe/Brussels:20230301T123000
DTEND;TZID=Europe/Brussels:20230301T133000
DTSTAMP:20260424T120757
CREATED:20230226T224559Z
LAST-MODIFIED:20230226T224559Z
UID:40226-1677673800-1677677400@www.iratxegarcia.es
SUMMARY:Meeting with President of NDI\, Derek Mitchell
DESCRIPTION:Meeting with President of NDI\, Derek Mitchell
URL:https://www.iratxegarcia.es/evento/meeting-with-president-of-ndi-derek-mitchell/
LOCATION:Washington
END:VEVENT
BEGIN:VEVENT
DTSTART;TZID=Europe/Brussels:20230304T110000
DTEND;TZID=Europe/Brussels:20230304T133000
DTSTAMP:20260424T120757
CREATED:20230301T135037Z
LAST-MODIFIED:20230301T135037Z
UID:40250-1677927600-1677936600@www.iratxegarcia.es
SUMMARY:Acto PSOE por el 8M con el Presidente del Gobierno\, Pedro Sánchez\, en Madrid
DESCRIPTION:Acto PSOE por el 8M con el Presidente del Gobierno\, Pedro Sánchez\, en Madrid
URL:https://www.iratxegarcia.es/evento/acto-psoe-por-el-8m-con-el-presidente-del-gobierno-pedro-sanchez-en-madrid/
LOCATION:Casa de Campor (Madrid)
ATTACH;FMTTYPE=image/jpeg:https://www.iratxegarcia.es/wp-content/uploads/2023/03/2023-03-04-Acto-PSOE-8M.jpg
END:VEVENT
BEGIN:VEVENT
DTSTART;TZID=Europe/Brussels:20230305T110000
DTEND;TZID=Europe/Brussels:20230305T143000
DTSTAMP:20260424T120757
CREATED:20230313T173006Z
LAST-MODIFIED:20230313T173006Z
UID:40374-1678014000-1678026600@www.iratxegarcia.es
SUMMARY:Acto Público PSOE sobre Fondos Europeos\, en Ponferrada (León)
DESCRIPTION:Acto Público PSOE sobre Fondos Europeos\, en Ponferrada (León)
URL:https://www.iratxegarcia.es/evento/acto-publico-psoe-sobre-fondos-europeos-en-ponferrada-leon/
LOCATION:Ponferrada
END:VEVENT
BEGIN:VEVENT
DTSTART;TZID=Europe/Brussels:20230306T170000
DTEND;TZID=Europe/Brussels:20230306T173000
DTSTAMP:20260424T120757
CREATED:20230307T171134Z
LAST-MODIFIED:20230307T171134Z
UID:40267-1678122000-1678123800@www.iratxegarcia.es
SUMMARY:Reunión bilateral con Sandro Gozi
DESCRIPTION:
URL:https://www.iratxegarcia.es/evento/reunion-bilateral-con-sandro-gozi/
LOCATION:Bélgica
END:VEVENT
BEGIN:VEVENT
DTSTART;TZID=Europe/Brussels:20230306T173000
DTEND;TZID=Europe/Brussels:20230306T181500
DTSTAMP:20260424T120757
CREATED:20230307T171334Z
LAST-MODIFIED:20230307T171334Z
UID:40269-1678123800-1678126500@www.iratxegarcia.es
SUMMARY:Reunión con Mr. Garitt y Ton
DESCRIPTION:
URL:https://www.iratxegarcia.es/evento/reunion-con-mr-garitt-y-ton/
LOCATION:Bélgica
END:VEVENT
BEGIN:VEVENT
DTSTART;TZID=Europe/Brussels:20230307T090000
DTEND;TZID=Europe/Brussels:20230307T103000
DTSTAMP:20260424T120757
CREATED:20230307T171423Z
LAST-MODIFIED:20230307T171423Z
UID:40271-1678179600-1678185000@www.iratxegarcia.es
SUMMARY:In-camera S&D Bureau meeting
DESCRIPTION:
URL:https://www.iratxegarcia.es/evento/in-camera-sd-bureau-meeting/
LOCATION:Bélgica
END:VEVENT
BEGIN:VEVENT
DTSTART;TZID=Europe/Brussels:20230307T104500
DTEND;TZID=Europe/Brussels:20230307T110000
DTSTAMP:20260424T120757
CREATED:20230307T171627Z
LAST-MODIFIED:20230307T171627Z
UID:40273-1678185900-1678186800@www.iratxegarcia.es
SUMMARY:Bilateral con Petar Ivanov
DESCRIPTION:
URL:https://www.iratxegarcia.es/evento/bilateral-con-petar-ivanov/
LOCATION:Bélgica
END:VEVENT
BEGIN:VEVENT
DTSTART;TZID=Europe/Brussels:20230307T113000
DTEND;TZID=Europe/Brussels:20230307T120000
DTSTAMP:20260424T120757
CREATED:20230307T185005Z
LAST-MODIFIED:20230307T185005Z
UID:40275-1678188600-1678190400@www.iratxegarcia.es
SUMMARY:Reunión con Ofek Center
DESCRIPTION:
URL:https://www.iratxegarcia.es/evento/reunion-con-ofek-center/
LOCATION:Bélgica
END:VEVENT
BEGIN:VEVENT
DTSTART;TZID=Europe/Brussels:20230307T123000
DTEND;TZID=Europe/Brussels:20230307T140000
DTSTAMP:20260424T120757
CREATED:20230307T185040Z
LAST-MODIFIED:20230307T185040Z
UID:40277-1678192200-1678197600@www.iratxegarcia.es
SUMMARY:Reunión de la Delegación Socialista Española en el Europarlamento
DESCRIPTION:
URL:https://www.iratxegarcia.es/evento/reunion-de-la-delegacion-socialista-espanola-en-el-europarlamento/
LOCATION:Bélgica
END:VEVENT
BEGIN:VEVENT
DTSTART;TZID=Europe/Brussels:20230307T150000
DTEND;TZID=Europe/Brussels:20230307T154500
DTSTAMP:20260424T120757
CREATED:20230307T185108Z
LAST-MODIFIED:20230307T185108Z
UID:40279-1678201200-1678203900@www.iratxegarcia.es
SUMMARY:Reunión de los Líderes de Grupo con Metsola
DESCRIPTION:
URL:https://www.iratxegarcia.es/evento/reunion-de-los-lideres-de-grupo-con-metsola/
LOCATION:Bélgica
END:VEVENT
BEGIN:VEVENT
DTSTART;TZID=Europe/Brussels:20230307T160000
DTEND;TZID=Europe/Brussels:20230307T163000
DTSTAMP:20260424T120757
CREATED:20230307T185223Z
LAST-MODIFIED:20230307T185223Z
UID:40281-1678204800-1678206600@www.iratxegarcia.es
SUMMARY:Visita de la Agencia de la ONU para los refugiados palestinos
DESCRIPTION:
URL:https://www.iratxegarcia.es/evento/visita-de-la-agencia-de-la-onu-para-los-refugiados-palestinos/
LOCATION:Bélgica
END:VEVENT
BEGIN:VEVENT
DTSTART;TZID=Europe/Brussels:20230307T170000
DTEND;TZID=Europe/Brussels:20230307T181500
DTSTAMP:20260424T120757
CREATED:20230307T185305Z
LAST-MODIFIED:20230307T185305Z
UID:40283-1678208400-1678212900@www.iratxegarcia.es
SUMMARY:S&D Bureau
DESCRIPTION:
URL:https://www.iratxegarcia.es/evento/sd-bureau-23/
LOCATION:Bélgica
END:VEVENT
BEGIN:VEVENT
DTSTART;TZID=Europe/Brussels:20230307T193000
DTEND;TZID=Europe/Brussels:20230307T200000
DTSTAMP:20260424T120757
CREATED:20230307T185431Z
LAST-MODIFIED:20230307T185431Z
UID:40285-1678217400-1678219200@www.iratxegarcia.es
SUMMARY:Encuentro en el PSOE de Bruselas
DESCRIPTION:
URL:https://www.iratxegarcia.es/evento/encuentro-en-el-psoe-de-bruselas/
LOCATION:Bélgica
END:VEVENT
BEGIN:VEVENT
DTSTART;TZID=Europe/Brussels:20230308T080000
DTEND;TZID=Europe/Brussels:20230308T090000
DTSTAMP:20260424T120757
CREATED:20230307T185456Z
LAST-MODIFIED:20230307T185456Z
UID:40287-1678262400-1678266000@www.iratxegarcia.es
SUMMARY:Desayuno de trabajo con la Ministra Teresa Ribera
DESCRIPTION:
URL:https://www.iratxegarcia.es/evento/desayuno-de-trabajo-con-la-ministra-teresa-ribera/
LOCATION:Bélgica
END:VEVENT
BEGIN:VEVENT
DTSTART;TZID=Europe/Brussels:20230308T090000
DTEND;TZID=Europe/Brussels:20230308T120000
DTSTAMP:20260424T120757
CREATED:20230307T185526Z
LAST-MODIFIED:20230307T185526Z
UID:40289-1678266000-1678276800@www.iratxegarcia.es
SUMMARY:Reunión de Grupo
DESCRIPTION:
URL:https://www.iratxegarcia.es/evento/reunion-de-grupo-15/
LOCATION:Bélgica
END:VEVENT
BEGIN:VEVENT
DTSTART;VALUE=DATE:20230309
DTEND;VALUE=DATE:20230311
DTSTAMP:20260424T120757
CREATED:20230307T185606Z
LAST-MODIFIED:20230307T185606Z
UID:40291-1678320000-1678492799@www.iratxegarcia.es
SUMMARY:Reunión del S&D Bureau
DESCRIPTION:
URL:https://www.iratxegarcia.es/evento/reunion-del-sd-bureau/
LOCATION:Bélgica
END:VEVENT
BEGIN:VEVENT
DTSTART;TZID=Europe/Brussels:20230309T083000
DTEND;TZID=Europe/Brussels:20230309T103000
DTSTAMP:20260424T120757
CREATED:20230307T185749Z
LAST-MODIFIED:20230307T185749Z
UID:40293-1678350600-1678357800@www.iratxegarcia.es
SUMMARY:Reunión de la CoP
DESCRIPTION:
URL:https://www.iratxegarcia.es/evento/reunion-de-la-cop-2/
LOCATION:Bélgica
END:VEVENT
BEGIN:VEVENT
DTSTART;TZID=Europe/Brussels:20230309T150000
DTEND;TZID=Europe/Brussels:20230309T190000
DTSTAMP:20260424T120757
CREATED:20230307T185939Z
LAST-MODIFIED:20230307T185939Z
UID:40297-1678374000-1678388400@www.iratxegarcia.es
SUMMARY:Sesiones de trabajo del S&D Bureau sobre Juventud y empleo precario
DESCRIPTION:
URL:https://www.iratxegarcia.es/evento/sesiones-de-trabajo-del-sd-bureau-sobre-juventud-y-empleo-precario/
LOCATION:Bélgica
END:VEVENT
BEGIN:VEVENT
DTSTART;TZID=Europe/Brussels:20230310T090000
DTEND;TZID=Europe/Brussels:20230310T100000
DTSTAMP:20260424T120757
CREATED:20230307T190007Z
LAST-MODIFIED:20230307T190007Z
UID:40300-1678438800-1678442400@www.iratxegarcia.es
SUMMARY:Desayuno de trabajo
DESCRIPTION:
URL:https://www.iratxegarcia.es/evento/desayuno-de-trabajo/
LOCATION:Bélgica
END:VEVENT
BEGIN:VEVENT
DTSTART;TZID=Europe/Brussels:20230310T103000
DTEND;TZID=Europe/Brussels:20230310T113000
DTSTAMP:20260424T120757
CREATED:20230307T190051Z
LAST-MODIFIED:20230307T190051Z
UID:40302-1678444200-1678447800@www.iratxegarcia.es
SUMMARY:Encuentro con la prensa de Iratxe García junto a Nikos Androulakis\, líder del PASOK
DESCRIPTION:
URL:https://www.iratxegarcia.es/evento/encuentro-con-la-prensa-de-iratxe-garcia-junto-a-nikos-androulakis-lider-del-pasok/
LOCATION:Bélgica
END:VEVENT
BEGIN:VEVENT
DTSTART;TZID=Europe/Brussels:20230310T113000
DTEND;TZID=Europe/Brussels:20230310T133000
DTSTAMP:20260424T120757
CREATED:20230307T190138Z
LAST-MODIFIED:20230307T190138Z
UID:40304-1678447800-1678455000@www.iratxegarcia.es
SUMMARY:Sesión de trabajo sobre el Imperio de la Ley
DESCRIPTION:
URL:https://www.iratxegarcia.es/evento/sesion-de-trabajo-sobre-el-imperio-de-la-ley/
LOCATION:Bélgica
END:VEVENT
BEGIN:VEVENT
DTSTART;VALUE=DATE:20230313
DTEND;VALUE=DATE:20230317
DTSTAMP:20260424T120757
CREATED:20230313T142939Z
LAST-MODIFIED:20230313T142939Z
UID:40334-1678665600-1679011199@www.iratxegarcia.es
SUMMARY:Sesión Plenaria en Estrasburgo
DESCRIPTION:Sesión Plenaria en Estrasburgo
URL:https://www.iratxegarcia.es/evento/sesion-plenaria-en-estrasburgo-8/
LOCATION:Sede Parlamento Europeo en Estrasburgo\, Estrasburgo
END:VEVENT
BEGIN:VEVENT
DTSTART;TZID=Europe/Brussels:20230313T160000
DTEND;TZID=Europe/Brussels:20230313T180000
DTSTAMP:20260424T120757
CREATED:20230313T164102Z
LAST-MODIFIED:20230313T164102Z
UID:40336-1678723200-1678730400@www.iratxegarcia.es
SUMMARY:Group Meeting
DESCRIPTION:Group Meeting
URL:https://www.iratxegarcia.es/evento/group-meeting-18/
LOCATION:Sede Parlamento Europeo en Estrasburgo\, Estrasburgo
END:VEVENT
BEGIN:VEVENT
DTSTART;TZID=Europe/Brussels:20230314T100000
DTEND;TZID=Europe/Brussels:20230314T103000
DTSTAMP:20260424T120757
CREATED:20230313T164231Z
LAST-MODIFIED:20230313T164231Z
UID:40338-1678788000-1678789800@www.iratxegarcia.es
SUMMARY:Press conference
DESCRIPTION:Press conference
URL:https://www.iratxegarcia.es/evento/press-conference-21/
LOCATION:Sede Parlamento Europeo en Estrasburgo\, Estrasburgo
END:VEVENT
BEGIN:VEVENT
DTSTART;TZID=Europe/Brussels:20230314T103000
DTEND;TZID=Europe/Brussels:20230314T120000
DTSTAMP:20260424T120757
CREATED:20230313T170639Z
LAST-MODIFIED:20230313T170639Z
UID:40363-1678789800-1678795200@www.iratxegarcia.es
SUMMARY:Pleno - This is Europe - Debate with the President of  Lithuania\, Gitanas Nausėda
DESCRIPTION:Pleno – This is Europe – Debate with the President of Lithuania\, Gitanas Nausėda
URL:https://www.iratxegarcia.es/evento/pleno-this-is-europe-debate-with-the-president-of-lithuania-gitanas-nauseda/
LOCATION:Sede Parlamento Europeo en Estrasburgo\, Estrasburgo
END:VEVENT
BEGIN:VEVENT
DTSTART;TZID=Europe/Brussels:20230314T120000
DTEND;TZID=Europe/Brussels:20230314T130000
DTSTAMP:20260424T120757
CREATED:20230313T164616Z
LAST-MODIFIED:20230313T164616Z
UID:40340-1678795200-1678798800@www.iratxegarcia.es
SUMMARY:Pleno – Voting session\, in Strasbourg
DESCRIPTION:Pleno – Voting session\, in Strasbourg
URL:https://www.iratxegarcia.es/evento/pleno-voting-session-in-strasbourg-5/
LOCATION:Sede Parlamento Europeo en Estrasburgo\, Estrasburgo
END:VEVENT
BEGIN:VEVENT
DTSTART;TZID=Europe/Brussels:20230314T130000
DTEND;TZID=Europe/Brussels:20230314T143000
DTSTAMP:20260424T120757
CREATED:20230313T172810Z
LAST-MODIFIED:20230313T172810Z
UID:40372-1678798800-1678804200@www.iratxegarcia.es
SUMMARY:Reunión de la Delegación Socialista Española
DESCRIPTION:Reunión de la Delegación Socialista Española
URL:https://www.iratxegarcia.es/evento/reunion-de-la-delegacion-socialista-espanola-7/
LOCATION:Sede Parlamento Europeo en Estrasburgo\, Estrasburgo
END:VEVENT
BEGIN:VEVENT
DTSTART;TZID=Europe/Brussels:20230314T170000
DTEND;TZID=Europe/Brussels:20230314T180000
DTSTAMP:20260424T120757
CREATED:20230313T171035Z
LAST-MODIFIED:20230313T171035Z
UID:40365-1678813200-1678816800@www.iratxegarcia.es
SUMMARY:Bureau meeting
DESCRIPTION:Bureau meeting
URL:https://www.iratxegarcia.es/evento/bureau-meeting-40/
LOCATION:Sede Parlamento Europeo en Estrasburgo\, Estrasburgo
END:VEVENT
END:VCALENDAR