BEGIN:VCALENDAR
VERSION:2.0
PRODID:-//Iratxe García Pérez - ECPv6.15.20//NONSGML v1.0//EN
CALSCALE:GREGORIAN
METHOD:PUBLISH
X-ORIGINAL-URL:https://www.iratxegarcia.es
X-WR-CALDESC:Eventos para Iratxe García Pérez
REFRESH-INTERVAL;VALUE=DURATION:PT1H
X-Robots-Tag:noindex
X-PUBLISHED-TTL:PT1H
BEGIN:VTIMEZONE
TZID:Europe/Brussels
BEGIN:DAYLIGHT
TZOFFSETFROM:+0100
TZOFFSETTO:+0200
TZNAME:CEST
DTSTART:20220327T010000
END:DAYLIGHT
BEGIN:STANDARD
TZOFFSETFROM:+0200
TZOFFSETTO:+0100
TZNAME:CET
DTSTART:20221030T010000
END:STANDARD
BEGIN:DAYLIGHT
TZOFFSETFROM:+0100
TZOFFSETTO:+0200
TZNAME:CEST
DTSTART:20230326T010000
END:DAYLIGHT
BEGIN:STANDARD
TZOFFSETFROM:+0200
TZOFFSETTO:+0100
TZNAME:CET
DTSTART:20231029T010000
END:STANDARD
BEGIN:DAYLIGHT
TZOFFSETFROM:+0100
TZOFFSETTO:+0200
TZNAME:CEST
DTSTART:20240331T010000
END:DAYLIGHT
BEGIN:STANDARD
TZOFFSETFROM:+0200
TZOFFSETTO:+0100
TZNAME:CET
DTSTART:20241027T010000
END:STANDARD
END:VTIMEZONE
BEGIN:VEVENT
DTSTART;VALUE=DATE:20230201
DTEND;VALUE=DATE:20230203
DTSTAMP:20260422T123027
CREATED:20230130T211151Z
LAST-MODIFIED:20230130T211151Z
UID:40066-1675209600-1675382399@www.iratxegarcia.es
SUMMARY:Mini Plenary Session in Brussels
DESCRIPTION:Mini Plenary Session in Brussels
URL:https://www.iratxegarcia.es/evento/mini-plenary-session-in-brussels/
LOCATION:Sede del Parlamento Europeo\, Place du Luxembourg 100\, 1050\, Bruxelles\, Bélgica\, Bélgica
END:VEVENT
BEGIN:VEVENT
DTSTART;TZID=Europe/Brussels:20230201T103000
DTEND;TZID=Europe/Brussels:20230201T130000
DTSTAMP:20260422T123027
CREATED:20230130T212610Z
LAST-MODIFIED:20230130T212610Z
UID:40083-1675247400-1675256400@www.iratxegarcia.es
SUMMARY:S&D Group Meeting
DESCRIPTION:S&D Group Meeting
URL:https://www.iratxegarcia.es/evento/sd-group-meeting-5/
LOCATION:Sede del Parlamento Europeo\, Place du Luxembourg 100\, 1050\, Bruxelles\, Bélgica\, Bélgica
END:VEVENT
BEGIN:VEVENT
DTSTART;TZID=Europe/Brussels:20230201T140000
DTEND;TZID=Europe/Brussels:20230201T143000
DTSTAMP:20260422T123027
CREATED:20230130T212522Z
LAST-MODIFIED:20230130T212522Z
UID:40080-1675260000-1675261800@www.iratxegarcia.es
SUMMARY:Meeting with Dan Nica
DESCRIPTION:Meeting with Dan Nica
URL:https://www.iratxegarcia.es/evento/meeting-with-dan-nica/
LOCATION:Sede del Parlamento Europeo\, Place du Luxembourg 100\, 1050\, Bruxelles\, Bélgica\, Bélgica
ATTACH;FMTTYPE=image/jpeg:https://www.iratxegarcia.es/wp-content/uploads/2023/01/Dan-Nica.jpg
END:VEVENT
BEGIN:VEVENT
DTSTART;TZID=Europe/Brussels:20230201T143000
DTEND;TZID=Europe/Brussels:20230201T150000
DTSTAMP:20260422T123027
CREATED:20230130T212315Z
LAST-MODIFIED:20230130T212315Z
UID:40077-1675261800-1675263600@www.iratxegarcia.es
SUMMARY:Meeting with Elly Schlein
DESCRIPTION:Meeting with Elly Schlein
URL:https://www.iratxegarcia.es/evento/meeting-with-elly-schlein/
LOCATION:Sede del Parlamento Europeo\, Place du Luxembourg 100\, 1050\, Bruxelles\, Bélgica\, Bélgica
ATTACH;FMTTYPE=image/jpeg:https://www.iratxegarcia.es/wp-content/uploads/2023/01/Elly-Schlein.jpg
END:VEVENT
BEGIN:VEVENT
DTSTART;TZID=Europe/Brussels:20230201T150000
DTEND;TZID=Europe/Brussels:20230201T183000
DTSTAMP:20260422T123027
CREATED:20230130T211557Z
LAST-MODIFIED:20230130T211557Z
UID:40070-1675263600-1675276200@www.iratxegarcia.es
SUMMARY:Pleno - Council and Commission  statements - Preparation of the Special European Council  meeting of 9-10 February 2023
DESCRIPTION:Pleno – Council and Commission statements – Preparation of the Special European Council meeting of 9-10 February 2023
URL:https://www.iratxegarcia.es/evento/pleno-council-and-commission-statements-preparation-of-the-special-european-council-meeting-of-9-10-february-2023/
LOCATION:Sede del Parlamento Europeo\, Place du Luxembourg 100\, 1050\, Bruxelles\, Bélgica\, Bélgica
END:VEVENT
BEGIN:VEVENT
DTSTART;TZID=Europe/Brussels:20230201T190000
DTEND;TZID=Europe/Brussels:20230201T193000
DTSTAMP:20260422T123027
CREATED:20230130T211919Z
LAST-MODIFIED:20230130T211919Z
UID:40072-1675278000-1675279800@www.iratxegarcia.es
SUMMARY:Meeting with Nikos Androulakis
DESCRIPTION:Meeting with Nikos Androulakis
URL:https://www.iratxegarcia.es/evento/meeting-with-nikos-androulakis-2/
LOCATION:Sede del Parlamento Europeo\, Place du Luxembourg 100\, 1050\, Bruxelles\, Bélgica\, Bélgica
ATTACH;FMTTYPE=image/jpeg:https://www.iratxegarcia.es/wp-content/uploads/2023/01/Nikos-Androulakis.jpg
END:VEVENT
BEGIN:VEVENT
DTSTART;TZID=Europe/Brussels:20230202T090000
DTEND;TZID=Europe/Brussels:20230202T110000
DTSTAMP:20260422T123027
CREATED:20230130T211313Z
LAST-MODIFIED:20230130T211313Z
UID:40068-1675328400-1675335600@www.iratxegarcia.es
SUMMARY:Pleno - Council and Commission statements - Preparation  of the EU-Ukraine Summit
DESCRIPTION:Pleno – Council and Commission statements – Preparation of the EU-Ukraine Summit
URL:https://www.iratxegarcia.es/evento/pleno-council-and-commission-statements-preparation-of-the-eu-ukraine-summit/
LOCATION:Sede del Parlamento Europeo\, Place du Luxembourg 100\, 1050\, Bruxelles\, Bélgica\, Bélgica
END:VEVENT
BEGIN:VEVENT
DTSTART;TZID=Europe/Brussels:20230202T110000
DTEND;TZID=Europe/Brussels:20230202T130000
DTSTAMP:20260422T123027
CREATED:20230130T212035Z
LAST-MODIFIED:20230130T212035Z
UID:40075-1675335600-1675342800@www.iratxegarcia.es
SUMMARY:Voting session\, in Brussels
DESCRIPTION:Voting session\, in Brussels
URL:https://www.iratxegarcia.es/evento/voting-session-in-brussels-2/
LOCATION:Sede del Parlamento Europeo\, Place du Luxembourg 100\, 1050\, Bruxelles\, Bélgica\, Bélgica
END:VEVENT
BEGIN:VEVENT
DTSTART;TZID=Europe/Brussels:20230204T100000
DTEND;TZID=Europe/Brussels:20230204T130000
DTSTAMP:20260422T123027
CREATED:20230130T210013Z
LAST-MODIFIED:20230130T210057Z
UID:40063-1675504800-1675515600@www.iratxegarcia.es
SUMMARY:Comité Provincial PSOE Valladolid
DESCRIPTION:Comité Provincial PSOE Valladolid
URL:https://www.iratxegarcia.es/evento/comite-provincial-psoe-valladolid-2/
LOCATION:Centro Cívico Canal de Castilla de Valladolid\, Jardín Botánico\, 4\,\, Valladolid\, Valladolid\, España
END:VEVENT
BEGIN:VEVENT
DTSTART;TZID=Europe/Brussels:20230206T083000
DTEND;TZID=Europe/Brussels:20230206T093000
DTSTAMP:20260422T123027
CREATED:20230207T100446Z
LAST-MODIFIED:20230207T100446Z
UID:40105-1675672200-1675675800@www.iratxegarcia.es
SUMMARY:PES GAC meeting
DESCRIPTION:PES GAC meeting
URL:https://www.iratxegarcia.es/evento/pes-gac-meeting-4/
LOCATION:Videoconferencia
END:VEVENT
BEGIN:VEVENT
DTSTART;TZID=Europe/Brussels:20230207T090000
DTEND;TZID=Europe/Brussels:20230207T100000
DTSTAMP:20260422T123027
CREATED:20230207T101143Z
LAST-MODIFIED:20230207T101143Z
UID:40121-1675760400-1675764000@www.iratxegarcia.es
SUMMARY:Cabinet meeting
DESCRIPTION:Cabinet meeting
URL:https://www.iratxegarcia.es/evento/cabinet-meeting-68/
LOCATION:Sede del Parlamento Europeo\, Place du Luxembourg 100\, 1050\, Bruxelles\, Bélgica\, Bélgica
END:VEVENT
BEGIN:VEVENT
DTSTART;TZID=Europe/Brussels:20230207T110000
DTEND;TZID=Europe/Brussels:20230207T113000
DTSTAMP:20260422T123027
CREATED:20230207T101226Z
LAST-MODIFIED:20230207T101226Z
UID:40123-1675767600-1675769400@www.iratxegarcia.es
SUMMARY:Meeting with Inditex
DESCRIPTION:Meeting with Inditex
URL:https://www.iratxegarcia.es/evento/meeting-with-inditex/
LOCATION:Sede del Parlamento Europeo\, Place du Luxembourg 100\, 1050\, Bruxelles\, Bélgica\, Bélgica
END:VEVENT
BEGIN:VEVENT
DTSTART;TZID=Europe/Brussels:20230207T120000
DTEND;TZID=Europe/Brussels:20230207T123000
DTSTAMP:20260422T123027
CREATED:20230207T101359Z
LAST-MODIFIED:20230207T101359Z
UID:40125-1675771200-1675773000@www.iratxegarcia.es
SUMMARY:Meeting with Richard Corbett
DESCRIPTION:Meeting with Richard Corbett
URL:https://www.iratxegarcia.es/evento/meeting-with-richard-corbett/
LOCATION:Sede del Parlamento Europeo\, Place du Luxembourg 100\, 1050\, Bruxelles\, Bélgica\, Bélgica
ATTACH;FMTTYPE=image/jpeg:https://www.iratxegarcia.es/wp-content/uploads/2023/02/Richard-Corbett.jpg
END:VEVENT
BEGIN:VEVENT
DTSTART;TZID=Europe/Brussels:20230207T123000
DTEND;TZID=Europe/Brussels:20230207T130000
DTSTAMP:20260422T123027
CREATED:20230207T101504Z
LAST-MODIFIED:20230207T101504Z
UID:40128-1675773000-1675774800@www.iratxegarcia.es
SUMMARY:Reunión de la Delegación Socialista Española
DESCRIPTION:Reunión de la Delegación Socialista Española
URL:https://www.iratxegarcia.es/evento/reunion-de-la-delegacion-socialista-espanola-6/
LOCATION:Sede del Parlamento Europeo\, Place du Luxembourg 100\, 1050\, Bruxelles\, Bélgica\, Bélgica
END:VEVENT
BEGIN:VEVENT
DTSTART;TZID=Europe/Brussels:20230207T150000
DTEND;TZID=Europe/Brussels:20230207T160000
DTSTAMP:20260422T123027
CREATED:20230207T101611Z
LAST-MODIFIED:20230207T101611Z
UID:40130-1675782000-1675785600@www.iratxegarcia.es
SUMMARY:Meeting with President Metsola
DESCRIPTION:Meeting with President Metsola
URL:https://www.iratxegarcia.es/evento/meeting-with-president-metsola-5/
LOCATION:Sede del Parlamento Europeo\, Place du Luxembourg 100\, 1050\, Bruxelles\, Bélgica\, Bélgica
ATTACH;FMTTYPE=image/jpeg:https://www.iratxegarcia.es/wp-content/uploads/2022/01/Metsola.jpg
END:VEVENT
BEGIN:VEVENT
DTSTART;TZID=Europe/Brussels:20230207T173000
DTEND;TZID=Europe/Brussels:20230207T183000
DTSTAMP:20260422T123027
CREATED:20230207T101750Z
LAST-MODIFIED:20230207T101750Z
UID:40134-1675791000-1675794600@www.iratxegarcia.es
SUMMARY:S&D Bureau & HoDs
DESCRIPTION:S&D Bureau & HoDs
URL:https://www.iratxegarcia.es/evento/sd-bureau-hods-3/
LOCATION:Sede del Parlamento Europeo\, Place du Luxembourg 100\, 1050\, Bruxelles\, Bélgica\, Bélgica
END:VEVENT
BEGIN:VEVENT
DTSTART;TZID=Europe/Brussels:20230207T180000
DTEND;TZID=Europe/Brussels:20230207T193000
DTSTAMP:20260422T123027
CREATED:20230207T101706Z
LAST-MODIFIED:20230207T101706Z
UID:40132-1675792800-1675798200@www.iratxegarcia.es
SUMMARY:Group meeting
DESCRIPTION:Group meeting
URL:https://www.iratxegarcia.es/evento/group-meeting-16/
LOCATION:Sede del Parlamento Europeo\, Place du Luxembourg 100\, 1050\, Bruxelles\, Bélgica\, Bélgica
END:VEVENT
BEGIN:VEVENT
DTSTART;TZID=Europe/Brussels:20230208T090000
DTEND;TZID=Europe/Brussels:20230208T120000
DTSTAMP:20260422T123027
CREATED:20230207T100729Z
LAST-MODIFIED:20230207T100729Z
UID:40111-1675846800-1675857600@www.iratxegarcia.es
SUMMARY:Group meeting
DESCRIPTION:Group meeting
URL:https://www.iratxegarcia.es/evento/group-meeting-15/
LOCATION:Sede del Parlamento Europeo\, Place du Luxembourg 100\, 1050\, Bruxelles\, Bélgica\, Bélgica
END:VEVENT
BEGIN:VEVENT
DTSTART;TZID=Europe/Brussels:20230208T120000
DTEND;TZID=Europe/Brussels:20230208T210000
DTSTAMP:20260422T123027
CREATED:20230207T100647Z
LAST-MODIFIED:20230207T100647Z
UID:40109-1675857600-1675890000@www.iratxegarcia.es
SUMMARY:S&D Bureau & HoDs
DESCRIPTION:S&D Bureau & HoDs
URL:https://www.iratxegarcia.es/evento/sd-bureau-hods-2/
LOCATION:Sede del Parlamento Europeo\, Place du Luxembourg 100\, 1050\, Bruxelles\, Bélgica\, Bélgica
END:VEVENT
BEGIN:VEVENT
DTSTART;TZID=Europe/Brussels:20230209T090000
DTEND;TZID=Europe/Brussels:20230209T100000
DTSTAMP:20260422T123027
CREATED:20230207T100828Z
LAST-MODIFIED:20230207T100828Z
UID:40113-1675933200-1675936800@www.iratxegarcia.es
SUMMARY:CoP Preparatory Meeting
DESCRIPTION:CoP Preparatory Meeting
URL:https://www.iratxegarcia.es/evento/cop-preparatory-meeting-7/
LOCATION:Sede del Parlamento Europeo\, Place du Luxembourg 100\, 1050\, Bruxelles\, Bélgica\, Bélgica
END:VEVENT
BEGIN:VEVENT
DTSTART;TZID=Europe/Brussels:20230209T100000
DTEND;TZID=Europe/Brussels:20230209T120000
DTSTAMP:20260422T123027
CREATED:20230207T100903Z
LAST-MODIFIED:20230207T100903Z
UID:40115-1675936800-1675944000@www.iratxegarcia.es
SUMMARY:CoP meeting
DESCRIPTION:CoP meeting
URL:https://www.iratxegarcia.es/evento/cop-meeting-43/
LOCATION:Sede del Parlamento Europeo\, Place du Luxembourg 100\, 1050\, Bruxelles\, Bélgica\, Bélgica
END:VEVENT
BEGIN:VEVENT
DTSTART;TZID=Europe/Brussels:20230209T103000
DTEND;TZID=Europe/Brussels:20230209T113000
DTSTAMP:20260422T123027
CREATED:20230207T101025Z
LAST-MODIFIED:20230207T101025Z
UID:40117-1675938600-1675942200@www.iratxegarcia.es
SUMMARY:Prime Ministers “Berlin format” meeting
DESCRIPTION:Prime Ministers “Berlin format” meeting
URL:https://www.iratxegarcia.es/evento/prime-ministers-berlin-format-meeting/
LOCATION:Bruselas
END:VEVENT
BEGIN:VEVENT
DTSTART;TZID=Europe/Brussels:20230209T113000
DTEND;TZID=Europe/Brussels:20230209T130000
DTSTAMP:20260422T123027
CREATED:20230207T101104Z
LAST-MODIFIED:20230207T101104Z
UID:40119-1675942200-1675947600@www.iratxegarcia.es
SUMMARY:Pre-Council Meeting
DESCRIPTION:Pre-Council Meeting
URL:https://www.iratxegarcia.es/evento/pre-council-meeting/
LOCATION:Bruselas
END:VEVENT
BEGIN:VEVENT
DTSTART;TZID=Europe/Brussels:20230210T113000
DTEND;TZID=Europe/Brussels:20230210T120000
DTSTAMP:20260422T123027
CREATED:20230207T100555Z
LAST-MODIFIED:20230207T100555Z
UID:40107-1676028600-1676030400@www.iratxegarcia.es
SUMMARY:S&D EP Bureau preparatory meeting
DESCRIPTION:S&D EP Bureau preparatory meeting
URL:https://www.iratxegarcia.es/evento/sd-ep-bureau-preparatory-meeting-8/
LOCATION:Videoconferencia
END:VEVENT
BEGIN:VEVENT
DTSTART;VALUE=DATE:20230213
DTEND;VALUE=DATE:20230217
DTSTAMP:20260422T123027
CREATED:20230214T120055Z
LAST-MODIFIED:20230214T120055Z
UID:40142-1676246400-1676591999@www.iratxegarcia.es
SUMMARY:Sesión Plenaria en Estrasburgo
DESCRIPTION:Sesión Plenaria en Estrasburgo
URL:https://www.iratxegarcia.es/evento/sesion-plenaria-en-estrasburgo-7/
LOCATION:Sede Parlamento Europeo en Estrasburgo\, Estrasburgo
END:VEVENT
BEGIN:VEVENT
DTSTART;TZID=Europe/Brussels:20230213T103000
DTEND;TZID=Europe/Brussels:20230213T120000
DTSTAMP:20260422T123027
CREATED:20230214T115953Z
LAST-MODIFIED:20230214T115953Z
UID:40140-1676284200-1676289600@www.iratxegarcia.es
SUMMARY:Reunión de la Comisión Ejecutiva Federal del PSOE
DESCRIPTION:La Eurodiputada socialista Iratxe García participa\, como Secretaria Federal para la Unión Europea\, en la reunión de la Comisión Ejecutiva Federal del PSOE\, en la sede de la Calle Ferraz (Madrid).
URL:https://www.iratxegarcia.es/evento/reunion-de-la-comision-ejecutiva-federal-del-psoe-139/
LOCATION:Sede PSOE\, Calle Ferraz 70\, Madrid\, España\, España
END:VEVENT
BEGIN:VEVENT
DTSTART;TZID=Europe/Brussels:20230213T160000
DTEND;TZID=Europe/Brussels:20230213T170000
DTSTAMP:20260422T123027
CREATED:20230214T121046Z
LAST-MODIFIED:20230214T121046Z
UID:40146-1676304000-1676307600@www.iratxegarcia.es
SUMMARY:Hybrid Group Meeting
DESCRIPTION:Hybrid Group Meeting
URL:https://www.iratxegarcia.es/evento/hybrid-group-meeting-36/
LOCATION:Sede Parlamento Europeo en Estrasburgo\, Estrasburgo
END:VEVENT
BEGIN:VEVENT
DTSTART;TZID=Europe/Brussels:20230214T100000
DTEND;TZID=Europe/Brussels:20230214T103000
DTSTAMP:20260422T123027
CREATED:20230214T121144Z
LAST-MODIFIED:20230214T121144Z
UID:40148-1676368800-1676370600@www.iratxegarcia.es
SUMMARY:Press conference
DESCRIPTION:Press conference
URL:https://www.iratxegarcia.es/evento/press-conference-20/
LOCATION:Sede Parlamento Europeo en Estrasburgo\, Estrasburgo
END:VEVENT
BEGIN:VEVENT
DTSTART;TZID=Europe/Brussels:20230214T103000
DTEND;TZID=Europe/Brussels:20230214T110000
DTSTAMP:20260422T123027
CREATED:20230214T121241Z
LAST-MODIFIED:20230214T121241Z
UID:40150-1676370600-1676372400@www.iratxegarcia.es
SUMMARY:Bilateral meeting Comisaria
DESCRIPTION:Bilateral meeting Comisaria
URL:https://www.iratxegarcia.es/evento/bilateral-meeting-comisaria/
LOCATION:Sede Parlamento Europeo en Estrasburgo\, Estrasburgo
END:VEVENT
BEGIN:VEVENT
DTSTART;TZID=Europe/Brussels:20230214T110000
DTEND;TZID=Europe/Brussels:20230214T113000
DTSTAMP:20260422T123027
CREATED:20230214T121314Z
LAST-MODIFIED:20230214T121314Z
UID:40152-1676372400-1676374200@www.iratxegarcia.es
SUMMARY:Bilateral meeting Comisario
DESCRIPTION:Bilateral meeting Comisario
URL:https://www.iratxegarcia.es/evento/bilateral-meeting-comisario/
LOCATION:Sede Parlamento Europeo en Estrasburgo\, Estrasburgo
END:VEVENT
END:VCALENDAR