BEGIN:VCALENDAR
VERSION:2.0
PRODID:-//Iratxe García Pérez - ECPv6.15.20//NONSGML v1.0//EN
CALSCALE:GREGORIAN
METHOD:PUBLISH
X-ORIGINAL-URL:https://www.iratxegarcia.es
X-WR-CALDESC:Eventos para Iratxe García Pérez
REFRESH-INTERVAL;VALUE=DURATION:PT1H
X-Robots-Tag:noindex
X-PUBLISHED-TTL:PT1H
BEGIN:VTIMEZONE
TZID:Europe/Brussels
BEGIN:DAYLIGHT
TZOFFSETFROM:+0100
TZOFFSETTO:+0200
TZNAME:CEST
DTSTART:20210328T010000
END:DAYLIGHT
BEGIN:STANDARD
TZOFFSETFROM:+0200
TZOFFSETTO:+0100
TZNAME:CET
DTSTART:20211031T010000
END:STANDARD
BEGIN:DAYLIGHT
TZOFFSETFROM:+0100
TZOFFSETTO:+0200
TZNAME:CEST
DTSTART:20220327T010000
END:DAYLIGHT
BEGIN:STANDARD
TZOFFSETFROM:+0200
TZOFFSETTO:+0100
TZNAME:CET
DTSTART:20221030T010000
END:STANDARD
BEGIN:DAYLIGHT
TZOFFSETFROM:+0100
TZOFFSETTO:+0200
TZNAME:CEST
DTSTART:20230326T010000
END:DAYLIGHT
BEGIN:STANDARD
TZOFFSETFROM:+0200
TZOFFSETTO:+0100
TZNAME:CET
DTSTART:20231029T010000
END:STANDARD
END:VTIMEZONE
BEGIN:VEVENT
DTSTART;TZID=Europe/Brussels:20221107T150000
DTEND;TZID=Europe/Brussels:20221107T163000
DTSTAMP:20260419T193544
CREATED:20221108T230313Z
LAST-MODIFIED:20221108T230313Z
UID:39656-1667833200-1667838600@www.iratxegarcia.es
SUMMARY:Cabinet Meeting
DESCRIPTION:Cabinet Meeting
URL:https://www.iratxegarcia.es/evento/cabinet-meeting-62/
LOCATION:Videoconferencia
END:VEVENT
BEGIN:VEVENT
DTSTART;TZID=Europe/Brussels:20221108T083000
DTEND;TZID=Europe/Brussels:20221108T090000
DTSTAMP:20260419T193544
CREATED:20221108T231143Z
LAST-MODIFIED:20221108T231143Z
UID:39664-1667896200-1667898000@www.iratxegarcia.es
SUMMARY:Croatia Leader PS Mr Grbin
DESCRIPTION:Croatia Leader PS Mr Grbin
URL:https://www.iratxegarcia.es/evento/croatia-leader-ps-mr-grbin/
LOCATION:Sede del Parlamento Europeo\, Place du Luxembourg 100\, 1050\, Bruxelles\, Bélgica\, Bélgica
END:VEVENT
BEGIN:VEVENT
DTSTART;TZID=Europe/Brussels:20221108T123000
DTEND;TZID=Europe/Brussels:20221108T130000
DTSTAMP:20260419T193544
CREATED:20221108T230534Z
LAST-MODIFIED:20221108T230534Z
UID:39658-1667910600-1667912400@www.iratxegarcia.es
SUMMARY:Meeting with President Metsola
DESCRIPTION:Meeting with President Metsola
URL:https://www.iratxegarcia.es/evento/meeting-with-president-metsola/
LOCATION:Sede del Parlamento Europeo\, Place du Luxembourg 100\, 1050\, Bruxelles\, Bélgica\, Bélgica
ATTACH;FMTTYPE=image/jpeg:https://www.iratxegarcia.es/wp-content/uploads/2022/01/Metsola.jpg
END:VEVENT
BEGIN:VEVENT
DTSTART;TZID=Europe/Brussels:20221108T153000
DTEND;TZID=Europe/Brussels:20221108T160000
DTSTAMP:20260419T193544
CREATED:20221108T230814Z
LAST-MODIFIED:20221108T230814Z
UID:39660-1667921400-1667923200@www.iratxegarcia.es
SUMMARY:S&D Workshop on Forced Labour
DESCRIPTION:S&D Workshop on Forced Labour
URL:https://www.iratxegarcia.es/evento/sd-workshop-on-forced-labour/
LOCATION:Sede del Parlamento Europeo\, Place du Luxembourg 100\, 1050\, Bruxelles\, Bélgica\, Bélgica
END:VEVENT
BEGIN:VEVENT
DTSTART;TZID=Europe/Brussels:20221108T170000
DTEND;TZID=Europe/Brussels:20221108T173000
DTSTAMP:20260419T193544
CREATED:20221108T231002Z
LAST-MODIFIED:20221108T231002Z
UID:39662-1667926800-1667928600@www.iratxegarcia.es
SUMMARY:Meeting with Diana Riba
DESCRIPTION:Meeting with Diana Riba
URL:https://www.iratxegarcia.es/evento/meeting-with-diana-riba-3/
LOCATION:Sede del Parlamento Europeo\, Place du Luxembourg 100\, 1050\, Bruxelles\, Bélgica\, Bélgica
END:VEVENT
BEGIN:VEVENT
DTSTART;TZID=Europe/Brussels:20221109T090000
DTEND;TZID=Europe/Brussels:20221109T103000
DTSTAMP:20260419T193544
CREATED:20221108T231709Z
LAST-MODIFIED:20221108T231709Z
UID:39672-1667984400-1667989800@www.iratxegarcia.es
SUMMARY:S&D Bureau
DESCRIPTION:S&D Bureau
URL:https://www.iratxegarcia.es/evento/sd-bureau-19/
LOCATION:Sede del Parlamento Europeo\, Place du Luxembourg 100\, 1050\, Bruxelles\, Bélgica\, Bélgica
END:VEVENT
BEGIN:VEVENT
DTSTART;TZID=Europe/Brussels:20221109T140000
DTEND;TZID=Europe/Brussels:20221109T143000
DTSTAMP:20260419T193544
CREATED:20221108T231818Z
LAST-MODIFIED:20221108T231818Z
UID:39674-1668002400-1668004200@www.iratxegarcia.es
SUMMARY:Visita periodistas de Aragón
DESCRIPTION:Visita periodistas de Aragón
URL:https://www.iratxegarcia.es/evento/visita-periodistas-de-aragon/
LOCATION:Sede del Parlamento Europeo\, Place du Luxembourg 100\, 1050\, Bruxelles\, Bélgica\, Bélgica
END:VEVENT
BEGIN:VEVENT
DTSTART;TZID=Europe/Brussels:20221109T150000
DTEND;TZID=Europe/Brussels:20221109T160000
DTSTAMP:20260419T193544
CREATED:20221108T231952Z
LAST-MODIFIED:20221108T231952Z
UID:39676-1668006000-1668009600@www.iratxegarcia.es
SUMMARY:Opening plenary session European Council and Commission statements - Conclusions of the European Council
DESCRIPTION:Opening plenary session European Council and Commission statements – Conclusions of the European Council
URL:https://www.iratxegarcia.es/evento/opening-plenary-session-european-council-and-commission-statements-conclusions-of-the-european-council/
LOCATION:Sede del Parlamento Europeo\, Place du Luxembourg 100\, 1050\, Bruxelles\, Bélgica\, Bélgica
END:VEVENT
BEGIN:VEVENT
DTSTART;TZID=Europe/Brussels:20221109T200000
DTEND;TZID=Europe/Brussels:20221109T220000
DTSTAMP:20260419T193544
CREATED:20221108T232126Z
LAST-MODIFIED:20221108T232126Z
UID:39678-1668024000-1668031200@www.iratxegarcia.es
SUMMARY:Meeting with Austrian Delegation
DESCRIPTION:Meeting with Austrian Delegation
URL:https://www.iratxegarcia.es/evento/meeting-with-austrian-delegation-2/
LOCATION:Sede del Parlamento Europeo\, Place du Luxembourg 100\, 1050\, Bruxelles\, Bélgica\, Bélgica
END:VEVENT
BEGIN:VEVENT
DTSTART;TZID=Europe/Brussels:20221110T110000
DTEND;TZID=Europe/Brussels:20221110T130000
DTSTAMP:20260419T193544
CREATED:20221108T232306Z
LAST-MODIFIED:20221108T232306Z
UID:39680-1668078000-1668085200@www.iratxegarcia.es
SUMMARY:Voting session\, in Brussels
DESCRIPTION:Voting session\, in Brussels
URL:https://www.iratxegarcia.es/evento/voting-session-in-brussels/
LOCATION:Sede del Parlamento Europeo\, Place du Luxembourg 100\, 1050\, Bruxelles\, Bélgica\, Bélgica
END:VEVENT
BEGIN:VEVENT
DTSTART;TZID=Europe/Brussels:20221110T130000
DTEND;TZID=Europe/Brussels:20221110T133000
DTSTAMP:20260419T193544
CREATED:20221108T231422Z
LAST-MODIFIED:20221108T231422Z
UID:39668-1668085200-1668087000@www.iratxegarcia.es
SUMMARY:International Interns Day
DESCRIPTION:International Interns Day
URL:https://www.iratxegarcia.es/evento/international-interns-day/
LOCATION:Sede del Parlamento Europeo\, Place du Luxembourg 100\, 1050\, Bruxelles\, Bélgica\, Bélgica
END:VEVENT
BEGIN:VEVENT
DTSTART;TZID=Europe/Brussels:20221110T133000
DTEND;TZID=Europe/Brussels:20221110T150000
DTSTAMP:20260419T193544
CREATED:20221108T231559Z
LAST-MODIFIED:20221108T231559Z
UID:39670-1668087000-1668092400@www.iratxegarcia.es
SUMMARY:Meeting with Ministro Albares
DESCRIPTION:Meeting with Ministro Albares
URL:https://www.iratxegarcia.es/evento/meeting-with-ministro-albares/
LOCATION:Sede del Parlamento Europeo\, Place du Luxembourg 100\, 1050\, Bruxelles\, Bélgica\, Bélgica
END:VEVENT
BEGIN:VEVENT
DTSTART;TZID=Europe/Brussels:20221111T110000
DTEND;TZID=Europe/Brussels:20221111T120000
DTSTAMP:20260419T193544
CREATED:20221108T231314Z
LAST-MODIFIED:20221108T231314Z
UID:39666-1668164400-1668168000@www.iratxegarcia.es
SUMMARY:Programa año europeo de la Juventud
DESCRIPTION:Programa año europeo de la Juventud
URL:https://www.iratxegarcia.es/evento/programa-ano-europeo-de-la-juventud/
LOCATION:Salamanca\, Colegio Arzobispo Fonseca\, Salamanca\, España
END:VEVENT
BEGIN:VEVENT
DTSTART;TZID=Europe/Brussels:20221114T200000
DTEND;TZID=Europe/Brussels:20221114T210000
DTSTAMP:20260419T193544
CREATED:20221115T063704Z
LAST-MODIFIED:20221115T063704Z
UID:39695-1668456000-1668459600@www.iratxegarcia.es
SUMMARY:Meeting with Bojan Marichikj\, Vice President of SDSM
DESCRIPTION:Meeting with Bojan Marichikj\, Vice President of SDSM
URL:https://www.iratxegarcia.es/evento/meeting-with-bojan-marichikj-vice-president-of-sdsm/
LOCATION:Skopje
ATTACH;FMTTYPE=image/jpeg:https://www.iratxegarcia.es/wp-content/uploads/2022/11/Bojan-Marichikj.jpg
END:VEVENT
BEGIN:VEVENT
DTSTART;TZID=Europe/Brussels:20221115T080000
DTEND;TZID=Europe/Brussels:20221115T100000
DTSTAMP:20260419T193544
CREATED:20221115T064514Z
LAST-MODIFIED:20221115T064514Z
UID:39709-1668499200-1668506400@www.iratxegarcia.es
SUMMARY:Meeting with the Ambassador David Geer\, Head of the EU Delegation
DESCRIPTION:Meeting with the Ambassador David Geer\, Head of the EU Delegation
URL:https://www.iratxegarcia.es/evento/meeting-with-the-ambassador-david-geer-head-of-the-eu-delegation/
LOCATION:Skopje
ATTACH;FMTTYPE=image/jpeg:https://www.iratxegarcia.es/wp-content/uploads/2022/11/David-Geer.jpg
END:VEVENT
BEGIN:VEVENT
DTSTART;TZID=Europe/Brussels:20221115T100000
DTEND;TZID=Europe/Brussels:20221115T110000
DTSTAMP:20260419T193544
CREATED:20221115T064656Z
LAST-MODIFIED:20221115T064656Z
UID:39712-1668506400-1668510000@www.iratxegarcia.es
SUMMARY:Meeting with Prime Minister Dimitar Kovachevski
DESCRIPTION:Meeting with Prime Minister Dimitar Kovachevski
URL:https://www.iratxegarcia.es/evento/meeting-with-prime-minister-dimitar-kovachevski/
LOCATION:Skopje
ATTACH;FMTTYPE=image/jpeg:https://www.iratxegarcia.es/wp-content/uploads/2022/11/Dimitar_Kovachevski.jpg
END:VEVENT
BEGIN:VEVENT
DTSTART;TZID=Europe/Brussels:20221115T110000
DTEND;TZID=Europe/Brussels:20221115T123000
DTSTAMP:20260419T193544
CREATED:20221115T065030Z
LAST-MODIFIED:20221115T065030Z
UID:39715-1668510000-1668515400@www.iratxegarcia.es
SUMMARY:Visit to SDSM headquarter
DESCRIPTION:Visit to SDSM headquarter and meeting with Sanja Lukarevska\, Deputy President of SDSM\, Mile Zechevikj\, General Secretary of SDSM\, Bisera Kostadinovska-Stojcevska\, Vice President of SDSM\, Bojan Marichikj. International Secretary of SDSM\, Jovana Trenchevska\, President of SDSM Womens Forum
URL:https://www.iratxegarcia.es/evento/visit-to-sdsm-headquarter/
LOCATION:Skopje
ATTACH;FMTTYPE=image/png:https://www.iratxegarcia.es/wp-content/uploads/2022/11/SDSMacedonia.png
END:VEVENT
BEGIN:VEVENT
DTSTART;TZID=Europe/Brussels:20221115T140000
DTEND;TZID=Europe/Brussels:20221115T150000
DTSTAMP:20260419T193544
CREATED:20221115T065224Z
LAST-MODIFIED:20221115T065224Z
UID:39718-1668520800-1668524400@www.iratxegarcia.es
SUMMARY:Meeting with President SDSM\, Stevo Pendarovski
DESCRIPTION:Meeting with President SDSM\, Stevo Pendarovski
URL:https://www.iratxegarcia.es/evento/meeting-with-president-sdsm-stevo-pendarovski/
LOCATION:Skopje
ATTACH;FMTTYPE=image/jpeg:https://www.iratxegarcia.es/wp-content/uploads/2022/11/Stevo-Pendarovski.jpg
END:VEVENT
BEGIN:VEVENT
DTSTART;TZID=Europe/Brussels:20221115T150000
DTEND;TZID=Europe/Brussels:20221115T163000
DTSTAMP:20260419T193544
CREATED:20221115T065417Z
LAST-MODIFIED:20221115T065417Z
UID:39721-1668524400-1668529800@www.iratxegarcia.es
SUMMARY:Meeting with Radmila Shekerinska\, PES Vice president
DESCRIPTION:
URL:https://www.iratxegarcia.es/evento/meeting-with-radmila-shekerinska-pes-vice-president/
LOCATION:Skopje
ATTACH;FMTTYPE=image/jpeg:https://www.iratxegarcia.es/wp-content/uploads/2022/11/Radmila_Shekerinska-scaled.jpg
END:VEVENT
BEGIN:VEVENT
DTSTART;TZID=Europe/Brussels:20221116T110000
DTEND;TZID=Europe/Brussels:20221116T120000
DTSTAMP:20260419T193544
CREATED:20221115T065718Z
LAST-MODIFIED:20221115T065718Z
UID:39726-1668596400-1668600000@www.iratxegarcia.es
SUMMARY:Meeting with Edi Rama\, Prime Minister of Albania and Taulant Balla\, Chairman of the SP Parliamentary Group
DESCRIPTION:Meeting with Edi Rama\, Prime Minister of Albania and Taulant Balla\, Chairman of the SP Parliamentary Group
URL:https://www.iratxegarcia.es/evento/meeting-with-edi-rama-prime-minister-of-albania-and-taulant-balla-chairman-of-the-sp-parliamentary-group/
LOCATION:Tirana\, Tirana\, Albania
ATTACH;FMTTYPE=image/jpeg:https://www.iratxegarcia.es/wp-content/uploads/2022/11/Edi-Rama.jpg
END:VEVENT
BEGIN:VEVENT
DTSTART;TZID=Europe/Brussels:20221116T120000
DTEND;TZID=Europe/Brussels:20221116T130000
DTSTAMP:20260419T193544
CREATED:20221115T065858Z
LAST-MODIFIED:20221115T065858Z
UID:39730-1668600000-1668603600@www.iratxegarcia.es
SUMMARY:President Iratxe Garcia Perez address to the SP Parliamentary Group
DESCRIPTION:President Iratxe Garcia Perez address to the SP Parliamentary Group
URL:https://www.iratxegarcia.es/evento/president-iratxe-garcia-perez-address-to-the-sp-parliamentary-group/
LOCATION:Tirana\, Tirana\, Albania
END:VEVENT
BEGIN:VEVENT
DTSTART;TZID=Europe/Brussels:20221116T200000
DTEND;TZID=Europe/Brussels:20221116T220000
DTSTAMP:20260419T193544
CREATED:20221115T070008Z
LAST-MODIFIED:20221115T070008Z
UID:39732-1668628800-1668636000@www.iratxegarcia.es
SUMMARY:Meeting with Chairman of SP Parliamentary Group\, Ministers and MPs
DESCRIPTION:Meeting with Chairman of SP Parliamentary Group\, Ministers and MPs
URL:https://www.iratxegarcia.es/evento/meeting-with-chairman-of-sp-parliamentary-group-ministers-and-mps/
LOCATION:Tirana\, Tirana\, Albania
END:VEVENT
BEGIN:VEVENT
DTSTART;TZID=Europe/Brussels:20221117T100000
DTEND;TZID=Europe/Brussels:20221117T120000
DTSTAMP:20260419T193544
CREATED:20221115T065536Z
LAST-MODIFIED:20221115T065536Z
UID:39724-1668679200-1668686400@www.iratxegarcia.es
SUMMARY:COP meeting
DESCRIPTION:COP meeting
URL:https://www.iratxegarcia.es/evento/cop-meeting-37/
LOCATION:Madrid
END:VEVENT
BEGIN:VEVENT
DTSTART;TZID=Europe/Brussels:20221117T200000
DTEND;TZID=Europe/Brussels:20221117T220000
DTSTAMP:20260419T193544
CREATED:20221115T070449Z
LAST-MODIFIED:20221115T070449Z
UID:39734-1668715200-1668722400@www.iratxegarcia.es
SUMMARY:Segunda Edición de los Premios Internacionales Ubuntu\, Premios Euroafricanos al Liderazgo\, la Innovación y el Progreso de los Pueblos
DESCRIPTION:Ceremonia de entrega de la Segunda Edición de los Premios Internacionales Ubuntu\, Premios Euroafricanos al Liderazgo\, la Innovación y el Progreso de los Pueblos\, que coordina el presidente del Foro Internacional Euroafricano\, Yiboula Bazier. \nEn el desarrollo de esta Gala\, Iratxe García\, será galardonada con el Premio Internacional Ubuntu en la categoría Mujeres Líderes y Políticas defensoras de los Derechos de la Mujer.
URL:https://www.iratxegarcia.es/evento/segunda-edicion-de-los-premios-internacionales-ubuntu-premios-euroafricanos-al-liderazgo-la-innovacion-y-el-progreso-de-los-pueblos/
LOCATION:Cádiz
END:VEVENT
BEGIN:VEVENT
DTSTART;VALUE=DATE:20221121
DTEND;VALUE=DATE:20221125
DTSTAMP:20260419T193544
CREATED:20221118T222603Z
LAST-MODIFIED:20221118T222603Z
UID:39751-1668988800-1669334399@www.iratxegarcia.es
SUMMARY:Sesión Plenaria en Estrasburgo
DESCRIPTION:Sesión Plenaria en Estrasburgo
URL:https://www.iratxegarcia.es/evento/sesion-plenaria-en-estrasburgo-4/
LOCATION:Sede Parlamento Europeo en Estrasburgo\, Estrasburgo
END:VEVENT
BEGIN:VEVENT
DTSTART;TZID=Europe/Brussels:20221121T160000
DTEND;TZID=Europe/Brussels:20221121T170000
DTSTAMP:20260419T193544
CREATED:20221118T224213Z
LAST-MODIFIED:20221118T224213Z
UID:39766-1669046400-1669050000@www.iratxegarcia.es
SUMMARY:Hybrid group meeting
DESCRIPTION:Hybrid group meeting
URL:https://www.iratxegarcia.es/evento/hybrid-group-meeting-33/
LOCATION:Sede Parlamento Europeo en Estrasburgo\, Estrasburgo
END:VEVENT
BEGIN:VEVENT
DTSTART;TZID=Europe/Brussels:20221121T170000
DTEND;TZID=Europe/Brussels:20221121T173000
DTSTAMP:20260419T193544
CREATED:20221118T224329Z
LAST-MODIFIED:20221118T224329Z
UID:39768-1669050000-1669051800@www.iratxegarcia.es
SUMMARY:Apertura Sesión Plenaria Parlamento Europeo
DESCRIPTION:Apertura Sesión Plenaria Parlamento Europeo
URL:https://www.iratxegarcia.es/evento/apertura-sesion-plenaria-parlamento-europeo-2/
LOCATION:Sede Parlamento Europeo en Estrasburgo\, Estrasburgo
END:VEVENT
BEGIN:VEVENT
DTSTART;TZID=Europe/Brussels:20221122T100000
DTEND;TZID=Europe/Brussels:20221122T103000
DTSTAMP:20260419T193544
CREATED:20221118T224600Z
LAST-MODIFIED:20221118T224600Z
UID:39770-1669111200-1669113000@www.iratxegarcia.es
SUMMARY:Press Conference
DESCRIPTION:Press Conference
URL:https://www.iratxegarcia.es/evento/press-conference-16/
LOCATION:Sede Parlamento Europeo en Estrasburgo\, Estrasburgo
END:VEVENT
BEGIN:VEVENT
DTSTART;TZID=Europe/Brussels:20221122T103000
DTEND;TZID=Europe/Brussels:20221122T110000
DTSTAMP:20260419T193544
CREATED:20221118T224945Z
LAST-MODIFIED:20221118T225644Z
UID:39774-1669113000-1669114800@www.iratxegarcia.es
SUMMARY:Meeting with Pascal Durand
DESCRIPTION:Meeting with Pascal Durand
URL:https://www.iratxegarcia.es/evento/meeting-with-pascal-durand/
LOCATION:Sede Parlamento Europeo en Estrasburgo\, Estrasburgo
ATTACH;FMTTYPE=image/jpeg:https://www.iratxegarcia.es/wp-content/uploads/2022/11/Pascal-Durand.jpg
END:VEVENT
BEGIN:VEVENT
DTSTART;TZID=Europe/Brussels:20221122T113000
DTEND;TZID=Europe/Brussels:20221122T123000
DTSTAMP:20260419T193544
CREATED:20221118T224709Z
LAST-MODIFIED:20221118T224709Z
UID:39772-1669116600-1669120200@www.iratxegarcia.es
SUMMARY:Pleno - Ceremony of the 70th anniversary of the European  Parliament
DESCRIPTION:Pleno – Ceremony of the 70th anniversary of the European Parliament
URL:https://www.iratxegarcia.es/evento/pleno-ceremony-of-the-70th-anniversary-of-the-european-parliament/
LOCATION:Sede Parlamento Europeo en Estrasburgo\, Estrasburgo
END:VEVENT
END:VCALENDAR