BEGIN:VCALENDAR
VERSION:2.0
PRODID:-//Iratxe García Pérez - ECPv6.15.20//NONSGML v1.0//EN
CALSCALE:GREGORIAN
METHOD:PUBLISH
X-WR-CALNAME:Iratxe García Pérez
X-ORIGINAL-URL:https://www.iratxegarcia.es
X-WR-CALDESC:Eventos para Iratxe García Pérez
REFRESH-INTERVAL;VALUE=DURATION:PT1H
X-Robots-Tag:noindex
X-PUBLISHED-TTL:PT1H
BEGIN:VTIMEZONE
TZID:Europe/Brussels
BEGIN:DAYLIGHT
TZOFFSETFROM:+0100
TZOFFSETTO:+0200
TZNAME:CEST
DTSTART:20210328T010000
END:DAYLIGHT
BEGIN:STANDARD
TZOFFSETFROM:+0200
TZOFFSETTO:+0100
TZNAME:CET
DTSTART:20211031T010000
END:STANDARD
BEGIN:DAYLIGHT
TZOFFSETFROM:+0100
TZOFFSETTO:+0200
TZNAME:CEST
DTSTART:20220327T010000
END:DAYLIGHT
BEGIN:STANDARD
TZOFFSETFROM:+0200
TZOFFSETTO:+0100
TZNAME:CET
DTSTART:20221030T010000
END:STANDARD
BEGIN:DAYLIGHT
TZOFFSETFROM:+0100
TZOFFSETTO:+0200
TZNAME:CEST
DTSTART:20230326T010000
END:DAYLIGHT
BEGIN:STANDARD
TZOFFSETFROM:+0200
TZOFFSETTO:+0100
TZNAME:CET
DTSTART:20231029T010000
END:STANDARD
END:VTIMEZONE
BEGIN:VEVENT
DTSTART;TZID=Europe/Brussels:20221201T113000
DTEND;TZID=Europe/Brussels:20221201T120000
DTSTAMP:20260421T170923
CREATED:20221128T164833Z
LAST-MODIFIED:20221128T164833Z
UID:39811-1669894200-1669896000@www.iratxegarcia.es
SUMMARY:Bilateral with Felix Garcia
DESCRIPTION:Bilateral with Felix Garcia
URL:https://www.iratxegarcia.es/evento/bilateral-with-felix-garcia/
LOCATION:Sede del Parlamento Europeo\, Place du Luxembourg 100\, 1050\, Bruxelles\, Bélgica\, Bélgica
END:VEVENT
BEGIN:VEVENT
DTSTART;TZID=Europe/Brussels:20221201T123000
DTEND;TZID=Europe/Brussels:20221201T130000
DTSTAMP:20260421T170923
CREATED:20221128T164926Z
LAST-MODIFIED:20221128T164926Z
UID:39813-1669897800-1669899600@www.iratxegarcia.es
SUMMARY:Visita del Grupo IES Virgen de la Calle
DESCRIPTION:Visita del Grupo IES Virgen de la Calle
URL:https://www.iratxegarcia.es/evento/visita-del-grupo-ies-virgen-de-la-calle/
LOCATION:Sede del Parlamento Europeo\, Place du Luxembourg 100\, 1050\, Bruxelles\, Bélgica\, Bélgica
END:VEVENT
BEGIN:VEVENT
DTSTART;VALUE=DATE:20221205
DTEND;VALUE=DATE:20221209
DTSTAMP:20260421T170923
CREATED:20221205T175419Z
LAST-MODIFIED:20221205T175419Z
UID:39834-1670198400-1670543999@www.iratxegarcia.es
SUMMARY:S&D Group meeting in Viena\, Austria
DESCRIPTION:S&D Group meeting in Viena\, Austria
URL:https://www.iratxegarcia.es/evento/sd-group-meeting-in-viena-austria/
LOCATION:Viena
END:VEVENT
BEGIN:VEVENT
DTSTART;TZID=Europe/Brussels:20221205T190000
DTEND;TZID=Europe/Brussels:20221205T213000
DTSTAMP:20260421T170923
CREATED:20221205T180053Z
LAST-MODIFIED:20221205T180053Z
UID:39837-1670266800-1670275800@www.iratxegarcia.es
SUMMARY:S&D Bureau and HoDs
DESCRIPTION:S&D Bureau and HoDs
URL:https://www.iratxegarcia.es/evento/sd-bureau-and-hods/
LOCATION:Viena
END:VEVENT
BEGIN:VEVENT
DTSTART;TZID=Europe/Brussels:20221206T100000
DTEND;TZID=Europe/Brussels:20221206T100000
DTSTAMP:20260421T170923
CREATED:20221205T190201Z
LAST-MODIFIED:20221205T190201Z
UID:39839-1670320800-1670320800@www.iratxegarcia.es
SUMMARY:City of Vienna as best practice example on combatting violence against women
DESCRIPTION:City of Vienna as best practice example on combatting violence against women
URL:https://www.iratxegarcia.es/evento/city-of-vienna-as-best-practice-example-on-combatting-violence-against-women/
LOCATION:Viena
END:VEVENT
BEGIN:VEVENT
DTSTART;TZID=Europe/Brussels:20221206T140000
DTEND;TZID=Europe/Brussels:20221206T150000
DTSTAMP:20260421T170923
CREATED:20221206T234914Z
LAST-MODIFIED:20221206T234914Z
UID:39846-1670335200-1670338800@www.iratxegarcia.es
SUMMARY:Cabinet meeting
DESCRIPTION:Cabinet meeting
URL:https://www.iratxegarcia.es/evento/cabinet-meeting-64/
LOCATION:Viena
END:VEVENT
BEGIN:VEVENT
DTSTART;TZID=Europe/Brussels:20221206T163000
DTEND;TZID=Europe/Brussels:20221206T180000
DTSTAMP:20260421T170923
CREATED:20221206T234752Z
LAST-MODIFIED:20221206T234752Z
UID:39844-1670344200-1670349600@www.iratxegarcia.es
SUMMARY:Group meeting
DESCRIPTION:Group meeting
URL:https://www.iratxegarcia.es/evento/group-meeting-8/
LOCATION:Viena
END:VEVENT
BEGIN:VEVENT
DTSTART;TZID=Europe/Brussels:20221206T183000
DTEND;TZID=Europe/Brussels:20221206T200000
DTSTAMP:20260421T170923
CREATED:20221206T235219Z
LAST-MODIFIED:20221206T235219Z
UID:39848-1670351400-1670356800@www.iratxegarcia.es
SUMMARY:Event S&D on LGTBIQ+ rights
DESCRIPTION:Event S&D on LGTBIQ+ rights
URL:https://www.iratxegarcia.es/evento/event-sd-on-lgtbiq-rights/
LOCATION:Viena
END:VEVENT
BEGIN:VEVENT
DTSTART;TZID=Europe/Brussels:20221207T090000
DTEND;TZID=Europe/Brussels:20221207T120000
DTSTAMP:20260421T170923
CREATED:20221206T235603Z
LAST-MODIFIED:20221206T235603Z
UID:39850-1670403600-1670414400@www.iratxegarcia.es
SUMMARY:Group Meeting with SPÖ Party Leader\, Pamela Rendi-Wagner
DESCRIPTION:Group Meeting with SPÖ Party Leader\, Pamela Rendi-Wagner
URL:https://www.iratxegarcia.es/evento/group-meeting-with-spo-party-leader-pamela-rendi-wagner/
LOCATION:Viena
ATTACH;FMTTYPE=image/jpeg:https://www.iratxegarcia.es/wp-content/uploads/2022/12/Rendi-Wagner-scaled.jpg
END:VEVENT
BEGIN:VEVENT
DTSTART;TZID=Europe/Brussels:20221207T120000
DTEND;TZID=Europe/Brussels:20221207T123000
DTSTAMP:20260421T170923
CREATED:20221206T235827Z
LAST-MODIFIED:20221206T235827Z
UID:39853-1670414400-1670416200@www.iratxegarcia.es
SUMMARY:Press conference with SPÖ Party Leader\, Pamela Rendi-Wagner
DESCRIPTION:Press conference with SPÖ Party Leader\, Pamela Rendi-Wagner
URL:https://www.iratxegarcia.es/evento/press-conference-with-spo-party-leader-pamela-rendi-wagner/
LOCATION:Viena
END:VEVENT
BEGIN:VEVENT
DTSTART;TZID=Europe/Brussels:20221207T140000
DTEND;TZID=Europe/Brussels:20221207T143000
DTSTAMP:20260421T170923
CREATED:20221206T235946Z
LAST-MODIFIED:20221206T235946Z
UID:39855-1670421600-1670423400@www.iratxegarcia.es
SUMMARY:Meeting with Austrian Students
DESCRIPTION:Meeting with Austrian Students
URL:https://www.iratxegarcia.es/evento/meeting-with-austrian-students/
LOCATION:Viena
END:VEVENT
BEGIN:VEVENT
DTSTART;TZID=Europe/Brussels:20221207T163000
DTEND;TZID=Europe/Brussels:20221207T180000
DTSTAMP:20260421T170923
CREATED:20221207T000210Z
LAST-MODIFIED:20221207T000210Z
UID:39857-1670430600-1670436000@www.iratxegarcia.es
SUMMARY:Group Meeting Thematic Debate “Bring the bills down”; Discussion should cover raising energy prices"
DESCRIPTION:Group Meeting Thematic Debate “Bring the bills down”; Discussion should cover raising energy prices»
URL:https://www.iratxegarcia.es/evento/group-meeting-thematic-debate-bring-the-bills-down-discussion-should-cover-raising-energy-prices/
LOCATION:Viena
END:VEVENT
BEGIN:VEVENT
DTSTART;TZID=Europe/Brussels:20221207T190000
DTEND;TZID=Europe/Brussels:20221207T210000
DTSTAMP:20260421T170923
CREATED:20221207T000550Z
LAST-MODIFIED:20221207T000550Z
UID:39859-1670439600-1670446800@www.iratxegarcia.es
SUMMARY:Meeting with Major of Vienna\, Michael Ludwig
DESCRIPTION:Meeting with Major of Vienna\, Michael Ludwig
URL:https://www.iratxegarcia.es/evento/meeting-with-major-of-vienna-michael-ludwig/
LOCATION:Viena
ATTACH;FMTTYPE=image/jpeg:https://www.iratxegarcia.es/wp-content/uploads/2022/12/Michael-Ludwig.jpg
END:VEVENT
BEGIN:VEVENT
DTSTART;TZID=Europe/Brussels:20221208T090000
DTEND;TZID=Europe/Brussels:20221208T100000
DTSTAMP:20260421T170923
CREATED:20221207T000828Z
LAST-MODIFIED:20221207T000828Z
UID:39862-1670490000-1670493600@www.iratxegarcia.es
SUMMARY:Western Balkans Summit
DESCRIPTION:Western Balkans Summit
URL:https://www.iratxegarcia.es/evento/western-balkans-summit-2/
LOCATION:Viena
END:VEVENT
BEGIN:VEVENT
DTSTART;TZID=Europe/Brussels:20221208T100000
DTEND;TZID=Europe/Brussels:20221208T120000
DTSTAMP:20260421T170923
CREATED:20221207T000924Z
LAST-MODIFIED:20221207T000924Z
UID:39864-1670493600-1670500800@www.iratxegarcia.es
SUMMARY:CoP meeting
DESCRIPTION:CoP meeting
URL:https://www.iratxegarcia.es/evento/cop-meeting-39/
LOCATION:Viena
END:VEVENT
BEGIN:VEVENT
DTSTART;TZID=Europe/Brussels:20221208T103000
DTEND;TZID=Europe/Brussels:20221208T110000
DTSTAMP:20260421T170923
CREATED:20221207T001206Z
LAST-MODIFIED:20221207T001206Z
UID:39866-1670495400-1670497200@www.iratxegarcia.es
SUMMARY:Remarks from party group leaders
DESCRIPTION:Remarks from party group leaders
URL:https://www.iratxegarcia.es/evento/remarks-from-party-group-leaders/
LOCATION:Viena
END:VEVENT
BEGIN:VEVENT
DTSTART;TZID=Europe/Brussels:20221208T110000
DTEND;TZID=Europe/Brussels:20221208T113000
DTSTAMP:20260421T170923
CREATED:20221207T001456Z
LAST-MODIFIED:20221207T001456Z
UID:39868-1670497200-1670499000@www.iratxegarcia.es
SUMMARY:S&D Foreing Affairs Coordinator Mr. Tonino
DESCRIPTION:S&D Foreing Affairs Coordinator Mr. Tonino
URL:https://www.iratxegarcia.es/evento/sd-foreing-affairs-coordinator-mr-tonino/
LOCATION:Viena
END:VEVENT
BEGIN:VEVENT
DTSTART;VALUE=DATE:20221212
DTEND;VALUE=DATE:20221215
DTSTAMP:20260421T170923
CREATED:20221210T192924Z
LAST-MODIFIED:20221210T193347Z
UID:39871-1670803200-1671062399@www.iratxegarcia.es
SUMMARY:Sesión Plenaria en Estrasburgo
DESCRIPTION:Sesión Plenaria en Estrasburgo
URL:https://www.iratxegarcia.es/evento/sesion-plenaria-en-estrasburgo-5/
LOCATION:Sede Parlamento Europeo en Estrasburgo\, Estrasburgo
END:VEVENT
BEGIN:VEVENT
DTSTART;TZID=Europe/Brussels:20221212T160000
DTEND;TZID=Europe/Brussels:20221212T170000
DTSTAMP:20260421T170923
CREATED:20221210T195315Z
LAST-MODIFIED:20221210T195315Z
UID:39898-1670860800-1670864400@www.iratxegarcia.es
SUMMARY:Group meeting
DESCRIPTION:Group meeting
URL:https://www.iratxegarcia.es/evento/group-meeting-10/
LOCATION:Sede Parlamento Europeo en Estrasburgo\, Estrasburgo
END:VEVENT
BEGIN:VEVENT
DTSTART;TZID=Europe/Brussels:20221212T170000
DTEND;TZID=Europe/Brussels:20221212T173000
DTSTAMP:20260421T170923
CREATED:20221210T195211Z
LAST-MODIFIED:20221210T195211Z
UID:39896-1670864400-1670866200@www.iratxegarcia.es
SUMMARY:Apertura Sesión Plenaria Parlamento Europeo
DESCRIPTION:Apertura Sesión Plenaria Parlamento Europeo
URL:https://www.iratxegarcia.es/evento/apertura-sesion-plenaria-parlamento-europeo-3/
LOCATION:Sede Parlamento Europeo en Estrasburgo\, Estrasburgo
END:VEVENT
BEGIN:VEVENT
DTSTART;TZID=Europe/Brussels:20221213T083000
DTEND;TZID=Europe/Brussels:20221213T093000
DTSTAMP:20260421T170923
CREATED:20221210T200055Z
LAST-MODIFIED:20221210T200055Z
UID:39908-1670920200-1670923800@www.iratxegarcia.es
SUMMARY:PES GAC Ministers meeting
DESCRIPTION:PES GAC Ministers meeting
URL:https://www.iratxegarcia.es/evento/pes-gac-ministers-meeting-5/
LOCATION:Sede Parlamento Europeo en Estrasburgo\, Estrasburgo
END:VEVENT
BEGIN:VEVENT
DTSTART;TZID=Europe/Brussels:20221213T100000
DTEND;TZID=Europe/Brussels:20221213T103000
DTSTAMP:20260421T170923
CREATED:20221210T195928Z
LAST-MODIFIED:20221210T195928Z
UID:39906-1670925600-1670927400@www.iratxegarcia.es
SUMMARY:Press conference
DESCRIPTION:Press conference
URL:https://www.iratxegarcia.es/evento/press-conference-18/
LOCATION:Sede Parlamento Europeo en Estrasburgo\, Estrasburgo
END:VEVENT
BEGIN:VEVENT
DTSTART;TZID=Europe/Brussels:20221213T103000
DTEND;TZID=Europe/Brussels:20221213T120000
DTSTAMP:20260421T170923
CREATED:20221210T195804Z
LAST-MODIFIED:20221210T195804Z
UID:39904-1670927400-1670932800@www.iratxegarcia.es
SUMMARY:PLENO - This is Europe - Debate with the Prime Minister of Slovenia\, Robert Golob
DESCRIPTION:PLENO – This is Europe – Debate with the Prime Minister of Slovenia\, Robert Golob
URL:https://www.iratxegarcia.es/evento/pleno-this-is-europe-debate-with-the-prime-minister-of-slovenia-robert-golob/
LOCATION:Sede Parlamento Europeo en Estrasburgo\, Estrasburgo
END:VEVENT
BEGIN:VEVENT
DTSTART;TZID=Europe/Brussels:20221213T120000
DTEND;TZID=Europe/Brussels:20221213T130000
DTSTAMP:20260421T170923
CREATED:20221210T194531Z
LAST-MODIFIED:20221210T194531Z
UID:39892-1670932800-1670936400@www.iratxegarcia.es
SUMMARY:Voting session\, in Strasbourg
DESCRIPTION:Voting session\, in Strasbourg
URL:https://www.iratxegarcia.es/evento/voting-session-in-strasbourg-21/
LOCATION:Sede Parlamento Europeo en Estrasburgo\, Estrasburgo
END:VEVENT
BEGIN:VEVENT
DTSTART;TZID=Europe/Brussels:20221213T130000
DTEND;TZID=Europe/Brussels:20221213T140000
DTSTAMP:20260421T170923
CREATED:20221210T195504Z
LAST-MODIFIED:20221210T195504Z
UID:39900-1670936400-1670940000@www.iratxegarcia.es
SUMMARY:Sakharov Prize - meeting with Ukrainian
DESCRIPTION:Sakharov Prize – meeting with Ukrainian
URL:https://www.iratxegarcia.es/evento/sakharov-prize-meeting-with-ukrainian/
LOCATION:Sede Parlamento Europeo en Estrasburgo\, Estrasburgo
END:VEVENT
BEGIN:VEVENT
DTSTART;TZID=Europe/Brussels:20221213T180000
DTEND;TZID=Europe/Brussels:20221213T203000
DTSTAMP:20260421T170923
CREATED:20221210T195625Z
LAST-MODIFIED:20221210T195625Z
UID:39902-1670954400-1670963400@www.iratxegarcia.es
SUMMARY:Group meeting
DESCRIPTION:Group meeting
URL:https://www.iratxegarcia.es/evento/group-meeting-11/
LOCATION:Sede Parlamento Europeo en Estrasburgo\, Estrasburgo
END:VEVENT
BEGIN:VEVENT
DTSTART;TZID=Europe/Brussels:20221213T190000
DTEND;TZID=Europe/Brussels:20221213T193000
DTSTAMP:20260421T170923
CREATED:20221210T195101Z
LAST-MODIFIED:20221210T195101Z
UID:39894-1670958000-1670959800@www.iratxegarcia.es
SUMMARY:Meeting with Meeting President Metsola
DESCRIPTION:Meeting with Meeting President Metsola
URL:https://www.iratxegarcia.es/evento/meeting-with-meeting-president-metsola/
LOCATION:Sede Parlamento Europeo en Estrasburgo\, Estrasburgo
ATTACH;FMTTYPE=image/jpeg:https://www.iratxegarcia.es/wp-content/uploads/2022/01/Metsola.jpg
END:VEVENT
BEGIN:VEVENT
DTSTART;TZID=Europe/Brussels:20221214T090000
DTEND;TZID=Europe/Brussels:20221214T120000
DTSTAMP:20260421T170923
CREATED:20221210T193803Z
LAST-MODIFIED:20221210T193803Z
UID:39880-1671008400-1671019200@www.iratxegarcia.es
SUMMARY:PLENO - KEY DEBATE Council and Commission statements - Preparation of the European Council meeting of 15-16
DESCRIPTION:PLENO – KEY DEBATE Council and Commission statements – Preparation of the European Council meeting of 15-16
URL:https://www.iratxegarcia.es/evento/pleno-key-debate-council-and-commission-statements-preparation-of-the-european-council-meeting-of-15-16/
LOCATION:Sede Parlamento Europeo en Estrasburgo\, Estrasburgo
END:VEVENT
BEGIN:VEVENT
DTSTART;TZID=Europe/Brussels:20221214T100000
DTEND;TZID=Europe/Brussels:20221214T103000
DTSTAMP:20260421T170923
CREATED:20221210T193912Z
LAST-MODIFIED:20221210T193912Z
UID:39882-1671012000-1671013800@www.iratxegarcia.es
SUMMARY:Cabinet meeting
DESCRIPTION:Cabinet meeting
URL:https://www.iratxegarcia.es/evento/cabinet-meeting-65/
LOCATION:Sede Parlamento Europeo en Estrasburgo\, Estrasburgo
END:VEVENT
BEGIN:VEVENT
DTSTART;TZID=Europe/Brussels:20221214T120000
DTEND;TZID=Europe/Brussels:20221214T123000
DTSTAMP:20260421T170923
CREATED:20221210T194255Z
LAST-MODIFIED:20221210T194255Z
UID:39888-1671019200-1671021000@www.iratxegarcia.es
SUMMARY:PLENO - Award of the Shakharov prize
DESCRIPTION:PLENO – Award of the Shakharov prize
URL:https://www.iratxegarcia.es/evento/pleno-award-of-the-shakharov-prize/
LOCATION:Sede Parlamento Europeo en Estrasburgo\, Estrasburgo
END:VEVENT
END:VCALENDAR