BEGIN:VCALENDAR
VERSION:2.0
PRODID:-//Iratxe García Pérez - ECPv6.15.20//NONSGML v1.0//EN
CALSCALE:GREGORIAN
METHOD:PUBLISH
X-WR-CALNAME:Iratxe García Pérez
X-ORIGINAL-URL:https://www.iratxegarcia.es
X-WR-CALDESC:Eventos para Iratxe García Pérez
REFRESH-INTERVAL;VALUE=DURATION:PT1H
X-Robots-Tag:noindex
X-PUBLISHED-TTL:PT1H
BEGIN:VTIMEZONE
TZID:Europe/Brussels
BEGIN:DAYLIGHT
TZOFFSETFROM:+0100
TZOFFSETTO:+0200
TZNAME:CEST
DTSTART:20240331T010000
END:DAYLIGHT
BEGIN:STANDARD
TZOFFSETFROM:+0200
TZOFFSETTO:+0100
TZNAME:CET
DTSTART:20241027T010000
END:STANDARD
BEGIN:DAYLIGHT
TZOFFSETFROM:+0100
TZOFFSETTO:+0200
TZNAME:CEST
DTSTART:20250330T010000
END:DAYLIGHT
BEGIN:STANDARD
TZOFFSETFROM:+0200
TZOFFSETTO:+0100
TZNAME:CET
DTSTART:20251026T010000
END:STANDARD
BEGIN:DAYLIGHT
TZOFFSETFROM:+0100
TZOFFSETTO:+0200
TZNAME:CEST
DTSTART:20260329T010000
END:DAYLIGHT
BEGIN:STANDARD
TZOFFSETFROM:+0200
TZOFFSETTO:+0100
TZNAME:CET
DTSTART:20261025T010000
END:STANDARD
END:VTIMEZONE
BEGIN:VEVENT
DTSTART;TZID=Europe/Brussels:20251028T213000
DTEND;TZID=Europe/Brussels:20251028T230000
DTSTAMP:20260421T134849
CREATED:20251027T154920Z
LAST-MODIFIED:20251027T155056Z
UID:45501-1761687000-1761692400@www.iratxegarcia.es
SUMMARY:Encuentro de trabajo con los líderes del partido Siumut
DESCRIPTION:Encuentro de trabajo con los líderes del partido Siumut
URL:https://www.iratxegarcia.es/evento/encuentro-de-trabajo-con-los-lideres-siumut/
LOCATION:Nuuk\, Nuuk\, Groenlandia\, Denmark
ATTACH;FMTTYPE=image/png:https://www.iratxegarcia.es/wp-content/uploads/2025/10/Siumut.png
END:VEVENT
END:VCALENDAR