BEGIN:VCALENDAR
VERSION:2.0
PRODID:-//Iratxe García Pérez - ECPv6.15.20//NONSGML v1.0//EN
CALSCALE:GREGORIAN
METHOD:PUBLISH
X-WR-CALNAME:Iratxe García Pérez
X-ORIGINAL-URL:https://www.iratxegarcia.es
X-WR-CALDESC:Eventos para Iratxe García Pérez
REFRESH-INTERVAL;VALUE=DURATION:PT1H
X-Robots-Tag:noindex
X-PUBLISHED-TTL:PT1H
BEGIN:VTIMEZONE
TZID:Europe/Brussels
BEGIN:DAYLIGHT
TZOFFSETFROM:+0100
TZOFFSETTO:+0200
TZNAME:CEST
DTSTART:20250330T010000
END:DAYLIGHT
BEGIN:STANDARD
TZOFFSETFROM:+0200
TZOFFSETTO:+0100
TZNAME:CET
DTSTART:20251026T010000
END:STANDARD
BEGIN:DAYLIGHT
TZOFFSETFROM:+0100
TZOFFSETTO:+0200
TZNAME:CEST
DTSTART:20260329T010000
END:DAYLIGHT
BEGIN:STANDARD
TZOFFSETFROM:+0200
TZOFFSETTO:+0100
TZNAME:CET
DTSTART:20261025T010000
END:STANDARD
BEGIN:DAYLIGHT
TZOFFSETFROM:+0100
TZOFFSETTO:+0200
TZNAME:CEST
DTSTART:20270328T010000
END:DAYLIGHT
BEGIN:STANDARD
TZOFFSETFROM:+0200
TZOFFSETTO:+0100
TZNAME:CET
DTSTART:20271031T010000
END:STANDARD
END:VTIMEZONE
BEGIN:VEVENT
DTSTART;TZID=Europe/Brussels:20260108T101500
DTEND;TZID=Europe/Brussels:20260108T123000
DTSTAMP:20260422T111706
CREATED:20260108T080237Z
LAST-MODIFIED:20260108T080237Z
UID:45944-1767867300-1767875400@www.iratxegarcia.es
SUMMARY:Reunión de trabajo con Cáritas\, Cruz Roja\, ONCE y la Fundación del Secretariado Gitano
DESCRIPTION:Reunión de trabajo con Cáritas\, Cruz Roja\, ONCE y la Fundación del Secretariado Gitano para analizar el Marco Financiero Plurianual\, la nueva financiación de la Política Agraria Común (PAC)\, el Programa LIFE y las nuevas estructuras del presupuesto europeo.
URL:https://www.iratxegarcia.es/evento/reunion-de-trabajo-con-caritas-cruz-roja-once-y-la-fundacion-del-secretariado-gitano/
LOCATION:Sede PSOE\, Calle Ferraz 70\, Madrid\, España\, España
END:VEVENT
END:VCALENDAR