BEGIN:VCALENDAR
VERSION:2.0
PRODID:-//Iratxe García Pérez - ECPv6.15.20//NONSGML v1.0//EN
CALSCALE:GREGORIAN
METHOD:PUBLISH
X-ORIGINAL-URL:https://www.iratxegarcia.es
X-WR-CALDESC:Eventos para Iratxe García Pérez
REFRESH-INTERVAL;VALUE=DURATION:PT1H
X-Robots-Tag:noindex
X-PUBLISHED-TTL:PT1H
BEGIN:VTIMEZONE
TZID:Europe/Madrid
BEGIN:DAYLIGHT
TZOFFSETFROM:+0100
TZOFFSETTO:+0200
TZNAME:CEST
DTSTART:20180325T010000
END:DAYLIGHT
BEGIN:STANDARD
TZOFFSETFROM:+0200
TZOFFSETTO:+0100
TZNAME:CET
DTSTART:20181028T010000
END:STANDARD
BEGIN:DAYLIGHT
TZOFFSETFROM:+0100
TZOFFSETTO:+0200
TZNAME:CEST
DTSTART:20190331T010000
END:DAYLIGHT
BEGIN:STANDARD
TZOFFSETFROM:+0200
TZOFFSETTO:+0100
TZNAME:CET
DTSTART:20191027T010000
END:STANDARD
BEGIN:DAYLIGHT
TZOFFSETFROM:+0100
TZOFFSETTO:+0200
TZNAME:CEST
DTSTART:20200329T010000
END:DAYLIGHT
BEGIN:STANDARD
TZOFFSETFROM:+0200
TZOFFSETTO:+0100
TZNAME:CET
DTSTART:20201025T010000
END:STANDARD
BEGIN:DAYLIGHT
TZOFFSETFROM:+0100
TZOFFSETTO:+0200
TZNAME:CEST
DTSTART:20210328T010000
END:DAYLIGHT
BEGIN:STANDARD
TZOFFSETFROM:+0200
TZOFFSETTO:+0100
TZNAME:CET
DTSTART:20211031T010000
END:STANDARD
END:VTIMEZONE
BEGIN:VEVENT
DTSTART;TZID=Europe/Madrid:20200211T100000
DTEND;TZID=Europe/Madrid:20200211T103000
DTSTAMP:20260425T123151
CREATED:20200211T091952Z
LAST-MODIFIED:20200211T091952Z
UID:30496-1581415200-1581417000@www.iratxegarcia.es
SUMMARY:Press Conference
DESCRIPTION:Press Conference
URL:https://www.iratxegarcia.es/evento/press-conference-3/
END:VEVENT
BEGIN:VEVENT
DTSTART;TZID=Europe/Madrid:20200211T083000
DTEND;TZID=Europe/Madrid:20200211T090000
DTSTAMP:20260425T123151
CREATED:20200211T091916Z
LAST-MODIFIED:20200211T091916Z
UID:30494-1581409800-1581411600@www.iratxegarcia.es
SUMMARY:Preparación conferencia de prensa
DESCRIPTION:Preparación conferencia de prensa
URL:https://www.iratxegarcia.es/evento/preparacion-conferencia-de-prensa/
END:VEVENT
BEGIN:VEVENT
DTSTART;TZID=Europe/Madrid:20200114T100000
DTEND;TZID=Europe/Madrid:20200114T103000
DTSTAMP:20260425T123151
CREATED:20200113T164148Z
LAST-MODIFIED:20200113T164148Z
UID:30283-1578996000-1578997800@www.iratxegarcia.es
SUMMARY:Press Conference
DESCRIPTION:Press Conference
URL:https://www.iratxegarcia.es/evento/press-conference-2/
END:VEVENT
BEGIN:VEVENT
DTSTART;TZID=Europe/Madrid:20191217T100000
DTEND;TZID=Europe/Madrid:20191217T103000
DTSTAMP:20260425T123151
CREATED:20191218T174625Z
LAST-MODIFIED:20191218T174625Z
UID:30196-1576576800-1576578600@www.iratxegarcia.es
SUMMARY:Press Conference
DESCRIPTION:Press Conference
URL:https://www.iratxegarcia.es/evento/press-conference/
END:VEVENT
END:VCALENDAR