BEGIN:VCALENDAR
VERSION:2.0
PRODID:-//Iratxe García Pérez - ECPv6.15.20//NONSGML v1.0//EN
CALSCALE:GREGORIAN
METHOD:PUBLISH
X-ORIGINAL-URL:https://www.iratxegarcia.es
X-WR-CALDESC:Eventos para Iratxe García Pérez
REFRESH-INTERVAL;VALUE=DURATION:PT1H
X-Robots-Tag:noindex
X-PUBLISHED-TTL:PT1H
BEGIN:VTIMEZONE
TZID:Europe/Brussels
BEGIN:DAYLIGHT
TZOFFSETFROM:+0100
TZOFFSETTO:+0200
TZNAME:CEST
DTSTART:20250330T010000
END:DAYLIGHT
BEGIN:STANDARD
TZOFFSETFROM:+0200
TZOFFSETTO:+0100
TZNAME:CET
DTSTART:20251026T010000
END:STANDARD
BEGIN:DAYLIGHT
TZOFFSETFROM:+0100
TZOFFSETTO:+0200
TZNAME:CEST
DTSTART:20260329T010000
END:DAYLIGHT
BEGIN:STANDARD
TZOFFSETFROM:+0200
TZOFFSETTO:+0100
TZNAME:CET
DTSTART:20261025T010000
END:STANDARD
BEGIN:DAYLIGHT
TZOFFSETFROM:+0100
TZOFFSETTO:+0200
TZNAME:CEST
DTSTART:20270328T010000
END:DAYLIGHT
BEGIN:STANDARD
TZOFFSETFROM:+0200
TZOFFSETTO:+0100
TZNAME:CET
DTSTART:20271031T010000
END:STANDARD
END:VTIMEZONE
BEGIN:VEVENT
DTSTART;TZID=Europe/Brussels:20260220T100000
DTEND;TZID=Europe/Brussels:20260220T113000
DTSTAMP:20260419T195227
CREATED:20260216T112058Z
LAST-MODIFIED:20260216T112058Z
UID:46231-1771581600-1771587000@www.iratxegarcia.es
SUMMARY:Reunión con la Federación de Automovilismo de Castilla y León (FACyL)\, en Madrid
DESCRIPTION:Reunión de trabajo de Iratxe García Pérez y Nico González Casares\, reunión con la Federación de Automovilismo de Castilla y León (FACyL)\, en la sede del Parlamento Europeo en Madrid.
URL:https://www.iratxegarcia.es/evento/reunion-con-la-federacion-de-automovilismo-de-castilla-y-leon-facyl-en-madrid/
LOCATION:Oficina Parlamento Europeo en Madrid\, Paseo de la Castellana\, 46\, Madrid\, Madrid\, 28046\, España
ATTACH;FMTTYPE=image/webp:https://www.iratxegarcia.es/wp-content/uploads/2026/02/facyl_300pp_sin_foro.webp
END:VEVENT
END:VCALENDAR