BEGIN:VCALENDAR
VERSION:2.0
PRODID:-//Iratxe García Pérez - ECPv6.15.20//NONSGML v1.0//EN
CALSCALE:GREGORIAN
METHOD:PUBLISH
X-WR-CALNAME:Iratxe García Pérez
X-ORIGINAL-URL:https://www.iratxegarcia.es
X-WR-CALDESC:Eventos para Iratxe García Pérez
REFRESH-INTERVAL;VALUE=DURATION:PT1H
X-Robots-Tag:noindex
X-PUBLISHED-TTL:PT1H
BEGIN:VTIMEZONE
TZID:Europe/Brussels
BEGIN:DAYLIGHT
TZOFFSETFROM:+0100
TZOFFSETTO:+0200
TZNAME:CEST
DTSTART:20240331T010000
END:DAYLIGHT
BEGIN:STANDARD
TZOFFSETFROM:+0200
TZOFFSETTO:+0100
TZNAME:CET
DTSTART:20241027T010000
END:STANDARD
BEGIN:DAYLIGHT
TZOFFSETFROM:+0100
TZOFFSETTO:+0200
TZNAME:CEST
DTSTART:20250330T010000
END:DAYLIGHT
BEGIN:STANDARD
TZOFFSETFROM:+0200
TZOFFSETTO:+0100
TZNAME:CET
DTSTART:20251026T010000
END:STANDARD
BEGIN:DAYLIGHT
TZOFFSETFROM:+0100
TZOFFSETTO:+0200
TZNAME:CEST
DTSTART:20260329T010000
END:DAYLIGHT
BEGIN:STANDARD
TZOFFSETFROM:+0200
TZOFFSETTO:+0100
TZNAME:CET
DTSTART:20261025T010000
END:STANDARD
END:VTIMEZONE
BEGIN:VEVENT
DTSTART;TZID=Europe/Brussels:20251028T200000
DTEND;TZID=Europe/Brussels:20251028T204500
DTSTAMP:20260424T122200
CREATED:20251027T154751Z
LAST-MODIFIED:20251027T154751Z
UID:45498-1761681600-1761684300@www.iratxegarcia.es
SUMMARY:Reunión con Naaja Nathanielsen\, ministra de Empresa\, Comercio\, Recursos Minerales\, Justicia e Igualdad de Género\, del Gobierno de Groenlandia
DESCRIPTION:Reunión con Naaja Nathanielsen\, ministra de Empresa\, Comercio\, Recursos Minerales\, Justicia e Igualdad de Género\, del Gobierno de Groenlandia
URL:https://www.iratxegarcia.es/evento/reunion-con-naaja-nathanielsen-ministra-de-empresa-comercio-recursos-minerales-justicia-e-igualdad-de-genero-del-gobierno-de-groenlandia/
LOCATION:Nuuk\, Nuuk\, Groenlandia\, Denmark
ATTACH;FMTTYPE=image/jpeg:https://www.iratxegarcia.es/wp-content/uploads/2025/10/Naaja-Nathanielsen.jpg
END:VEVENT
END:VCALENDAR