BEGIN:VCALENDAR
VERSION:2.0
PRODID:-//Iratxe García Pérez - ECPv6.15.20//NONSGML v1.0//EN
CALSCALE:GREGORIAN
METHOD:PUBLISH
X-ORIGINAL-URL:https://www.iratxegarcia.es
X-WR-CALDESC:Eventos para Iratxe García Pérez
REFRESH-INTERVAL;VALUE=DURATION:PT1H
X-Robots-Tag:noindex
X-PUBLISHED-TTL:PT1H
BEGIN:VTIMEZONE
TZID:Europe/Brussels
BEGIN:DAYLIGHT
TZOFFSETFROM:+0100
TZOFFSETTO:+0200
TZNAME:CEST
DTSTART:20250330T010000
END:DAYLIGHT
BEGIN:STANDARD
TZOFFSETFROM:+0200
TZOFFSETTO:+0100
TZNAME:CET
DTSTART:20251026T010000
END:STANDARD
BEGIN:DAYLIGHT
TZOFFSETFROM:+0100
TZOFFSETTO:+0200
TZNAME:CEST
DTSTART:20260329T010000
END:DAYLIGHT
BEGIN:STANDARD
TZOFFSETFROM:+0200
TZOFFSETTO:+0100
TZNAME:CET
DTSTART:20261025T010000
END:STANDARD
BEGIN:DAYLIGHT
TZOFFSETFROM:+0100
TZOFFSETTO:+0200
TZNAME:CEST
DTSTART:20270328T010000
END:DAYLIGHT
BEGIN:STANDARD
TZOFFSETFROM:+0200
TZOFFSETTO:+0100
TZNAME:CET
DTSTART:20271031T010000
END:STANDARD
END:VTIMEZONE
BEGIN:VEVENT
DTSTART;TZID=Europe/Brussels:20260309T160000
DTEND;TZID=Europe/Brussels:20260309T170000
DTSTAMP:20260421T165638
CREATED:20260309T170610Z
LAST-MODIFIED:20260309T170712Z
UID:46423-1773072000-1773075600@www.iratxegarcia.es
SUMMARY:S&D Group meeting
DESCRIPTION:S&D Group meeting
URL:https://www.iratxegarcia.es/evento/sd-group-meeting-62/
LOCATION:Sede Parlamento Europeo en Estrasburgo\, Estrasburgo
END:VEVENT
BEGIN:VEVENT
DTSTART;TZID=Europe/Brussels:20260311T181500
DTEND;TZID=Europe/Brussels:20260311T203000
DTSTAMP:20260421T165638
CREATED:20260312T093014Z
LAST-MODIFIED:20260312T093111Z
UID:46458-1773252900-1773261000@www.iratxegarcia.es
SUMMARY:S&D Group meeting
DESCRIPTION:S&D Group meeting
URL:https://www.iratxegarcia.es/evento/sd-group-meeting-63/
LOCATION:Sede Parlamento Europeo en Estrasburgo\, Estrasburgo
END:VEVENT
BEGIN:VEVENT
DTSTART;TZID=Europe/Brussels:20260318T123000
DTEND;TZID=Europe/Brussels:20260318T143000
DTSTAMP:20260421T165638
CREATED:20260317T173023Z
LAST-MODIFIED:20260317T173023Z
UID:46502-1773837000-1773844200@www.iratxegarcia.es
SUMMARY:S&D Group meeting
DESCRIPTION:S&D Group meeting
URL:https://www.iratxegarcia.es/evento/sd-group-meeting-64/
LOCATION:Sede del Parlamento Europeo\, Place du Luxembourg 100\, 1050\, Bruxelles\, Bélgica\, Bélgica
END:VEVENT
BEGIN:VEVENT
DTSTART;TZID=Europe/Brussels:20260325T100000
DTEND;TZID=Europe/Brussels:20260325T130000
DTSTAMP:20260421T165638
CREATED:20260323T151858Z
LAST-MODIFIED:20260323T152043Z
UID:46539-1774432800-1774443600@www.iratxegarcia.es
SUMMARY:S&D Group meeting
DESCRIPTION:S&D Group meeting
URL:https://www.iratxegarcia.es/evento/sd-group-meeting-65/
LOCATION:Sede del Parlamento Europeo\, Place du Luxembourg 100\, 1050\, Bruxelles\, Bélgica\, Bélgica
END:VEVENT
END:VCALENDAR