BEGIN:VCALENDAR
VERSION:2.0
PRODID:-//Iratxe García Pérez - ECPv6.15.20//NONSGML v1.0//EN
CALSCALE:GREGORIAN
METHOD:PUBLISH
X-ORIGINAL-URL:https://www.iratxegarcia.es
X-WR-CALDESC:Eventos para Iratxe García Pérez
REFRESH-INTERVAL;VALUE=DURATION:PT1H
X-Robots-Tag:noindex
X-PUBLISHED-TTL:PT1H
BEGIN:VTIMEZONE
TZID:Europe/Brussels
BEGIN:DAYLIGHT
TZOFFSETFROM:+0100
TZOFFSETTO:+0200
TZNAME:CEST
DTSTART:20230326T010000
END:DAYLIGHT
BEGIN:STANDARD
TZOFFSETFROM:+0200
TZOFFSETTO:+0100
TZNAME:CET
DTSTART:20231029T010000
END:STANDARD
BEGIN:DAYLIGHT
TZOFFSETFROM:+0100
TZOFFSETTO:+0200
TZNAME:CEST
DTSTART:20240331T010000
END:DAYLIGHT
BEGIN:STANDARD
TZOFFSETFROM:+0200
TZOFFSETTO:+0100
TZNAME:CET
DTSTART:20241027T010000
END:STANDARD
BEGIN:DAYLIGHT
TZOFFSETFROM:+0100
TZOFFSETTO:+0200
TZNAME:CEST
DTSTART:20250330T010000
END:DAYLIGHT
BEGIN:STANDARD
TZOFFSETFROM:+0200
TZOFFSETTO:+0100
TZNAME:CET
DTSTART:20251026T010000
END:STANDARD
END:VTIMEZONE
BEGIN:VEVENT
DTSTART;VALUE=DATE:20240524
DTEND;VALUE=DATE:20240608
DTSTAMP:20260420T234734
CREATED:20240503T072852Z
LAST-MODIFIED:20240527T142529Z
UID:42355-1716508800-1717804799@www.iratxegarcia.es
SUMMARY:Campaña Electoral de las "Elecciones Europeas 2024"
DESCRIPTION:Campaña Electoral de las «Elecciones Europeas 2024»
URL:https://www.iratxegarcia.es/evento/campana-electoral-de-las-elecciones-europeas-2024/
LOCATION:España
END:VEVENT
BEGIN:VEVENT
DTSTART;TZID=Europe/Brussels:20240601T113000
DTEND;TZID=Europe/Brussels:20240601T140000
DTSTAMP:20260420T234734
CREATED:20240524T071055Z
LAST-MODIFIED:20240524T071055Z
UID:42517-1717241400-1717250400@www.iratxegarcia.es
SUMMARY:Acto Público del PSOE\, con Pedro Sánchez\, Teresa Ribera\, Iratxe García\, Luis Tudanca y Oscar Puente\, en Valladolid
DESCRIPTION:Acto Público del PSOE\, con Pedro Sánchez\, Teresa Ribera\, Iratxe García\, Luis Tudanca y Oscar Puente\, en Valladolid
URL:https://www.iratxegarcia.es/evento/acto-publico-del-psoe-con-pedro-sanchez-teresa-ribera-iratxe-garcia-luis-tudanca-y-oscar-puente-en-valladolid/
LOCATION:Feria de Muestras de Valladolid\, Avenida Ramón Pradera 3\, Valladolid\, Valladolid\, 40009\, España
ATTACH;FMTTYPE=image/jpeg:https://www.iratxegarcia.es/wp-content/uploads/2024/05/WhatsApp-Image-2024-05-23-at-11.58.21.jpeg
END:VEVENT
BEGIN:VEVENT
DTSTART;TZID=Europe/Brussels:20240602T113000
DTEND;TZID=Europe/Brussels:20240602T133000
DTSTAMP:20260420T234734
CREATED:20240527T143347Z
LAST-MODIFIED:20240601T192714Z
UID:42580-1717327800-1717335000@www.iratxegarcia.es
SUMMARY:Acto Público en Ávila\, con Ana Sánchez y Jesús Caro
DESCRIPTION:Acto Público en Ávila\, con Ana Sánchez y Jesús Caro
URL:https://www.iratxegarcia.es/evento/acto-publico-en-avila-con-margarita-robles/
LOCATION:Ávila
ATTACH;FMTTYPE=image/jpeg:https://www.iratxegarcia.es/wp-content/uploads/2024/05/2024-05-24-Mas-Europa.jpg
END:VEVENT
BEGIN:VEVENT
DTSTART;TZID=Europe/Brussels:20240602T173000
DTEND;TZID=Europe/Brussels:20240602T200000
DTSTAMP:20260420T234734
CREATED:20240604T070933Z
LAST-MODIFIED:20240604T070933Z
UID:42708-1717349400-1717358400@www.iratxegarcia.es
SUMMARY:Jornada electoral en Laguna de Duero (Valladolid)
DESCRIPTION:Jornada electoral en Laguna de Duero (Valladolid)
URL:https://www.iratxegarcia.es/evento/jornada-electoral-en-laguna-de-duero-valladolid/
LOCATION:Laguna de Duero
ATTACH;FMTTYPE=image/jpeg:https://www.iratxegarcia.es/wp-content/uploads/2024/05/2024-05-24-Mas-Europa.jpg
END:VEVENT
BEGIN:VEVENT
DTSTART;TZID=Europe/Brussels:20240603T120000
DTEND;TZID=Europe/Brussels:20240603T130000
DTSTAMP:20260420T234734
CREATED:20240601T191548Z
LAST-MODIFIED:20240603T132554Z
UID:42663-1717416000-1717419600@www.iratxegarcia.es
SUMMARY:Diálogo con Joaquín Almunia
DESCRIPTION:Diálogo con Joaquín Almunia
URL:https://www.iratxegarcia.es/evento/dialogo-con-joaquin-almunia/
LOCATION:Sede PSOE\, Calle Ferraz 70\, Madrid\, España\, España
ATTACH;FMTTYPE=image/jpeg:https://www.iratxegarcia.es/wp-content/uploads/2024/06/Almunia.jpg
END:VEVENT
BEGIN:VEVENT
DTSTART;TZID=Europe/Brussels:20240603T130000
DTEND;TZID=Europe/Brussels:20240603T140000
DTSTAMP:20260420T234734
CREATED:20240601T192042Z
LAST-MODIFIED:20240601T192118Z
UID:42665-1717419600-1717423200@www.iratxegarcia.es
SUMMARY:Reunión con Stefan Löfven\, Presidente del Partido Socialista Europeo
DESCRIPTION:Reunión con Stefan Löfven\, Presidente del Partido Socialista Europeo
URL:https://www.iratxegarcia.es/evento/reunion-con-stefan-lofven-presidente-del-partido-socialista-europeo/
LOCATION:Sede PSOE\, Calle Ferraz 70\, Madrid\, España\, España
ATTACH;FMTTYPE=image/jpeg:https://www.iratxegarcia.es/wp-content/uploads/2024/06/Stefan-Lofven.jpg
END:VEVENT
BEGIN:VEVENT
DTSTART;TZID=Europe/Brussels:20240603T190000
DTEND;TZID=Europe/Brussels:20240603T203000
DTSTAMP:20260420T234734
CREATED:20240604T071254Z
LAST-MODIFIED:20240604T071329Z
UID:42710-1717441200-1717446600@www.iratxegarcia.es
SUMMARY:Acto regional de la Campaña 9J Elecciones Europeas PSOE en Castilla la Mancha
DESCRIPTION:Acto regional de la Campaña 9J Elecciones Europeas PSOE en Castilla la Mancha
URL:https://www.iratxegarcia.es/evento/acto-regional-de-la-campana-9j-elecciones-europeas-psoe-en-castilla-la-mancha/
LOCATION:Villanueva de los Infantes\, Alhóndiga\, Villanueva de los Infantes\, Ciudad Real\, España
ATTACH;FMTTYPE=image/jpeg:https://www.iratxegarcia.es/wp-content/uploads/2024/06/Acto-Castilla-la-Mancha.jpg
END:VEVENT
BEGIN:VEVENT
DTSTART;TZID=Europe/Brussels:20240604T100000
DTEND;TZID=Europe/Brussels:20240604T120000
DTSTAMP:20260420T234734
CREATED:20240601T192513Z
LAST-MODIFIED:20240604T084530Z
UID:42670-1717495200-1717502400@www.iratxegarcia.es
SUMMARY:Debate de Transparencia Internacional
DESCRIPTION:Debate de Transparencia Internacional
URL:https://www.iratxegarcia.es/evento/debate-de-transparencia-internacional/
LOCATION:Madrid
ATTACH;FMTTYPE=image/jpeg:https://www.iratxegarcia.es/wp-content/uploads/2024/06/2024-06-04-Iratxe-en-debate-Electoral.jpg
END:VEVENT
BEGIN:VEVENT
DTSTART;TZID=Europe/Brussels:20240604T193000
DTEND;TZID=Europe/Brussels:20240604T210000
DTSTAMP:20260420T234734
CREATED:20240601T193751Z
LAST-MODIFIED:20240604T084555Z
UID:42681-1717529400-1717534800@www.iratxegarcia.es
SUMMARY:Acto Público con el PSOE de Extremadura\, en Plasencia
DESCRIPTION:Acto Público con el PSOE de Extremadura\, en Plasencia
URL:https://www.iratxegarcia.es/evento/acto-publico-con-el-psoe-de-extremadura-en-plasencia/
LOCATION:Plasencia
ATTACH;FMTTYPE=image/jpeg:https://www.iratxegarcia.es/wp-content/uploads/2024/06/2024-06-04-Iratxe-en-Plasencia.jpg
END:VEVENT
BEGIN:VEVENT
DTSTART;TZID=Europe/Brussels:20240605T111500
DTEND;TZID=Europe/Brussels:20240605T130000
DTSTAMP:20260420T234734
CREATED:20240601T193950Z
LAST-MODIFIED:20240604T084703Z
UID:42684-1717586100-1717592400@www.iratxegarcia.es
SUMMARY:Diálogos sobre Medio Ambiente en La Granja (Segovia)
DESCRIPTION:Diálogos sobre Medio Ambiente en La Granja (Segovia)
URL:https://www.iratxegarcia.es/evento/visita-electoral-a-segovia/
LOCATION:Segovia
ATTACH;FMTTYPE=image/jpeg:https://www.iratxegarcia.es/wp-content/uploads/2024/06/2024-06-04-Iratxe-en-La-Granja-Segovia.jpg
END:VEVENT
BEGIN:VEVENT
DTSTART;TZID=Europe/Brussels:20240605T130000
DTEND;TZID=Europe/Brussels:20240605T160000
DTSTAMP:20260420T234734
CREATED:20240601T194310Z
LAST-MODIFIED:20240601T194310Z
UID:42686-1717592400-1717603200@www.iratxegarcia.es
SUMMARY:Visita del candidato del Partido de los Socialistas Europeos\, Nicolás Schmit\, a Madrid
DESCRIPTION:Visita del candidato del Partido de los Socialistas Europeos\, Nicolás Schmit\, a Madrid
URL:https://www.iratxegarcia.es/evento/visita-del-candidato-del-partido-de-los-socialistas-europeos-nicolas-schmit-a-madrid/
LOCATION:Madrid
ATTACH;FMTTYPE=image/jpeg:https://www.iratxegarcia.es/wp-content/uploads/2024/06/72281-nicolas-schmit1-img.jpg
END:VEVENT
BEGIN:VEVENT
DTSTART;TZID=Europe/Brussels:20240606T100000
DTEND;TZID=Europe/Brussels:20240606T140000
DTSTAMP:20260420T234734
CREATED:20240601T194504Z
LAST-MODIFIED:20240605T094638Z
UID:42689-1717668000-1717682400@www.iratxegarcia.es
SUMMARY:Visita a la caseta electoral del PSOE en Valladolid
DESCRIPTION:Visita a la caseta electoral del PSOE en Valladolid
URL:https://www.iratxegarcia.es/evento/visita-a-la-caseta-electoral-del-psoe-en-valladolid/
LOCATION:valladolid
ATTACH;FMTTYPE=image/jpeg:https://www.iratxegarcia.es/wp-content/uploads/2024/06/WhatsApp-Image-2024-06-05-at-11.43.06.jpeg
END:VEVENT
BEGIN:VEVENT
DTSTART;TZID=Europe/Brussels:20240606T190000
DTEND;TZID=Europe/Brussels:20240606T203000
DTSTAMP:20260420T234734
CREATED:20240601T194654Z
LAST-MODIFIED:20240601T194714Z
UID:42691-1717700400-1717705800@www.iratxegarcia.es
SUMMARY:Acto público en Palencia con Luis Tudanca
DESCRIPTION:Acto público en Palencia con Luis Tudanca
URL:https://www.iratxegarcia.es/evento/acto-publico-en-palencia-ccon-luis-tudanca/
LOCATION:Palencia
ATTACH;FMTTYPE=image/jpeg:https://www.iratxegarcia.es/wp-content/uploads/2024/05/2024-05-24-Mas-Europa.jpg
END:VEVENT
BEGIN:VEVENT
DTSTART;TZID=Europe/Brussels:20240607T203000
DTEND;TZID=Europe/Brussels:20240607T220000
DTSTAMP:20260420T234734
CREATED:20240601T193531Z
LAST-MODIFIED:20240606T094530Z
UID:42679-1717792200-1717797600@www.iratxegarcia.es
SUMMARY:Acto de Cierre de Campaña de las Elecciones Europeas 2024\, en Valladolid
DESCRIPTION:Acto de Cierre de Campaña de las Elecciones Europeas 2024\, en Valladolid
URL:https://www.iratxegarcia.es/evento/acto-de-cierre-de-campana-de-las-elecciones-europeas-2024-en-valladolid/
LOCATION:valladolid
ATTACH;FMTTYPE=image/jpeg:https://www.iratxegarcia.es/wp-content/uploads/2024/06/2024-06-07-Fin-de-campana.jpeg
END:VEVENT
BEGIN:VEVENT
DTSTART;VALUE=DATE:20240608
DTEND;VALUE=DATE:20240609
DTSTAMP:20260420T234734
CREATED:20240503T072943Z
LAST-MODIFIED:20240503T072943Z
UID:42358-1717804800-1717891199@www.iratxegarcia.es
SUMMARY:Jornada de Reflexión de las "Elecciones Europeas 2024"
DESCRIPTION:Jornada de Reflexión de las «Elecciones Europeas 2024»
URL:https://www.iratxegarcia.es/evento/jornada-de-reflexion-de-las-elecciones-europeas-2024/
LOCATION:Ciudad Real
END:VEVENT
BEGIN:VEVENT
DTSTART;TZID=Europe/Brussels:20240608T080000
DTEND;TZID=Europe/Brussels:20240608T220000
DTSTAMP:20260420T234734
CREATED:20240601T194810Z
LAST-MODIFIED:20240601T194810Z
UID:42694-1717833600-1717884000@www.iratxegarcia.es
SUMMARY:Jornada de Reflexión
DESCRIPTION:Jornada de Reflexión
URL:https://www.iratxegarcia.es/evento/jornada-de-reflexion-2/
LOCATION:Laguna de Duero
ATTACH;FMTTYPE=image/jpeg:https://www.iratxegarcia.es/wp-content/uploads/2024/05/2024-05-24-Mas-Europa.jpg
END:VEVENT
BEGIN:VEVENT
DTSTART;TZID=Europe/Brussels:20240609T090000
DTEND;TZID=Europe/Brussels:20240609T200000
DTSTAMP:20260420T234734
CREATED:20240601T194922Z
LAST-MODIFIED:20240601T194937Z
UID:42696-1717923600-1717963200@www.iratxegarcia.es
SUMMARY:Jornada Electoral 9J
DESCRIPTION:Jornada Electoral 9J
URL:https://www.iratxegarcia.es/evento/jornada-electoral-9j/
LOCATION:valladolid
ATTACH;FMTTYPE=image/jpeg:https://www.iratxegarcia.es/wp-content/uploads/2024/05/2024-05-24-Mas-Europa.jpg
END:VEVENT
END:VCALENDAR