BEGIN:VCALENDAR
VERSION:2.0
PRODID:-//Iratxe García Pérez - ECPv6.15.20//NONSGML v1.0//EN
CALSCALE:GREGORIAN
METHOD:PUBLISH
X-ORIGINAL-URL:https://www.iratxegarcia.es
X-WR-CALDESC:Eventos para Iratxe García Pérez
REFRESH-INTERVAL;VALUE=DURATION:PT1H
X-Robots-Tag:noindex
X-PUBLISHED-TTL:PT1H
BEGIN:VTIMEZONE
TZID:Europe/Brussels
BEGIN:DAYLIGHT
TZOFFSETFROM:+0100
TZOFFSETTO:+0200
TZNAME:CEST
DTSTART:20230326T010000
END:DAYLIGHT
BEGIN:STANDARD
TZOFFSETFROM:+0200
TZOFFSETTO:+0100
TZNAME:CET
DTSTART:20231029T010000
END:STANDARD
BEGIN:DAYLIGHT
TZOFFSETFROM:+0100
TZOFFSETTO:+0200
TZNAME:CEST
DTSTART:20240331T010000
END:DAYLIGHT
BEGIN:STANDARD
TZOFFSETFROM:+0200
TZOFFSETTO:+0100
TZNAME:CET
DTSTART:20241027T010000
END:STANDARD
BEGIN:DAYLIGHT
TZOFFSETFROM:+0100
TZOFFSETTO:+0200
TZNAME:CEST
DTSTART:20250330T010000
END:DAYLIGHT
BEGIN:STANDARD
TZOFFSETFROM:+0200
TZOFFSETTO:+0100
TZNAME:CET
DTSTART:20251026T010000
END:STANDARD
END:VTIMEZONE
BEGIN:VEVENT
DTSTART;TZID=Europe/Brussels:20240508T110000
DTEND;TZID=Europe/Brussels:20240508T140000
DTSTAMP:20260421T013555
CREATED:20240509T092301Z
LAST-MODIFIED:20240509T092301Z
UID:42401-1715166000-1715176800@www.iratxegarcia.es
SUMMARY:Encuentro de Iratxe García con el PSOE de Miranda de Ebro
DESCRIPTION:Encuentro de Iratxe García con el PSOE de Miranda de Ebro\, acompañada de Aitana Hernando\, alcaldesa de la ciudad\, y Esther Peña\, secretaria general del PSOE en Burgos.
URL:https://www.iratxegarcia.es/evento/encuentro-de-iratxe-garcia-con-el-psoe-de-miranda-de-ebro/
LOCATION:Miranda de Ebro
ATTACH;FMTTYPE=image/jpeg:https://www.iratxegarcia.es/wp-content/uploads/2024/05/2024-05-08-Iratxe-en-Miranda-01.jpg
END:VEVENT
BEGIN:VEVENT
DTSTART;TZID=Europe/Brussels:20240510T103000
DTEND;TZID=Europe/Brussels:20240510T150000
DTSTAMP:20260421T013555
CREATED:20240503T074442Z
LAST-MODIFIED:20240503T074534Z
UID:42376-1715337000-1715353200@www.iratxegarcia.es
SUMMARY:Encuentro de Iratxe García con el PSOE de Zamora
DESCRIPTION:Encuentro de Iratxe García con el PSOE de Zamora: \n10:45H Atención a medios\n11:40H Reunión con UGT Zamora\n13:30H Visita a la localidad de El Perdigón
URL:https://www.iratxegarcia.es/evento/encuentro-de-iratxe-garcia-con-el-psoe-de-zamora/
LOCATION:Zamora
ATTACH;FMTTYPE=image/jpeg:https://www.iratxegarcia.es/wp-content/uploads/2023/07/2023-0719-Iratxe-en-Zamora.jpg
END:VEVENT
BEGIN:VEVENT
DTSTART;TZID=Europe/Brussels:20240513T170000
DTEND;TZID=Europe/Brussels:20240513T190000
DTSTAMP:20260421T013555
CREATED:20240513T082611Z
LAST-MODIFIED:20240513T082611Z
UID:42434-1715619600-1715626800@www.iratxegarcia.es
SUMMARY:Reunión del Comité de Campaña del PSOE para las Elecciones Europeas del 9 de junio
DESCRIPTION:Reunión del Comité de Campaña del PSOE para las Elecciones Europeas del 9 de junio
URL:https://www.iratxegarcia.es/evento/reunion-del-comite-de-campana-del-psoe-para-las-elecciones-europeas-del-9-de-junio/
LOCATION:Sede PSOE\, Calle Ferraz 70\, Madrid\, España\, España
END:VEVENT
BEGIN:VEVENT
DTSTART;TZID=Europe/Brussels:20240515T110000
DTEND;TZID=Europe/Brussels:20240515T120000
DTSTAMP:20260421T013555
CREATED:20240516T074839Z
LAST-MODIFIED:20240516T074839Z
UID:42455-1715770800-1715774400@www.iratxegarcia.es
SUMMARY:Presentación pública de los integrantes de la Candidatura del PSOE a las Elecciones Europeas del próximo 9 de junio de 2024
DESCRIPTION:Acto de Presentación pública de los integrantes de la Candidatura del PSOE a las Elecciones Europeas del próximo 9 de junio de 2024\, en Sevilla
URL:https://www.iratxegarcia.es/evento/presentacion-publica-de-los-integrantes-de-la-candidatura-del-psoe-a-las-elecciones-europeas-del-proximo-9-de-junio-de-2024/
LOCATION:Sevilla
END:VEVENT
BEGIN:VEVENT
DTSTART;TZID=Europe/Brussels:20240516T100000
DTEND;TZID=Europe/Brussels:20240516T120000
DTSTAMP:20260421T013555
CREATED:20240513T082916Z
LAST-MODIFIED:20240513T082916Z
UID:42439-1715853600-1715860800@www.iratxegarcia.es
SUMMARY:Debate en SERVIMEDIA
DESCRIPTION:Debate en SERVIMEDIA
URL:https://www.iratxegarcia.es/evento/debate-en-servimedia/
LOCATION:Servimedia
END:VEVENT
BEGIN:VEVENT
DTSTART;TZID=Europe/Brussels:20240518T113000
DTEND;TZID=Europe/Brussels:20240518T140000
DTSTAMP:20260421T013555
CREATED:20240517T115606Z
LAST-MODIFIED:20240517T115606Z
UID:42472-1716031800-1716040800@www.iratxegarcia.es
SUMMARY:Acto Público de Pedro Sánchez\, Teresa Ribera y Salvador Illa\, en Barcelona
DESCRIPTION:Acto Público de Pedro Sánchez\, Teresa Ribera y Salvador Illa\, en Barcelona
URL:https://www.iratxegarcia.es/evento/acto-publico-de-pedro-sanchez-teresa-ribera-y-salvador-illa-en-barcelona/
LOCATION:Barcelona
END:VEVENT
BEGIN:VEVENT
DTSTART;TZID=Europe/Brussels:20240520T173000
DTEND;TZID=Europe/Brussels:20240520T193000
DTSTAMP:20260421T013555
CREATED:20240521T073953Z
LAST-MODIFIED:20240521T073953Z
UID:42489-1716226200-1716233400@www.iratxegarcia.es
SUMMARY:Encuentro "Más Europa\, más Feminismo" en Pola de Laviana (Asturias)
DESCRIPTION:Encuentro «Más Europa\, más Feminismo» en Pola de Laviana (Asturias)
URL:https://www.iratxegarcia.es/evento/encuentro-mas-europa-mas-feminismo-en-pola-de-laviana-asturias/
LOCATION:Pola de Laviana\, Pola de Laviana\, Asturias\, España
ATTACH;FMTTYPE=image/jpeg:https://www.iratxegarcia.es/wp-content/uploads/2024/05/2024-05-20-Iratxe-en-Asturias-00.jpeg
END:VEVENT
BEGIN:VEVENT
DTSTART;TZID=Europe/Brussels:20240522T173000
DTEND;TZID=Europe/Brussels:20240522T190000
DTSTAMP:20260421T013555
CREATED:20240527T140516Z
LAST-MODIFIED:20240527T143747Z
UID:42547-1716399000-1716404400@www.iratxegarcia.es
SUMMARY:Grabación Podcast "(Des)Montando Europa"
DESCRIPTION:Grabación Podcast «(Des)Montando Europa»
URL:https://www.iratxegarcia.es/evento/grabacion-podcast-desmontando-europa/
LOCATION:Madrid
ATTACH;FMTTYPE=image/jpeg:https://www.iratxegarcia.es/wp-content/uploads/2024/05/2024-05-24-Mas-Europa.jpg
END:VEVENT
BEGIN:VEVENT
DTSTART;TZID=Europe/Brussels:20240523T220000
DTEND;TZID=Europe/Brussels:20240523T233000
DTSTAMP:20260421T013555
CREATED:20240517T115842Z
LAST-MODIFIED:20240527T142504Z
UID:42474-1716501600-1716507000@www.iratxegarcia.es
SUMMARY:Acto de Inicio de la Campaña Electoral de las Europeas 2024 con Luis Tudanca y Ana Redondo\, en Valladolid
DESCRIPTION:Acto de Inicio de la Campaña Electoral de las Europeas 2024 con Luis Tudanca y Ana Redondo\, en Valladolid
URL:https://www.iratxegarcia.es/evento/acto-de-inicio-de-la-campana-electoral-de-las-europeas-2024-en-valladolid/
LOCATION:valladolid
ATTACH;FMTTYPE=image/jpeg:https://www.iratxegarcia.es/wp-content/uploads/2024/05/2024-05-24-Mas-Europa.jpg
END:VEVENT
BEGIN:VEVENT
DTSTART;VALUE=DATE:20240524
DTEND;VALUE=DATE:20240608
DTSTAMP:20260421T013555
CREATED:20240503T072852Z
LAST-MODIFIED:20240527T142529Z
UID:42355-1716508800-1717804799@www.iratxegarcia.es
SUMMARY:Campaña Electoral de las "Elecciones Europeas 2024"
DESCRIPTION:Campaña Electoral de las «Elecciones Europeas 2024»
URL:https://www.iratxegarcia.es/evento/campana-electoral-de-las-elecciones-europeas-2024/
LOCATION:España
END:VEVENT
BEGIN:VEVENT
DTSTART;TZID=Europe/Brussels:20240524T113000
DTEND;TZID=Europe/Brussels:20240524T133000
DTSTAMP:20260421T013555
CREATED:20240527T143023Z
LAST-MODIFIED:20240527T143110Z
UID:42578-1716550200-1716557400@www.iratxegarcia.es
SUMMARY:Presentación Candidatos del PSOE Castilla y León al 9J\, con Luis Tudanca y Ana Sánchez\, en Valladolid
DESCRIPTION:Presentación Candidatos del PSOE Castilla y León al 9J\, con Luis Tudanca y Ana Sánchez\, en Valladolid
URL:https://www.iratxegarcia.es/evento/presentacion-candidatos-del-psoe-castilla-y-leon-al-9j-con-luis-tudanca-y-ana-sanchez-en-valladolid/
LOCATION:valladolid
ATTACH;FMTTYPE=image/jpeg:https://www.iratxegarcia.es/wp-content/uploads/2024/05/2024-05-24-Mas-Europa.jpg
END:VEVENT
BEGIN:VEVENT
DTSTART;TZID=Europe/Brussels:20240525T103000
DTEND;TZID=Europe/Brussels:20240525T113000
DTSTAMP:20260421T013555
CREATED:20240527T141058Z
LAST-MODIFIED:20240527T143731Z
UID:42554-1716633000-1716636600@www.iratxegarcia.es
SUMMARY:Rueda de Prensa en Soria
DESCRIPTION:Rueda de Prensa en Soria
URL:https://www.iratxegarcia.es/evento/rueda-de-prensa-en-soria/
LOCATION:Soria\, España
ATTACH;FMTTYPE=image/jpeg:https://www.iratxegarcia.es/wp-content/uploads/2024/05/2024-05-24-Mas-Europa.jpg
END:VEVENT
BEGIN:VEVENT
DTSTART;TZID=Europe/Brussels:20240525T113000
DTEND;TZID=Europe/Brussels:20240525T140000
DTSTAMP:20260421T013555
CREATED:20240527T140938Z
LAST-MODIFIED:20240527T143653Z
UID:42550-1716636600-1716645600@www.iratxegarcia.es
SUMMARY:"Fiesta De la Rosa" con Elma Saiz y Luis Tudanca en Narros (Soria)
DESCRIPTION:«Fiesta De la Rosa» con Elma Saiz y Luis Tudanca en Narros (Soria)
URL:https://www.iratxegarcia.es/evento/fiesta-de-la-rosa-con-elma-saiz-y-luis-tudanca-en-narros-soria/
LOCATION:Narros\, Narros\, Soria\, España
ATTACH;FMTTYPE=image/jpeg:https://www.iratxegarcia.es/wp-content/uploads/2024/05/2024-05-24-Mas-Europa.jpg
END:VEVENT
BEGIN:VEVENT
DTSTART;TZID=Europe/Brussels:20240526T080000
DTEND;TZID=Europe/Brussels:20240526T170000
DTSTAMP:20260421T013555
CREATED:20240517T120454Z
LAST-MODIFIED:20240527T143616Z
UID:42483-1716710400-1716742800@www.iratxegarcia.es
SUMMARY:Fiesta de la Rosa junto a Virginia Barcones\, en Alba de Tormes (Salamanca)
DESCRIPTION:Fiesta de la Rosa junto a Virginia Barcones\,en Alba de Tormes (Salamanca)
URL:https://www.iratxegarcia.es/evento/fiesta-de-la-rosa-en-alba-de-tormes-salamanca/
LOCATION:Alba de Tormes\, Salamanca\, España
ATTACH;FMTTYPE=image/jpeg:https://www.iratxegarcia.es/wp-content/uploads/2024/05/2024-05-24-Mas-Europa.jpg
END:VEVENT
BEGIN:VEVENT
DTSTART;TZID=Europe/Brussels:20240527T100000
DTEND;TZID=Europe/Brussels:20240527T110000
DTSTAMP:20260421T013555
CREATED:20240527T141234Z
LAST-MODIFIED:20240527T143813Z
UID:42557-1716804000-1716807600@www.iratxegarcia.es
SUMMARY:Entrevista Cadena SERCyL
DESCRIPTION:Entrevista Cadena SERCyL
URL:https://www.iratxegarcia.es/evento/entrevista-cadena-sercyl/
LOCATION:valladolid
ATTACH;FMTTYPE=image/jpeg:https://www.iratxegarcia.es/wp-content/uploads/2024/05/2024-05-24-Mas-Europa.jpg
END:VEVENT
BEGIN:VEVENT
DTSTART;TZID=Europe/Brussels:20240527T110000
DTEND;TZID=Europe/Brussels:20240527T120000
DTSTAMP:20260421T013555
CREATED:20240527T141327Z
LAST-MODIFIED:20240527T144234Z
UID:42559-1716807600-1716811200@www.iratxegarcia.es
SUMMARY:Entrevista Tribuna de Valladolid
DESCRIPTION:Entrevista Tribuna de Valladolid
URL:https://www.iratxegarcia.es/evento/entrevista-tribuna-de-valladolid/
LOCATION:valladolid
ATTACH;FMTTYPE=image/jpeg:https://www.iratxegarcia.es/wp-content/uploads/2024/05/2024-05-24-Mas-Europa.jpg
END:VEVENT
BEGIN:VEVENT
DTSTART;TZID=Europe/Brussels:20240527T120000
DTEND;TZID=Europe/Brussels:20240527T130000
DTSTAMP:20260421T013555
CREATED:20240527T141408Z
LAST-MODIFIED:20240527T144043Z
UID:42561-1716811200-1716814800@www.iratxegarcia.es
SUMMARY:Entrevista El Día de Valladolid
DESCRIPTION:Entrevista El Día de Valladolid
URL:https://www.iratxegarcia.es/evento/entrevista-el-dia-de-valladolid/
LOCATION:valladolid
ATTACH;FMTTYPE=image/jpeg:https://www.iratxegarcia.es/wp-content/uploads/2024/05/2024-05-24-Mas-Europa.jpg
END:VEVENT
BEGIN:VEVENT
DTSTART;TZID=Europe/Brussels:20240528T100000
DTEND;TZID=Europe/Brussels:20240528T113000
DTSTAMP:20260421T013555
CREATED:20240527T141603Z
LAST-MODIFIED:20240527T141603Z
UID:42563-1716890400-1716895800@www.iratxegarcia.es
SUMMARY:Visita La Ciba
DESCRIPTION:Visita La Ciba
URL:https://www.iratxegarcia.es/evento/visita-la-ciba/
LOCATION:La Ciba\, Passeig de Llorenç Serra\, 64\, Santa Coloma de Gramenet\, Barcelona\, España
END:VEVENT
BEGIN:VEVENT
DTSTART;TZID=Europe/Brussels:20240528T113000
DTEND;TZID=Europe/Brussels:20240528T130000
DTSTAMP:20260421T013555
CREATED:20240527T141748Z
LAST-MODIFIED:20240527T143139Z
UID:42566-1716895800-1716901200@www.iratxegarcia.es
SUMMARY:Acto público "Una Europa Más Feminista" con Laura Ballarín\, Núria Parlon y Salvador Illa
DESCRIPTION:Acto público «Una Europa Más Feminista» con Laura Ballarín\, Núria Parlon y Salvador Illa
URL:https://www.iratxegarcia.es/evento/acto-publico-una-europa-mas-feminista-con-laura-ballarin-nuria-parlon-y-salvador-illa/
LOCATION:Santa Coloma de Gramenet\, Santa Coloma de Gramenet\, Barcelona\, España
ATTACH;FMTTYPE=image/jpeg:https://www.iratxegarcia.es/wp-content/uploads/2024/05/2024-05-24-Mas-Europa.jpg
END:VEVENT
BEGIN:VEVENT
DTSTART;TZID=Europe/Brussels:20240529T193000
DTEND;TZID=Europe/Brussels:20240529T210000
DTSTAMP:20260421T013555
CREATED:20240527T142052Z
LAST-MODIFIED:20240530T103114Z
UID:42571-1717011000-1717016400@www.iratxegarcia.es
SUMMARY:Acto Público en Burgos con Luis Tudanca y Pilar Alegría
DESCRIPTION:Acto Público en Burgos con Luis Tudanca y Pilar Alegría
URL:https://www.iratxegarcia.es/evento/acto-publico-en-burgos-con-luis-tudanca-y-pilar-alegria/
LOCATION:Burgos
ATTACH;FMTTYPE=image/jpeg:https://www.iratxegarcia.es/wp-content/uploads/2024/05/2024-05-29-Mitin-PSOE-Burgos.jpg
END:VEVENT
BEGIN:VEVENT
DTSTART;TZID=Europe/Brussels:20240530T173000
DTEND;TZID=Europe/Brussels:20240530T180000
DTSTAMP:20260421T013555
CREATED:20240601T193226Z
LAST-MODIFIED:20240601T193252Z
UID:42677-1717090200-1717092000@www.iratxegarcia.es
SUMMARY:Entrevista Televisión CyL
DESCRIPTION:Entrevista Televisión CyL
URL:https://www.iratxegarcia.es/evento/entrevista-television-cyl/
LOCATION:Zamora
ATTACH;FMTTYPE=image/jpeg:https://www.iratxegarcia.es/wp-content/uploads/2024/05/2024-05-24-Mas-Europa.jpg
END:VEVENT
BEGIN:VEVENT
DTSTART;TZID=Europe/Brussels:20240530T183000
DTEND;TZID=Europe/Brussels:20240530T200000
DTSTAMP:20260421T013555
CREATED:20240527T141931Z
LAST-MODIFIED:20240527T143231Z
UID:42569-1717093800-1717099200@www.iratxegarcia.es
SUMMARY:Acto público en Zamora con Luis Tudanca
DESCRIPTION:Acto público en Zamora con Luis Tudanca
URL:https://www.iratxegarcia.es/evento/acto-publico-en-zamora-con-luis-tudanca/
LOCATION:Zamora
ATTACH;FMTTYPE=image/jpeg:https://www.iratxegarcia.es/wp-content/uploads/2024/05/2024-05-24-Mas-Europa.jpg
END:VEVENT
BEGIN:VEVENT
DTSTART;TZID=Europe/Brussels:20240531T090000
DTEND;TZID=Europe/Brussels:20240531T100000
DTSTAMP:20260421T013555
CREATED:20240601T193044Z
LAST-MODIFIED:20240601T193057Z
UID:42675-1717146000-1717149600@www.iratxegarcia.es
SUMMARY:Entrevista con Canal Sur Radio
DESCRIPTION:Entrevista con Canal Sur Radio
URL:https://www.iratxegarcia.es/evento/entrevista-con-canal-sur-radio/
LOCATION:Videoconferencia
ATTACH;FMTTYPE=image/jpeg:https://www.iratxegarcia.es/wp-content/uploads/2024/05/2024-05-24-Mas-Europa.jpg
END:VEVENT
BEGIN:VEVENT
DTSTART;TZID=Europe/Brussels:20240531T173000
DTEND;TZID=Europe/Brussels:20240531T183000
DTSTAMP:20260421T013555
CREATED:20240601T192914Z
LAST-MODIFIED:20240601T192914Z
UID:42673-1717176600-1717180200@www.iratxegarcia.es
SUMMARY:Entrevista El Diario de León
DESCRIPTION:Entrevista El Diario de León
URL:https://www.iratxegarcia.es/evento/entrevista-el-diario-de-leon/
LOCATION:León
ATTACH;FMTTYPE=image/jpeg:https://www.iratxegarcia.es/wp-content/uploads/2024/05/2024-05-24-Mas-Europa.jpg
END:VEVENT
BEGIN:VEVENT
DTSTART;TZID=Europe/Brussels:20240531T190000
DTEND;TZID=Europe/Brussels:20240531T193000
DTSTAMP:20260421T013555
CREATED:20240527T142347Z
LAST-MODIFIED:20240530T102856Z
UID:42575-1717182000-1717183800@www.iratxegarcia.es
SUMMARY:Acto Público en León con José Luis Rodríguez Zapatero
DESCRIPTION:Acto Público en León con José Luis Rodríguez Zapatero
URL:https://www.iratxegarcia.es/evento/acto-publico-en-leon-con-jose-luis-rodriguez-zapatero/
LOCATION:León
ATTACH;FMTTYPE=image/jpeg:https://www.iratxegarcia.es/wp-content/uploads/2024/05/2024-05-31-Mitin-PSOE-Leon.jpg
END:VEVENT
END:VCALENDAR