BEGIN:VCALENDAR
VERSION:2.0
PRODID:-//Iratxe García Pérez - ECPv6.15.20//NONSGML v1.0//EN
CALSCALE:GREGORIAN
METHOD:PUBLISH
X-ORIGINAL-URL:https://www.iratxegarcia.es
X-WR-CALDESC:Eventos para Iratxe García Pérez
REFRESH-INTERVAL;VALUE=DURATION:PT1H
X-Robots-Tag:noindex
X-PUBLISHED-TTL:PT1H
BEGIN:VTIMEZONE
TZID:Europe/Brussels
BEGIN:DAYLIGHT
TZOFFSETFROM:+0100
TZOFFSETTO:+0200
TZNAME:CEST
DTSTART:20250330T010000
END:DAYLIGHT
BEGIN:STANDARD
TZOFFSETFROM:+0200
TZOFFSETTO:+0100
TZNAME:CET
DTSTART:20251026T010000
END:STANDARD
BEGIN:DAYLIGHT
TZOFFSETFROM:+0100
TZOFFSETTO:+0200
TZNAME:CEST
DTSTART:20260329T010000
END:DAYLIGHT
BEGIN:STANDARD
TZOFFSETFROM:+0200
TZOFFSETTO:+0100
TZNAME:CET
DTSTART:20261025T010000
END:STANDARD
BEGIN:DAYLIGHT
TZOFFSETFROM:+0100
TZOFFSETTO:+0200
TZNAME:CEST
DTSTART:20270328T010000
END:DAYLIGHT
BEGIN:STANDARD
TZOFFSETFROM:+0200
TZOFFSETTO:+0100
TZNAME:CET
DTSTART:20271031T010000
END:STANDARD
END:VTIMEZONE
BEGIN:VEVENT
DTSTART;TZID=Europe/Brussels:20260306T110000
DTEND;TZID=Europe/Brussels:20260306T170000
DTSTAMP:20260421T141514
CREATED:20260302T114033Z
LAST-MODIFIED:20260302T114033Z
UID:46351-1772794800-1772816400@www.iratxegarcia.es
SUMMARY:Jornada electoral junto a alcaldes y representantes del PSOE Soria
DESCRIPTION:Jornada electoral junto a alcaldes y representantes del PSOE Soria
URL:https://www.iratxegarcia.es/evento/jornada-electoral-junto-a-alcaldes-y-representantes-del-psoe-soria/
LOCATION:Soria\, España
ATTACH;FMTTYPE=image/jpeg:https://www.iratxegarcia.es/wp-content/uploads/2026/02/Carlos-Martinez-2026-15M.jpg
END:VEVENT
BEGIN:VEVENT
DTSTART;TZID=Europe/Brussels:20260307T160000
DTEND;TZID=Europe/Brussels:20260307T190000
DTSTAMP:20260421T141514
CREATED:20260302T114540Z
LAST-MODIFIED:20260303T140249Z
UID:46355-1772899200-1772910000@www.iratxegarcia.es
SUMMARY:Jornada electoral junto a alcaldes y representantes del PSOE Zamora
DESCRIPTION:Jornada electoral junto a alcaldes y representantes del PSOE Zamora
URL:https://www.iratxegarcia.es/evento/jornada-electoral-junto-a-alcaldes-y-representantes-del-psoe-zamora/
LOCATION:Zamora
ATTACH;FMTTYPE=image/jpeg:https://www.iratxegarcia.es/wp-content/uploads/2026/02/Carlos-Martinez-2026-15M.jpg
END:VEVENT
BEGIN:VEVENT
DTSTART;TZID=Europe/Brussels:20260308T110000
DTEND;TZID=Europe/Brussels:20260308T140000
DTSTAMP:20260421T141514
CREATED:20260302T114226Z
LAST-MODIFIED:20260307T100349Z
UID:46353-1772967600-1772978400@www.iratxegarcia.es
SUMMARY:Jornada electoral junto a alcaldes y representantes del PSOE Segovia
DESCRIPTION:Jornada electoral junto a alcaldes y representantes del PSOE Segovia
URL:https://www.iratxegarcia.es/evento/jornada-electoral-junto-a-alcaldes-y-representantes-del-psoe-segovia/
LOCATION:Segovia
ATTACH;FMTTYPE=image/jpeg:https://www.iratxegarcia.es/wp-content/uploads/2026/02/Carlos-Martinez-2026-15M.jpg
END:VEVENT
BEGIN:VEVENT
DTSTART;TZID=Europe/Brussels:20260313T110000
DTEND;TZID=Europe/Brussels:20260313T130000
DTSTAMP:20260421T141514
CREATED:20260312T093224Z
LAST-MODIFIED:20260312T093331Z
UID:46460-1773399600-1773406800@www.iratxegarcia.es
SUMMARY:Jornada electoral junto a alcaldes y representantes del PSOE Burgos
DESCRIPTION:Jornada electoral junto a alcaldes y representantes del PSOE Burgos
URL:https://www.iratxegarcia.es/evento/jornada-electoral-junto-a-alcaldes-y-representantes-del-psoe-burgos/
LOCATION:Burgos
ATTACH;FMTTYPE=image/jpeg:https://www.iratxegarcia.es/wp-content/uploads/2026/02/Carlos-Martinez-2026-15M.jpg
END:VEVENT
BEGIN:VEVENT
DTSTART;TZID=Europe/Brussels:20260313T180000
DTEND;TZID=Europe/Brussels:20260313T200000
DTSTAMP:20260421T141514
CREATED:20260312T094235Z
LAST-MODIFIED:20260312T094235Z
UID:46462-1773424800-1773432000@www.iratxegarcia.es
SUMMARY:Acto público de cierre de campaña 15M en Valladolid\, con Pedro Sánchez
DESCRIPTION:Acto público de cierre de campaña 15M en Valladolid\, con Pedro Sánchez
URL:https://www.iratxegarcia.es/evento/acto-publico-de-cierre-de-campana-15m-en-valladolid-con-pedro-sanchez/
LOCATION:Cúpula del Milenio\, Valladolid
ATTACH;FMTTYPE=image/jpeg:https://www.iratxegarcia.es/wp-content/uploads/2026/03/2026-03-13-Acto-cierre-campana-en-Valladolid.jpg
END:VEVENT
BEGIN:VEVENT
DTSTART;VALUE=DATE:20260315
DTEND;VALUE=DATE:20260316
DTSTAMP:20260421T141514
CREATED:20260302T115028Z
LAST-MODIFIED:20260302T115028Z
UID:46357-1773532800-1773619199@www.iratxegarcia.es
SUMMARY:Elecciones Autonómicas en Castilla y León - 15M 2026
DESCRIPTION:Elecciones Autonómicas en Castilla y León – 15M 2026
URL:https://www.iratxegarcia.es/evento/elecciones-autonomicas-en-castilla-y-leon-15m-2026/
LOCATION:Castilla y León
ATTACH;FMTTYPE=image/jpeg:https://www.iratxegarcia.es/wp-content/uploads/2026/02/Carlos-Martinez-2026-15M.jpg
END:VEVENT
END:VCALENDAR