BEGIN:VCALENDAR
VERSION:2.0
PRODID:-//Iratxe García Pérez - ECPv6.15.20//NONSGML v1.0//EN
CALSCALE:GREGORIAN
METHOD:PUBLISH
X-WR-CALNAME:Iratxe García Pérez
X-ORIGINAL-URL:https://www.iratxegarcia.es
X-WR-CALDESC:Eventos para Iratxe García Pérez
REFRESH-INTERVAL;VALUE=DURATION:PT1H
X-Robots-Tag:noindex
X-PUBLISHED-TTL:PT1H
BEGIN:VTIMEZONE
TZID:Europe/Brussels
BEGIN:DAYLIGHT
TZOFFSETFROM:+0100
TZOFFSETTO:+0200
TZNAME:CEST
DTSTART:20250330T010000
END:DAYLIGHT
BEGIN:STANDARD
TZOFFSETFROM:+0200
TZOFFSETTO:+0100
TZNAME:CET
DTSTART:20251026T010000
END:STANDARD
BEGIN:DAYLIGHT
TZOFFSETFROM:+0100
TZOFFSETTO:+0200
TZNAME:CEST
DTSTART:20260329T010000
END:DAYLIGHT
BEGIN:STANDARD
TZOFFSETFROM:+0200
TZOFFSETTO:+0100
TZNAME:CET
DTSTART:20261025T010000
END:STANDARD
BEGIN:DAYLIGHT
TZOFFSETFROM:+0100
TZOFFSETTO:+0200
TZNAME:CEST
DTSTART:20270328T010000
END:DAYLIGHT
BEGIN:STANDARD
TZOFFSETFROM:+0200
TZOFFSETTO:+0100
TZNAME:CET
DTSTART:20271031T010000
END:STANDARD
END:VTIMEZONE
BEGIN:VEVENT
DTSTART;TZID=Europe/Brussels:20260122T110000
DTEND;TZID=Europe/Brussels:20260122T113000
DTSTAMP:20260424T135608
CREATED:20260119T093510Z
LAST-MODIFIED:20260119T093510Z
UID:46052-1769079600-1769081400@www.iratxegarcia.es
SUMMARY:Reunión de trabajo con el Embajador de Brasil ante la Unión Europea\, Pedro Miguel da Costa e Silva
DESCRIPTION:Reunión de trabajo con el Embajador de Brasil ante la Unión Europea\, Pedro Miguel da Costa e Silva
URL:https://www.iratxegarcia.es/evento/reunion-de-trabajo-con-el-embajador-de-brasil-ante-la-union-europea-pedro-miguel-da-costa-e-silva/
LOCATION:Sede Parlamento Europeo en Estrasburgo\, Estrasburgo
ATTACH;FMTTYPE=image/png:https://www.iratxegarcia.es/wp-content/uploads/2026/01/Pedro-Miguel-da-Costa-e-Silva.png
END:VEVENT
END:VCALENDAR